{"text_format":"1","workbook":"xlsx","n_sheets":7,"sheets":["START","USER INSTRUCTIONS","DATA ENTRY DASHBOARD","CALCULATOR NEW SOURCES  ","CALCULATOR EXISTING SOURCES","NwSoTransfer","ExSoTransfer"],"not_rendered":{"charts":0,"images":6,"macros":1,"external_links":0,"defined_names":2,"comments":1,"pivot_tables":0},"unopened":[],"bounds":{"document_bytes":16777216,"sheet_cells":100000,"rows_first":2000,"rows_last":500,"rows_between":2000,"halvings":0,"cell_chars":16384,"cell_head_chars":4096},"cells_cut":0,"cells_raw":0,"read":"whole","date_system":"1900"}

{"sheet":"START","index":0,"n_rows":16,"n_cols":4,"rows_kept":16,"cut":false,"hidden":false,"merged":[]}
[]
[]
[]
[]
[]
[]
[]
[]
[]
[]
[]
[null,null,"Depending on your version of Excel, you will need to:"]
[null,null,null,"Click \"Enable Content\" above"]
[null,null,"or"]
[null,null,null,"1. Click the Options button above"]
[null,null,null,"2. Select  \"Enable this content\""]

{"sheet":"USER INSTRUCTIONS","index":1,"n_rows":134,"n_cols":54,"rows_kept":134,"cut":false,"hidden":true,"merged":[[6,2,6,9],[69,3,69,19],[6,10,6,11],[133,0,133,14]]}
[null,null,null,null,null,null,null,null,null,null,null,null,null,null,null,null,null,null,null,null,null,null,null,null,null,null,null,null,null,null,null,null,null,null,null,null,null,null,null,null,null,null,null,null,null,null,null,null,null,null,null,null,null,"seafood"]
[null,"State of Oregon Department of Environmental Quality"]
[null,"900-J Seafood Processing General Permit: Compliance Calculator"]
[null,null,null,null,null,null,null,null,null,null,null,"Last updated by Erich Brandstetter"]
[null,null,null,null,null,null,null,null,null,null,null,"2021-10-06"]
[]
[null,null,"USER INSTRUCTIONS"]
[null,"GENERAL GUIDELINES"]
[null,null,"USE WHITE SPACES ONLY"]
[null,null,"DO NOT TYPE OR ENTER ANYTHING IN ANY COLORED CELL OR SPACE"]
[null,null,"DO NOT ADD ROWS OR COLUMNS"]
[null,null,"DO NOT  CUT/PASTE FROM ONE CELL TO ANOTHER OR FROM ONE ROW TO ANOTHER"]
[null,null,"DO NOT TRY TO CHANGE THE FORMULAS OR \"FIX\" ANYTHING"]
[null,null,"TO CORRECT an entry, delete your entry and re-enter the correct number"]
[]
[null,"STEP 1.  FACILITY INFORMATION (at the top of DATA ENTRY DASHBOARD)"]
[null,"a.","Go to the worksheet called DATA ENTRY DASHBOARD"]
[null,"b.","In the Source Name cell, enter your facility legal name (also include common name and address if there are several with similar names) "]
[null,"c.","Enter the monitoring month, year and your county location"]
[null,"d.","The EPA ID number  (OR523508) and the OR Permit number (900-J) are already entered."]
[null,"e.","Enter the 'DEQ File number', the status as \"NEW SOURCE\" or \"EXISTING SOURCE\" and the 'Monitoring TIER' for your processing.  These are found on the cover sheet of your permit upon assignment"]
[null,"f.","To enter Monitoring Tier, click on the WHITE cell  Monitoring Tier.  A small arrow will appear.  Click on the Arrow to get the drop down box with the available types."]
[null,"g.","To enter status as \"New Source\" or \"Existing Source,\" click on the WHITE cell  for New or Existing source.  A small arrow will appear.  Click on the Arrow to get the drop down box with the available types."]
[null,"h.","Once you click on NEW SOURCE or EXISTING SOURCE (according to your assignment letter) only the worksheet for your type of source will be active."]
[null,"i.","If you select the wrong source type your DMR will be rejected.  If your corrected submittal is submitted after the 15th, the corrected submittal will be late."]
[null,"j.","If you selected the wrong SOURCE or TIER go back to the Dashboard, re-select the cell, click on the little arrow, select the correct choice and proceed."]
[null,"k.","The EPA ICIS source code is left blank at present.  When electronic reporting starts you may be or will be directed to add this information."]
[]
[null,"STEP 2.  DATA ENTRY "]
[null,"a.","USE the worksheet labeled DATA ENTRY DASHBOARD"]
[null,"b.","USE WHITE SPACES ONLY"]
[null,null,1,"Data entry is by sample day"]
[null,null,2,"Use one row for each sample day"]
[null,null,3,"Do not use a sample day entry line unless processing and monitoring occurred."]
[null,null,4,"(Separately, use the separate attachment you have always used to report the full month daily and total flow and pounds & types of processing including sample and non-sample days. Include with DMR.)"]
[null,null,5,"FOR Sample Days use the DATA ENTRY DASHBOARD to enter date, flow, lab results and processing pounds by species/process-types."]
[null,null,6,"IMPORTANT: USE ONLY NUMBERS; TO FIX AN ERROR DELETE AND RE-ENTER A NUMBER.  Do not try to cut and paste from one row to another!"]
[null,null,7,"Only enter pounds processed--do not enter \"0\"  pounds when not processing that type."]
[null,null,8,"Leave all data entry cells blank when no processing or sampling occurs; do not add zeros."]
[null,null,9,"Do not enter 0 for lab results. For non-detect sample results enter the number which your lab provides as the detection limit (consult your laboratory for clarity).  "]
[null,null,10,"If a violation is calculated from a non-detect--DEQ will provide further instructions for reporting."]
[null,null,11,"You must enter date, flow and concentrations if you enter pounds or you will not get a final answer."]
[null,null,12,"*****However, you may enter any of the data in any order as the month progresses, such as sample date, flow, and pounds, while awaiting the lab results."]
[null,"c.","Certification:   Remember this spreadsheet and its calculations are part of your DMR, you must certify that the data you enter is true, accurate, and complete using the certification that is required by federal rule."]
[null,null,1,"\"I certify under penalty of law……\"   (The certification statement from 40 CFR 122.22(d) (federal rule) is shown on the dashboard with a place to initial.) "]
[null,null,2,"For paper DMR submittals you must sign the certification statement on the paper forms. "]
[null,null,3,"When electronic DMR submittal starts, further instructions will be given for validating and certifying your DMR."]
[]
[null,"STEPS 3-8.  CALCULATOR NEW SOURCES or CALCULATOR EXISTING SOURCES"]
[null,null,"a.","ALL the calculations and compliance determinations are performed automatically on the CALCULATOR worksheets."]
[null,null,"b.","At Step 1 above, you clicked-on New Source or Existing Source. "]
[null,null,"c.","If you clicked-on NewSource, only the CALCULATOR NEW SOURCES will be active.  Click that tab (at bottom leftof the sheets) to view calculations."]
[null,null,"d.","If you clicked-on Existing Source, only the CALCULATOR EXISTING SOURCES will be active.  Click that tab (at bottom left of the sheets) to view calculations."]
[null,null,"e.","There is no data entry on these sheets."]
[null,null,"f.","Calculations are performed for you and shown on the sheet called CALCULATOR"]
[null,null,"g.","DO NOT attempt to add any data or change any formulas on the calculator worksheet."]
[null,null,"h.","DO NOT add lines or spaces"]
[null,null,"ON THE CALCULATOR SHEET YOU WILL SEE:"]
[null,null,"STEPS 1 and 2 are repeated from the Data Entry Dashboard onto the CALCULATOR for information only. "]
[null,null,"STEP 3 calculates the Daily load and Monthly Average load of pollutants in the combined-species discharge.  It is arranged by sample date and parameter."]
[null,null,"STEP 4 presents the Daily Maximum limits called TBELs or Technology Based Effluent Limits for the 3 parameters and all the species/ process types."]
[null,null,"STEP 5 performs all the daily calculations through compliance determination, for up to 10 sample days, for all the species /process types."]
[null,null,"STEP 6 presents the Monthly Average Limits which are also called TBELs."]
[null,null,"STEP 7 performs the Monthly Average calculation as the average of all the sample days by species /process type, through compliance determination."]
[null,null,"STEP 8 takes the Step 5 results which are arranged by sample day and summarizes the daily results with the Step 7 Monthly results by parameter and species/ process type. "]
[null,null,"a.","If you processed a species/ process type on a sample day, you should see the daily maximum values and the daily compliance determinations (exception explained below)."]
[null,null,"b.","If you processed a species/ process type during the month, you should see the monthly average values and the monthly compliance determination (exception explained below)."]
[null,null,"c.","If you don't get a compliance answer for a species you processed on a sample day--check your input data on the DATA ENTRY DASHBOARD--there may be an error or mIssing data."]
[null,null,"d.","If you see #VALUE! at Step 8, return to the DASHBOARD and see what data is missing."]
[null,null,"e.","Also look at Step 4 and Step 6 which summarize the TBELs.  If there is no limit shown, for example New Sources doing hand shucked oysters have no BOD Limit, you will not see BOD results or a BOD compliance determination for that species/ process type - that cell will be blank."]
[null,null,"f.","BOD has no limits for New Sources for 5 species/ process types and for Existing Source for 17 species/ process types.  At step 8 the cell will be dark."]
[null,null,"g.","TSS and O&G have TBELs for all the species/process types."]
[]
[]
[null,"STEP 9.  REPORTING"]
[null,null,"a.","When you have entered all of your data you will find the final results and compliance determination at Step 8 on the bottom of the CALCULATOR worksheet."]
[null,null,"b.","Transfer the numeric results and the compliance determination to your DMR by species/process-type."]
[null,null,"c.","We will be providing more guidance on this soon."]
[null,null,"d.","COPYING and/or printing Step 8 will be important for your records, an electronic copy maybe required as part of your submittal."]
[null,null,"e.","Keep a copy of the dashboard or a copy of the entire workbook for your records (see below)."]
[]
[null,"NEXT AND FUTURE MONTHS- TWO CHOICES:"]
[null,null,"OPTION 1.   KEEP THE ENTIRE WORKBOOK as a template.  Each month make a NEW copy of the whole workbook to use.  Re-name the USED monthly workbook with the date in the name for your later reference."]
[null,null,null,"The advantage of the first choice is you have the whole workbook and all it's sheets for your records."]
[null,null,"OPTION 2.  COPY THE USED DASHBOARD-CREATING A DASHBOARD YOU KEEP FOR YOUR RECORDS AND SUBMISSION AND A NEW BLANK DASHBOARD TO USE THE FOLLOWING MONTH. (See steps below)."]
[null,null,null,"The DISadvantage of this choice is you do not have the whole workbook and all it's sheets for your records.  You only have copies of the previously completed DASHBOARDs."]
[]
[]
[]
[]
[]
[]
[]
[]
[]
[]
[]
[]
[]
[]
[]
[]
[]
[]
[]
[]
[]
[]
[]
[]
[]
[]
[]
[]
[]
[]
[]
[]
[]
["Step 3: Rename the original data entry dashboard - such as: add a date"]
[]
[]
[]
[]
[]
[]
[]
[]
[]
[]
[]
[]
[]
["Step 4: RENAME NEW data entry Dashboard to Original name - simply remove the (2). The formulas on the new dashboard will now communicate to the calculator.  IMPORTANT STEP---the new dashboard MUST have the original name to work correctly.   You will have to delete the previous data to make this new DASHBOARD blank before you start the next DMR.  Click each cell and click delete."]

{"sheet":"DATA ENTRY DASHBOARD","index":2,"n_rows":158,"n_cols":35,"rows_kept":158,"cut":false,"hidden":true,"merged":[[0,1,2,9],[0,10,2,12],[18,32,18,39],[19,32,19,39],[15,32,15,39],[3,33,8,34],[14,31,14,39],[16,32,16,39],[17,32,17,39],[41,1,41,8],[38,2,39,13],[30,6,31,6],[32,7,32,8],[22,1,23,1],[24,1,25,1],[26,1,27,1],[28,1,29,1],[30,7,31,7],[72,1,72,8],[73,1,73,8],[74,1,74,8],[75,1,75,8],[70,5,70,8],[71,5,71,8],[70,1,70,4],[71,1,71,4],[67,5,67,8],[68,5,68,8],[69,5,69,8],[53,5,53,8],[54,5,54,8],[55,5,55,8],[56,5,56,8],[57,5,57,8],[62,5,62,8],[63,5,63,8],[64,5,64,8],[65,5,65,8],[66,5,66,8],[42,5,42,8],[43,5,43,8],[44,5,44,8],[45,5,45,8],[46,5,46,8],[47,5,47,8],[48,5,48,8],[49,5,49,8],[50,5,50,8],[51,5,51,8],[52,5,52,8],[58,5,58,8],[59,5,59,8],[61,5,61,8],[65,1,65,4],[54,1,54,4],[55,1,55,4],[56,1,56,4],[57,1,57,4],[58,1,58,4],[60,5,60,8],[67,1,67,4],[68,1,68,4],[69,1,69,4],[59,1,59,4],[61,1,61,4],[62,1,62,4],[63,1,63,4],[64,1,64,4],[60,1,60,4],[50,1,50,4],[51,1,51,4],[52,1,52,4],[53,1,53,4],[66,1,66,4],[45,1,45,4],[46,1,46,4],[47,1,47,4],[48,1,48,4],[49,1,49,4],[42,11,47,12],[48,11,50,11],[48,12,50,12],[20,1,21,1],[4,1,5,1],[4,2,4,3],[5,2,5,3],[8,1,9,1],[10,1,11,1],[12,1,13,1],[14,1,15,1],[16,1,17,1],[18,1,19,1],[42,1,42,4],[43,1,43,4],[44,1,44,4]]}
[null,"↓↓↓    ALL DATA ENTRY GOES HERE      ↓↓↓",null,null,null,null,null,null,null,null,"You must select either \"New Source\" or \"Existing Source\" below."]
[]
[]
[1,"B","C","D","E","F","G","H","I","J","K","L","M","N","O","P","Q","R","S","T","U","V","W","X","Y","Z","←These are the column designations used in cell formulas",null,null,null,null,null,null,"Note: these two species/process types only pertain to Existing Sources; not to New Sources.                                        For Existing Sources Fish Meal Subpart O comes as\"with solubles plant\" or \"with NO solubles plant\".   Canned Sardines Subpart AB comes as \"Dry Transport\" or as \"FLUMED\"."]
[2,1,"USE WHITE SPACES ONLY:    Source Name",null,"Monitoring Month","Year","County","EPA ID","OREGON Permit No.","DEQ File No.","New  or   Existing  Source","Monitoring Tier","EPA ICIS  Source No."]
[3,null,null,null,null,null,null,"ORG 523508","900-J",null,"Existing Source","-"]
[4]
[5]
[6,2,"USE WHITE SPACES ONLY: For each SAMPLE DAY Enter  DATE, GALLONS DISCHARGED, LAB RESULTS and POUNDS PROCESSED BY SPECIES/PROCESS TYPE  "]
[7,null,"DATE HERE","GALLONS discharged     MGD","BOD5 RESULTS    mg/L","TSS RESULTS    mg/L","O &G RESULTS    mg/L","TOTAL POUNDS PROCESSED for the DAY                           Summed across Pounds Columns","SPECIES/PROCESS-TYPES →                   (see notes below)","H                                             CRAB                          POUNDS","K                                      N. SHRIMP                   POUNDS","U                                  BFC                            BOTTOM FISH CONVENTIONAL                     POUNDS","V                         BFM      BOTTOM FISH MECH              POUNDS","R                                     SALMON              HAND BUTCHERED                     POUNDS"," S                                    SALMON MECH                                POUNDS","BPJ               WHOLE FROZEN RAW SHRIMP                 POUNDS","AF                        HERRING  FILLET    (sardines steaked)                           POUNDS","Y                                      OYSTER HAND SHUCK                           POUNDS","O                            FISH MEAL              NEW  or EXTG w/ SOLUBLES PLANT                           POUNDS"," W                      CLAM                  HAND SHUCK                           POUNDS","X                         CLAM                        MECH                  POUNDS","M              BREADED SHRIMP CONTIGUOUS STATES                        POUNDS","N                                  TUNA    (canned)                 POUNDS","AA                                      OYSTER  STEAMED & CANNED                           POUNDS","AB                                  SARDINES                      (CANNED)     NEW or EXTG w/ DRY TRNSPORT                POUNDS","AD                             SCALLOP                        POUNDS","O                            FISH MEAL         EXTG w/ NO               SOLUBLES  PLANT                    POUNDS","AB                                  SARDINES                      (CANNED)                   EXTG w/ FLUME                 POUNDS",null,null,null,null,null,"O                            FISH MEAL           NO               SOLUBLES  PLANT                             POUNDS","AB                                  SARDINES                      (CANNED)                    FLUME                     POUNDS"]
[8,"Sample Day 1",null,null,null,null,null,{"$f":"SUM(J11:AB11)","v":0}]
[9]
[10,"Sample Day 2",null,null,null,null,null,{"$f":"SUM(J13:AB13)","v":0}]
[11]
[12,"Sample Day 3",null,null,null,null,null,{"$f":"SUM(J15:AB15)","v":0},null,null,null,null,null,null,null,null,null,null,null,null,null,null,null,null,null,null,null,null,null,null,null,"KEY TO COLOR CODE OF CELLS "]
[13,null,null,null,null,null,null,null,null,null,null,null,null,null,null,null,null,null,null,null,null,null,null,null,null,null,null,null,null,null,null,null,"WHITE SPACE IS FOR DATA ENTRY"]
[14,"Sample Day 4",null,null,null,null,null,{"$f":"SUM(J17:AB17)","v":0},null,null,null,null,null,null,null,null,null,null,null,null,null,null,null,null,null,null,null,null,null,null,null,null,"PALE BLUE CONTAINS LABELS, INSTRUCTIONS OR COMMENTS, SOMETIMES BACKGROUND"]
[15,null,null,null,null,null,null,null,null,null,null,null,null,null,null,null,null,null,null,null,null,null,null,null,null,null,null,null,null,null,null,null,"MEDIUM BLUE CONTAINS OR REPEATS INFORMATION, MOST BACKGROUND"]
[16,"Sample Day 5",null,null,null,null,null,{"$f":"SUM(J19:AB19)","v":0},null,null,null,null,null,null,null,null,null,null,null,null,null,null,null,null,null,null,null,null,null,null,null,null,"LIGHT PURPLE CONTAINS FORMULAS, PRESENTS RESULTS"]
[17,null,null,null,null,null,null,null,null,null,null,null,null,null,null,null,null,null,null,null,null,null,null,null,null,null,null,null,null,null,null,null,"YELLOW IS ALERT FOR A SPECIAL SITUATION"]
[18,"Sample Day 6",null,null,null,null,null,{"$f":"SUM(J21:AB21)","v":0}]
[19]
[20,"Sample Day 7",null,null,null,null,null,{"$f":"SUM(J23:AB23)","v":0}]
[21]
[22,"Sample Day 8",null,null,null,null,null,{"$f":"SUM(J25:AB25)","v":0}]
[23]
[24,"Sample Day 9",null,null,null,null,null,{"$f":"SUM(J27:AB27)","v":0}]
[25]
[26,"Sample Day 10",null,null,null,null,null,{"$f":"SUM(J29:AB29)","v":0}]
[27]
[28,null,null,null,null,null,"Total pounds for month all types→",{"$f":"SUM(H11+H13+H15+H17+H19+H21+H23+H25+H27+H29)","v":0},"Total pounds for month by type →",{"$f":"SUM(J11+J13+J15+J17+J19+J21+J23+J25+J27+J29)","v":0},{"$f":"SUM(K11+K13+K15+K17+K19+K21+K23+K25+K27+K29)","v":0},{"$f":"SUM(L11+L13+L15+L17+L19+L21+L23+L25+L27+L29)","v":0},0,0,{"$f":"SUM(O11+O13+O15+O17+O19+O21+O23+O25+O27+O29)","v":0},0,0,0,{"$f":"SUM(S11+S13+S15+S17+S19+S21+S23+S25+S27+S29)","v":0},0,0,0,0,0,{"$f":"SUM(Y11+Y13+Y15+Y17+Y19+Y21+Y23+Y25+Y27+Y29)","v":0},{"$f":"SUM(Z11+Z13+Z15+Z17+Z19+Z21+Z23+Z25+Z27+Z29)","v":0},{"$f":"SUM(AA11+AA13+AA15+AA17+AA19+AA21+AA23+AA25+AA27+AA29)","v":0},{"$f":"SUM(AB11+AB13+AB15+AB17+AB19+AB21+AB23+AB25+AB27+AB29)","v":0}]
[29]
[30,null,null,null,null,null,null,"% by month by type →",null,{"$f":"IF($H31=0,0,J31/$H31)","v":0},{"$f":"IF($H31=0,0,K31/$H31)","v":0},0,0,0,0,0,0,0,0,0,0,0,0,0,0,0,0,0]
["↑",null,null,null,null,null,null,null,"# Days Processing",{"$f":"COUNTIF(J11:J29, \">0\")","v":0},{"$f":"COUNTIF(K11:K29, \">0\")","v":0},0,0,0,0,0,0,0,0,0,0,0,0,0,0,0,0,0]
["These are the row numbers on the Calculator sheets"]
[]
[]
[]
[null,null,"CERTIFICATION  I certify under penalty of law that this document and all attachments were prepared under my direction or supervision in accordance with a system designed to assure that qualified personnel properly gather and evaluate the information submitted.   Based on my inquiry  of the person or persons who manage the system, or those persons directly responsible for gathering the information, the information submitted is, to the best of my knowledge and belief, true, accurate, and complete.  I am aware that there are significant penalties for submitting false information, including the possibility of fine and imprisonment for knowing violations."]
[null,"INITIAL HERE ↑"]
[]
[null,"OREGON TBEL APPLICABILITY                                                                                                                                    (LIMIT CATEGORIES TO USE FOR PERFORMING COMPLIANCE CALCULATIONS)"]
[null,"Common Names and Species/Process-Types",null,null,null,"TBEL Coverage in the Oregon 900-J Permit                                               References to BPJ or Federal Basis                                                                   40 CFR 408§§ ",null,null,null,null,null,"Note: these two species/process types only pertain to Existing Sources; not to New Sources.                                        For Existing Sources Fish Meal Subpart O comes as\"with solubles plant\" or \"with NO solubles plant\".   Canned Sardines Subpart AB comes as \"Dry Transport\" or as \"FLUMED\"."]
[null,"CRAB fully processed or partially processed ",null,null,null,"Subpart H – Dungeness and Tanner Crab Processing in the Contiguous States Subcategory (§§ 408.80 - 408.87).                                                                 Use the pounds partially processed each day of processing."]
[null,"CRAB partially processed one day, further processed on a different day",null,null,null,"Subpart H – Dungeness and Tanner Crab Processing in the Contiguous States Subcategory (§§ 408.80 - 408.87).                                                                        Use the pounds partially processed each day of processing."]
[null,"SHRIMP fully processed or partially processed such as cooked but not peeled",null,null,null,"Subpart K - Northern Shrimp Processing in the Contiguous States Subcategory (§§ 408.110 - 408.117)."]
[null,"SHRIMP partially processed one day, further processed on a different day ",null,null,null,"Subpart K - Northern Shrimp Processing in the Contiguous States Subcategory (§§ 408.110 - 408.117).                                                                   Use the pounds partially processed each day of processing. "]
[null,"Breaded SHRIMP",null,null,null,"Subpart M - Breaded Shrimp Processing in the Contiguous States Subcategory (§§ 408.130 - 408.137)."]
[null,"Whole Frozen Raw SHRIMP with NO cooking or peeling steps",null,null,null,"BPJ Case-by-case analysis.",null,null,null,null,null,"O                            FISH MEAL           NO               SOLUBLES  PLANT                             POUNDS","AB                                  SARDINES                      (CANNED)                    FLUME                     POUNDS"]
[null,"TUNA Cooked and Canned",null,null,null,"Subpart N – Tuna Processing Subcategory (§§ 408.140 - 408.147)."]
[null,"FISHMEAL and other related residuals products prepared by various Grind, Cook, Press, Oil Recovery, and Solubles Management process steps",null,null,null,"Subpart O - Fish Meal Processing Subcategory (§§ 408.150 - 408.157).       NEW SOURCES see 408.155.                                                                           EXISTING SOURCES  \"WITH Solubles Plant\" see 408.152(a) and   EXISTING SOURCES with \"NO Solubles Plant\" see 408.152(b)."]
[null,"Whole Frozen Salmon (Salmonids, Steelhead and related fish)",null,null,null,"Subpart R - West Coast Hand-Butchered Salmon Processing Subcategory (§§ 408.180 - 408.187)."]
[null,"Salmon when Hand Processed, (Salmonids, Steelhead and related fish)",null,null,null,"Subpart R - West Coast Hand-Butchered Salmon Processing Subcategory (§§ 408.180 - 408.187)."]
[null,"Salmon when Mechanically Processed, (Salmonids, Steelhead and related fish)",null,null,null,"Subpart S - West Coast Mechanized Salmon Processing Subcategory (§§ 408.190 - 408.197)."]
[null,"Benthic and Pelagic finfish species and Squid when Hand Processed (various including: flounder, ocean perch, haddock, cod, sea catfish, sole, halibut, rockfish, hake, red snapper, black cod, Mackerel, Anchovies, Sardines, Tuna, Squid and others, excluding salmonids, when hand processed)",null,null,null,"Subpart U – Non-Alaskan Conventional Bottom Fish Processing Subcategory (§§ 408.210-408.217) and BPJ"]
[null,"Whole frozen fish when processed whole and frozen (various as listed above for Subpart U, BFC)",null,null,null,"Subpart U - Non-Alaskan Conventional Bottom Fish Processing Subcategory (§§ 408.210 - 408.217)."]
[null,"Glazing Only",null,null,null,"Subpart U - Non-Alaskan Conventional Bottom Fish Processing Subcategory (§§ 408.210 - 408.217)."]
[null,"Sturgeon",null,null,null,"Subpart U - Non-Alaskan Conventional Bottom Fish Processing Subcategory (§§ 408.210 - 408.217)."]
[null,"Benthic and Pelagic finfish species and Squid when Mechanically Processed (various including Hake, Mackerel, Anchovies, other Finfish, and Squid (but not Salmonids)",null,null,null,"Subpart V - Non-Alaskan Mechanized Bottom Fish Processing Subcategory (§§ 408.220 - 408.227)."]
[null,"Mince",null,null,null,"Subpart V - Non-Alaskan Mechanized Bottom Fish Processing Subcategory (§§ 408.220 - 408.227)."]
[null,"Offloading or Receiving with processing on site on the same day",null,null,null,"This activity is included in the applicable species/process-type"]
[null,"Offloading or Receiving with processing on a different day",null,null,null,"Apply the weight offloaded or received on the day offloading or receiving occurs, using the applicable species/process-type."]
[null,"Clams when Hand Shucked",null,null,null,"Subpart W – Hand Shucked Clam Processing Subcategory (§§ 408.230 - 408.237)."]
[null,"Clams when Mechanically Processed ",null,null,null,"Subpart X – Mechanized Clam Processing Subcategory (§§ 408.240 - 408.247)."]
[null,"Oysters when Hand Shucked",null,null,null,"Subpart Y– Pacific Coast Hand Shucked Oyster Processing Subcategory (§§ 408.250 - 408.257)."]
[null,"Oysters when Steamed and Canned",null,null,null,"Subpart AA– Steamed and Canned Oyster Processing Subcategory (§§ 408.270 - 408.277)."]
[null,"Sardines, Canned",null,null,null,"Subpart AB–Sardine Processing Subcategory (§§ 408.280 - 408.287). This is CANNED Sardines.                                                                            NEW Sources see 408.285.                  \nEXISTING Sources with DRY Transport see 408.282(a).                                EXISTING  Sources with FLUME transport see 408.282(b).  \n"]
[null,"Scallops",null,null,null,"Subpart AD–Non-Alaskan Scallop Processing Subcategory (§§ 408.300 - 408.307)."]
[null,"Herring and Sardines, filleted or steaked,  when Mechanically Processed ",null,null,null,"Subpart AF - Non-Alaskan Herring Fillet Processing Subcategory (§§ 408.320 - 408.327)."]
[null,"Abalone",null,null,null,"NONE-Protected Species -  No commercial take is allowed"]
[null,"Petfood2   (residuals managed for petfood use)",null,null,null,"No TBELs  apply; residuals management activities are included in the process subcategory"]
[null,"Hagfish, live tank water2 (flow through with no pollutant discharge)",null,null,null,"No TBELs apply"]
[null,"Notes:"]
[null,"1.       Development Document for Effluent Limitations Guidelines and New Source Performance Standards for the CATFISH, CRAB, SHRIMP, AND TUNA Segment of the Canned and Preserved Seafood Processing Point Source Category, (June 1974 EPA-440/1-74-020-a);   and   Development Document for Effluent Limitations Guidelines and New Source Performance Standards for the FISH MEAL, SALMON, BOTTOM FISH, CLAM, OYSTER, SARDINE, SCALLOP, HERRING, AND ABALONE Segment of the Canned and Preserved Fish and Seafood Processing Industry Point Source Category (September 1975, EPA-440/1-75/041a).                                                        "]
[null,"2.       If a facility ONLY conducts this activity, with no other discharges that day, do not sample on that day.  Screen the discharge and use best housekeeping practices.  Do not count these pounds in any calculation."]
[null,"v 2-7-2018"]
[]
[]
[]
[]
[]
[]
[]
[]
[]
[]
[]
[]
[]
[]
[]
[]
[]
[]
[]
[]
[]
[]
[]
[]
[]
[]
[]
[]
[]
[]
[]
[]
[]
[]
[]
[]
[]
[]
[]
[]
[]
[]
[]
[]
[]
[]
[]
[]
[]
[]
[]
[]
[]
[]
[]
[]
[]
[]
[]
[]
[]
[]
[]
[]
[]
[]
[]
[]
[]
[]
[]
[]
[]
[]
[]
[]
[]
[]
[null,null,null,"-"]
[null,null,null,"Tier 1"]
[null,null,null,"Tier 2"]
[null,null,null,"Tier 3"]

{"sheet":"CALCULATOR NEW SOURCES  ","index":3,"n_rows":340,"n_cols":37,"rows_kept":340,"cut":false,"hidden":true,"merged":[[23,1,24,1],[25,1,26,1],[16,29,16,35],[11,1,12,1],[13,1,14,1],[15,1,16,1],[17,1,18,1],[19,1,20,1],[18,29,18,35],[19,29,19,35],[15,29,15,35],[14,28,14,35],[21,1,22,1],[9,1,10,1],[1,1,2,1],[1,2,1,3],[2,2,2,3],[7,1,8,1],[43,10,43,13],[49,11,51,16],[28,6,28,7],[74,25,74,36],[67,12,67,18],[74,13,74,24],[74,2,74,12],[65,10,65,13],[67,2,67,11],[54,10,54,13],[31,2,31,7],[201,4,201,5],[180,4,180,5],[159,4,159,5],[138,4,138,5],[117,4,117,5],[289,2,289,11],[289,12,289,18],[264,4,264,5],[222,4,222,5],[243,4,243,5],[292,26,296,33],[298,2,298,12],[298,13,298,24],[298,25,298,36],[320,1,321,1],[320,2,320,19]]}
[1,"B","C","D","E","F","G","H","I","J","K","L","M","N","O","P","Q","R","S","T","U","V","W","X","Y","Z","AA","AB","AC","AD","AE","AF","AG","AH","AI","AJ"]
[2,1," Source Name",null,"Monitoring Month","Year","County","EPA ID","OREGON      Permit No.","DEQ File No.","New  or   Existing","Monitoring Tier","EPA ICIS  Source No."]
[3,null,{"$f":"'DATA ENTRY DASHBOARD'!C6:D6","v":0},null,{"$f":"'DATA ENTRY DASHBOARD'!E6","v":0},{"$f":"'DATA ENTRY DASHBOARD'!F6","v":0},{"$f":"'DATA ENTRY DASHBOARD'!G6","v":0},"ORG523508",{"$f":"'DATA ENTRY DASHBOARD'!I6","v":"900-J"},{"$f":"'DATA ENTRY DASHBOARD'!J6","v":0},{"$f":"'DATA ENTRY DASHBOARD'!K6","v":"Existing Source"},{"$f":"'DATA ENTRY DASHBOARD'!L6","v":"-"},{"$f":"IF('DATA ENTRY DASHBOARD'!M6=\"\",\"\",('DATA ENTRY DASHBOARD'!M6))","v":""}]
[4]
[5,"B","C","D","E","F","G","H","I","J","K","L","M","N","O","P","Q","R","S","T","U","V","W","X","Y","Z"]
[6]
[7,2,"SAMPLE DATE","GALLONS discharged     MGD                 (MGD = million gallons daily)","BOD5 RESULTS    mg/L                          (mg/L = milligrams per Liter (lab result)","TSS RESULTS    mg/L","O &G RESULTS    mg/L","TOTAL POUNDS PROCESSED for the DAY      Summed across Pounds Columns",null,"H                                             CRAB                                                                        POUNDS","K                                      N. SHRIMP                           POUNDS","U                                  BFC        BOTTOM FISH CONV                      POUNDS","V                         BFM           BOTTOM FISH MECH        POUNDS","R                                     SALMON HB                            POUNDS"," S                                    SALMON MECH                               POUNDS","BPJ               WHOLE FROZEN RAW SHRIMP                 POUNDS","AF                        HERRING  FILLET    (sardines steaked)                        POUNDS","Y                                      OYSTER HAND SHUCK                      POUNDS","O                            FISH MEAL                              POUNDS"," W                      CLAM                  HAND SHUCK                             POUNDS","X                         CLAM                        MECH                               POUNDS","M              BREADED SHRIMP CONTIGUOUS STATES              POUNDS","N                                  TUNA    (canned)                    POUNDS","AA                                      OYSTER  STEAMED & CANNED                 POUNDS","AB                                  SARDINES                      (CANNED)                     POUNDS","AD                             SCALLOP                 POUNDS"]
[8,"Sample Day 1",{"$f":"'DATA ENTRY DASHBOARD'!$C$11","v":"00:00:00"},{"$f":"IF('DATA ENTRY DASHBOARD'!$D$11=\"\",\"\",('DATA ENTRY DASHBOARD'!$D$11))","v":""},{"$f":"IF('DATA ENTRY DASHBOARD'!$E$11=\"\",\"\",('DATA ENTRY DASHBOARD'!$E$11))","v":""},{"$f":"IF('DATA ENTRY DASHBOARD'!$F$11=\"\",\"\",('DATA ENTRY DASHBOARD'!$F$11))","v":""},{"$f":"IF('DATA ENTRY DASHBOARD'!$G$11=\"\",\"\",('DATA ENTRY DASHBOARD'!$G$11))","v":""},{"$f":"SUM(J8:Z8)","v":0},null,{"$f":"IF('DATA ENTRY DASHBOARD'!$J$11=\"\",0, ('DATA ENTRY DASHBOARD'!$J$11))","v":0},{"$f":"IF('DATA ENTRY DASHBOARD'!$K$11=\"\",0, ('DATA ENTRY DASHBOARD'!$K$11))","v":0},{"$f":"IF('DATA ENTRY DASHBOARD'!$L$11=\"\",0, ('DATA ENTRY DASHBOARD'!$L$11))","v":0},{"$f":"IF('DATA ENTRY DASHBOARD'!$M$11=\"\",0, ('DATA ENTRY DASHBOARD'!$M$11))","v":0},{"$f":"IF('DATA ENTRY DASHBOARD'!$N$11=\"\",0, ('DATA ENTRY DASHBOARD'!$N$11))","v":0},{"$f":"IF('DATA ENTRY DASHBOARD'!$O$11=\"\",0, ('DATA ENTRY DASHBOARD'!$O$11))","v":0},{"$f":"IF('DATA ENTRY DASHBOARD'!$P$11=\"\",0, ('DATA ENTRY DASHBOARD'!$P$11))","v":0},{"$f":"IF('DATA ENTRY DASHBOARD'!$Q$11=\"\",0, ('DATA ENTRY DASHBOARD'!$Q$11))","v":0},{"$f":"IF('DATA ENTRY DASHBOARD'!$R$11=\"\",0, ('DATA ENTRY DASHBOARD'!$R$11))","v":0},{"$f":"IF('DATA ENTRY DASHBOARD'!$S$11=\"\",0, ('DATA ENTRY DASHBOARD'!$S$11))","v":0},{"$f":"IF('DATA ENTRY DASHBOARD'!$T$11=\"\",0, ('DATA ENTRY DASHBOARD'!$T$11))","v":0},{"$f":"IF('DATA ENTRY DASHBOARD'!$U$11=\"\",0, ('DATA ENTRY DASHBOARD'!$U$11))","v":0},{"$f":"IF('DATA ENTRY DASHBOARD'!$V$11=\"\",0, ('DATA ENTRY DASHBOARD'!$V$11))","v":0},{"$f":"IF('DATA ENTRY DASHBOARD'!$W$11=\"\",0, ('DATA ENTRY DASHBOARD'!$W$11))","v":0},{"$f":"IF('DATA ENTRY DASHBOARD'!$X$11=\"\",0, ('DATA ENTRY DASHBOARD'!$X$11))","v":0},{"$f":"IF('DATA ENTRY DASHBOARD'!$Y$11=\"\",0, ('DATA ENTRY DASHBOARD'!$Y$11))","v":0},{"$f":"IF('DATA ENTRY DASHBOARD'!$Z$11=\"\",0, ('DATA ENTRY DASHBOARD'!$Z$11))","v":0}]
[9,null,null,null,null,null,null,null,null,{"$f":"IF($J8=\"\",\"\", $J8/$H8)","v":{"$error":"#DIV/0!"}},{"$f":"IF(K8=\"\",\"\", K8/$H8)","v":{"$error":"#DIV/0!"}},{"$f":"IF(L8=\"\",\"\", L8/$H8)","v":{"$error":"#DIV/0!"}},{"$error":"#DIV/0!"},{"$error":"#DIV/0!"},{"$error":"#DIV/0!"},{"$error":"#DIV/0!"},{"$error":"#DIV/0!"},{"$error":"#DIV/0!"},{"$error":"#DIV/0!"},{"$error":"#DIV/0!"},{"$error":"#DIV/0!"},{"$error":"#DIV/0!"},{"$error":"#DIV/0!"},{"$error":"#DIV/0!"},{"$error":"#DIV/0!"},{"$error":"#DIV/0!"}]
[10,"Sample Day 2",{"$f":"'DATA ENTRY DASHBOARD'!$C$13","v":"00:00:00"},{"$f":"IF('DATA ENTRY DASHBOARD'!$D$13=\"\",\"\", ('DATA ENTRY DASHBOARD'!$D$13))","v":""},{"$f":"IF('DATA ENTRY DASHBOARD'!$E$13=\"\",\"\", ('DATA ENTRY DASHBOARD'!$E$13))","v":""},{"$f":"IF('DATA ENTRY DASHBOARD'!$F$13=\"\",\"\", ('DATA ENTRY DASHBOARD'!$F$13))","v":""},{"$f":"IF('DATA ENTRY DASHBOARD'!$G$13=\"\",\"\", ('DATA ENTRY DASHBOARD'!$G$13))","v":""},{"$f":"SUM(J10:Z10)","v":0},null,{"$f":"IF('DATA ENTRY DASHBOARD'!$J$13=\"\",0, ('DATA ENTRY DASHBOARD'!$J$13))","v":0},{"$f":"IF('DATA ENTRY DASHBOARD'!$K$13=\"\",0, ('DATA ENTRY DASHBOARD'!$K$13))","v":0},{"$f":"IF('DATA ENTRY DASHBOARD'!$L$13=\"\",0, ('DATA ENTRY DASHBOARD'!$L$13))","v":0},{"$f":"IF('DATA ENTRY DASHBOARD'!$M$13=\"\",0, ('DATA ENTRY DASHBOARD'!$M$13))","v":0},{"$f":"IF('DATA ENTRY DASHBOARD'!$N$13=\"\",0, ('DATA ENTRY DASHBOARD'!$N$13))","v":0},{"$f":"IF('DATA ENTRY DASHBOARD'!$O$13=\"\",0, ('DATA ENTRY DASHBOARD'!$O$13))","v":0},{"$f":"IF('DATA ENTRY DASHBOARD'!$P$13=\"\",0, ('DATA ENTRY DASHBOARD'!$P$13))","v":0},{"$f":"IF('DATA ENTRY DASHBOARD'!$Q$13=\"\",0, ('DATA ENTRY DASHBOARD'!$Q$13))","v":0},{"$f":"IF('DATA ENTRY DASHBOARD'!$R$13=\"\",0, ('DATA ENTRY DASHBOARD'!$R$13))","v":0},{"$f":"IF('DATA ENTRY DASHBOARD'!$S$13=\"\",0, ('DATA ENTRY DASHBOARD'!$S$13))","v":0},{"$f":"IF('DATA ENTRY DASHBOARD'!$T$13=\"\",0, ('DATA ENTRY DASHBOARD'!$T$13))","v":0},{"$f":"IF('DATA ENTRY DASHBOARD'!$U$13=\"\",0, ('DATA ENTRY DASHBOARD'!$U$13))","v":0},{"$f":"IF('DATA ENTRY DASHBOARD'!$V$13=\"\",0, ('DATA ENTRY DASHBOARD'!$V$13))","v":0},{"$f":"IF('DATA ENTRY DASHBOARD'!$W$13=\"\",0, ('DATA ENTRY DASHBOARD'!$W$13))","v":0},{"$f":"IF('DATA ENTRY DASHBOARD'!$X$13=\"\",0, ('DATA ENTRY DASHBOARD'!$X$13))","v":0},{"$f":"IF('DATA ENTRY DASHBOARD'!$Y$13=\"\",0, ('DATA ENTRY DASHBOARD'!$Y$13))","v":0},{"$f":"IF('DATA ENTRY DASHBOARD'!$Z$13=\"\",0, ('DATA ENTRY DASHBOARD'!$Z$13))","v":0}]
[11,null,null,null,null,null,null,null,null,{"$f":"IF($J10=\"\",\"\", $J10/$H10)","v":{"$error":"#DIV/0!"}},{"$f":"IF(K10=\"\",\"\", K10/$H10)","v":{"$error":"#DIV/0!"}},{"$error":"#DIV/0!"},{"$error":"#DIV/0!"},{"$error":"#DIV/0!"},{"$error":"#DIV/0!"},{"$error":"#DIV/0!"},{"$error":"#DIV/0!"},{"$error":"#DIV/0!"},{"$error":"#DIV/0!"},{"$error":"#DIV/0!"},{"$error":"#DIV/0!"},{"$error":"#DIV/0!"},{"$error":"#DIV/0!"},{"$error":"#DIV/0!"},{"$error":"#DIV/0!"},{"$error":"#DIV/0!"}]
[12,"Sample Day 3",{"$f":"'DATA ENTRY DASHBOARD'!$C$15","v":"00:00:00"},{"$f":"IF('DATA ENTRY DASHBOARD'!$D$15=\"\",\"\", ('DATA ENTRY DASHBOARD'!$D$15))","v":""},{"$f":"IF('DATA ENTRY DASHBOARD'!$E$15=\"\",\"\", ('DATA ENTRY DASHBOARD'!$E$15))","v":""},{"$f":"IF('DATA ENTRY DASHBOARD'!$F$15=\"\",\"\", ('DATA ENTRY DASHBOARD'!$F$15))","v":""},{"$f":"IF('DATA ENTRY DASHBOARD'!$G$15=\"\",\"\", ('DATA ENTRY DASHBOARD'!$G$15))","v":""},{"$f":"SUM(J12:Z12)","v":0},null,{"$f":"IF('DATA ENTRY DASHBOARD'!$J$15=\"\",0, ('DATA ENTRY DASHBOARD'!$J$15))","v":0},{"$f":"IF('DATA ENTRY DASHBOARD'!$K$15=\"\",0, ('DATA ENTRY DASHBOARD'!$K$15))","v":0},{"$f":"IF('DATA ENTRY DASHBOARD'!$L$15=\"\",0, ('DATA ENTRY DASHBOARD'!$L$15))","v":0},{"$f":"IF('DATA ENTRY DASHBOARD'!$M$15=\"\",0, ('DATA ENTRY DASHBOARD'!$M$15))","v":0},{"$f":"IF('DATA ENTRY DASHBOARD'!$N$15=\"\",0, ('DATA ENTRY DASHBOARD'!$N$15))","v":0},{"$f":"IF('DATA ENTRY DASHBOARD'!$O$15=\"\",0, ('DATA ENTRY DASHBOARD'!$O$15))","v":0},{"$f":"IF('DATA ENTRY DASHBOARD'!$P$15=\"\",0, ('DATA ENTRY DASHBOARD'!$P$15))","v":0},{"$f":"IF('DATA ENTRY DASHBOARD'!$Q$15=\"\",0, ('DATA ENTRY DASHBOARD'!$Q$15))","v":0},{"$f":"IF('DATA ENTRY DASHBOARD'!$R$15=\"\",0, ('DATA ENTRY DASHBOARD'!$R$15))","v":0},{"$f":"IF('DATA ENTRY DASHBOARD'!$S$15=\"\",0, ('DATA ENTRY DASHBOARD'!$S$15))","v":0},{"$f":"IF('DATA ENTRY DASHBOARD'!$T$15=\"\",0, ('DATA ENTRY DASHBOARD'!$T$15))","v":0},{"$f":"IF('DATA ENTRY DASHBOARD'!$U$15=\"\",0, ('DATA ENTRY DASHBOARD'!$U$15))","v":0},{"$f":"IF('DATA ENTRY DASHBOARD'!$V$15=\"\",0, ('DATA ENTRY DASHBOARD'!$V$15))","v":0},{"$f":"IF('DATA ENTRY DASHBOARD'!$W$15=\"\",0, ('DATA ENTRY DASHBOARD'!$W$15))","v":0},{"$f":"IF('DATA ENTRY DASHBOARD'!$X$15=\"\",0, ('DATA ENTRY DASHBOARD'!$X$15))","v":0},{"$f":"IF('DATA ENTRY DASHBOARD'!$Y$15=\"\",0, ('DATA ENTRY DASHBOARD'!$Y$15))","v":0},{"$f":"IF('DATA ENTRY DASHBOARD'!$Z$15=\"\",0, ('DATA ENTRY DASHBOARD'!$Z$15))","v":0}]
[13,null,null,null,null,null,null,null,null,{"$f":"IF($J12=\"\",\"\", $J12/$H12)","v":{"$error":"#DIV/0!"}},{"$f":"IF(K12=\"\",\"\", K12/$H12)","v":{"$error":"#DIV/0!"}},{"$error":"#DIV/0!"},{"$error":"#DIV/0!"},{"$error":"#DIV/0!"},{"$error":"#DIV/0!"},{"$error":"#DIV/0!"},{"$error":"#DIV/0!"},{"$error":"#DIV/0!"},{"$error":"#DIV/0!"},{"$error":"#DIV/0!"},{"$error":"#DIV/0!"},{"$error":"#DIV/0!"},{"$error":"#DIV/0!"},{"$error":"#DIV/0!"},{"$error":"#DIV/0!"},{"$error":"#DIV/0!"}]
[14,"Sample Day 4",{"$f":"'DATA ENTRY DASHBOARD'!$C$17","v":"00:00:00"},{"$f":"IF('DATA ENTRY DASHBOARD'!$D$17=\"\",\"\", ('DATA ENTRY DASHBOARD'!$D$17))","v":""},{"$f":"IF('DATA ENTRY DASHBOARD'!$E$17=\"\",\"\", ('DATA ENTRY DASHBOARD'!$E$17))","v":""},{"$f":"IF('DATA ENTRY DASHBOARD'!$F$17=\"\",\"\", ('DATA ENTRY DASHBOARD'!$F$17))","v":""},{"$f":"IF('DATA ENTRY DASHBOARD'!$G$17=\"\",\"\", ('DATA ENTRY DASHBOARD'!$G$17))","v":""},{"$f":"SUM(J$14:Z$14)","v":0},null,{"$f":"IF('DATA ENTRY DASHBOARD'!$J$17=\"\",0, ('DATA ENTRY DASHBOARD'!$J$17))","v":0},{"$f":"IF('DATA ENTRY DASHBOARD'!$K$17=\"\",0, ('DATA ENTRY DASHBOARD'!$K$17))","v":0},{"$f":"IF('DATA ENTRY DASHBOARD'!$L$17=\"\",0, ('DATA ENTRY DASHBOARD'!$L$17))","v":0},{"$f":"IF('DATA ENTRY DASHBOARD'!$M$17=\"\",0, ('DATA ENTRY DASHBOARD'!$M$17))","v":0},{"$f":"IF('DATA ENTRY DASHBOARD'!$N$17=\"\",0, ('DATA ENTRY DASHBOARD'!$N$17))","v":0},{"$f":"IF('DATA ENTRY DASHBOARD'!$O$17=\"\",0, ('DATA ENTRY DASHBOARD'!$O$17))","v":0},{"$f":"IF('DATA ENTRY DASHBOARD'!$P$17=\"\",0, ('DATA ENTRY DASHBOARD'!$P$17))","v":0},{"$f":"IF('DATA ENTRY DASHBOARD'!$Q$17=\"\",0, ('DATA ENTRY DASHBOARD'!$Q$17))","v":0},{"$f":"IF('DATA ENTRY DASHBOARD'!$R$17=\"\",0, ('DATA ENTRY DASHBOARD'!$R$17))","v":0},{"$f":"IF('DATA ENTRY DASHBOARD'!$S$17=\"\",0, ('DATA ENTRY DASHBOARD'!$S$17))","v":0},{"$f":"IF('DATA ENTRY DASHBOARD'!$T$17=\"\",0, ('DATA ENTRY DASHBOARD'!$T$17))","v":0},{"$f":"IF('DATA ENTRY DASHBOARD'!$U$17=\"\",0, ('DATA ENTRY DASHBOARD'!$U$17))","v":0},{"$f":"IF('DATA ENTRY DASHBOARD'!$V$17=\"\",0, ('DATA ENTRY DASHBOARD'!$V$17))","v":0},{"$f":"IF('DATA ENTRY DASHBOARD'!$W$17=\"\",0, ('DATA ENTRY DASHBOARD'!$W$17))","v":0},{"$f":"IF('DATA ENTRY DASHBOARD'!$X$17=\"\",0, ('DATA ENTRY DASHBOARD'!$X$17))","v":0},{"$f":"IF('DATA ENTRY DASHBOARD'!$Y$17=\"\",0, ('DATA ENTRY DASHBOARD'!$Y$17))","v":0},{"$f":"IF('DATA ENTRY DASHBOARD'!$Z$17=\"\",0, ('DATA ENTRY DASHBOARD'!$Z$17))","v":0}]
[15,null,null,null,null,null,null,null,null,{"$f":"IF($J$14=\"\",\"\", $J$14/$H$14)","v":{"$error":"#DIV/0!"}},{"$f":"IF(K$14=\"\",\"\", K$14/$H$14)","v":{"$error":"#DIV/0!"}},{"$error":"#DIV/0!"},{"$error":"#DIV/0!"},{"$error":"#DIV/0!"},{"$error":"#DIV/0!"},{"$error":"#DIV/0!"},{"$error":"#DIV/0!"},{"$error":"#DIV/0!"},{"$error":"#DIV/0!"},{"$error":"#DIV/0!"},{"$error":"#DIV/0!"},{"$error":"#DIV/0!"},{"$error":"#DIV/0!"},{"$error":"#DIV/0!"},{"$error":"#DIV/0!"},{"$error":"#DIV/0!"},null,null,"KEY TO COLOR CODE OF CELLS"]
[16,"Sample Day 5",{"$f":"'DATA ENTRY DASHBOARD'!$C$19","v":"00:00:00"},{"$f":"IF('DATA ENTRY DASHBOARD'!$D$19=\"\",\"\", ('DATA ENTRY DASHBOARD'!$D$19))","v":""},{"$f":"IF('DATA ENTRY DASHBOARD'!$E$19=\"\",\"\", ('DATA ENTRY DASHBOARD'!$E$19))","v":""},{"$f":"IF('DATA ENTRY DASHBOARD'!$F$19=\"\",\"\", ('DATA ENTRY DASHBOARD'!$F$19))","v":""},{"$f":"IF('DATA ENTRY DASHBOARD'!$G$19=\"\",\"\", ('DATA ENTRY DASHBOARD'!$G$19))","v":""},{"$f":"SUM(J16:Z16)","v":0},null,{"$f":"IF('DATA ENTRY DASHBOARD'!$J$19=\"\",0, ('DATA ENTRY DASHBOARD'!$J$19))","v":0},{"$f":"IF('DATA ENTRY DASHBOARD'!$K$19=\"\",0, ('DATA ENTRY DASHBOARD'!$K$19))","v":0},{"$f":"IF('DATA ENTRY DASHBOARD'!$L$19=\"\",0, ('DATA ENTRY DASHBOARD'!$L$19))","v":0},{"$f":"IF('DATA ENTRY DASHBOARD'!$M$19=\"\",0, ('DATA ENTRY DASHBOARD'!$M$19))","v":0},{"$f":"IF('DATA ENTRY DASHBOARD'!$N$19=\"\",0, ('DATA ENTRY DASHBOARD'!$N$19))","v":0},{"$f":"IF('DATA ENTRY DASHBOARD'!$O$19=\"\",0, ('DATA ENTRY DASHBOARD'!$O$19))","v":0},{"$f":"IF('DATA ENTRY DASHBOARD'!$P$19=\"\",0, ('DATA ENTRY DASHBOARD'!$P$19))","v":0},{"$f":"IF('DATA ENTRY DASHBOARD'!$Q$19=\"\",0, ('DATA ENTRY DASHBOARD'!$Q$19))","v":0},{"$f":"IF('DATA ENTRY DASHBOARD'!$R$19=\"\",0, ('DATA ENTRY DASHBOARD'!$R$19))","v":0},{"$f":"IF('DATA ENTRY DASHBOARD'!$S$19=\"\",0, ('DATA ENTRY DASHBOARD'!$S$19))","v":0},{"$f":"IF('DATA ENTRY DASHBOARD'!$T$19=\"\",0, ('DATA ENTRY DASHBOARD'!$T$19))","v":0},{"$f":"IF('DATA ENTRY DASHBOARD'!$U$19=\"\",0, ('DATA ENTRY DASHBOARD'!$U$19))","v":0},{"$f":"IF('DATA ENTRY DASHBOARD'!$V$19=\"\",0, ('DATA ENTRY DASHBOARD'!$V$19))","v":0},{"$f":"IF('DATA ENTRY DASHBOARD'!$W$19=\"\",0, ('DATA ENTRY DASHBOARD'!$W$19))","v":0},{"$f":"IF('DATA ENTRY DASHBOARD'!$X$19=\"\",0, ('DATA ENTRY DASHBOARD'!$X$19))","v":0},{"$f":"IF('DATA ENTRY DASHBOARD'!$Y$19=\"\",0, ('DATA ENTRY DASHBOARD'!$Y$19))","v":0},{"$f":"IF('DATA ENTRY DASHBOARD'!$Z$19=\"\",0, ('DATA ENTRY DASHBOARD'!$Z$19))","v":0},null,null,null,"WHITE SPACE IS FOR DATA ENTRY"]
[17,null,null,null,null,null,null,null,null,{"$f":"IF($J16=\"\",\"\", $J16/$H16)","v":{"$error":"#DIV/0!"}},{"$f":"IF(K16=\"\",\"\", K16/$H16)","v":{"$error":"#DIV/0!"}},{"$error":"#DIV/0!"},{"$error":"#DIV/0!"},{"$error":"#DIV/0!"},{"$error":"#DIV/0!"},{"$error":"#DIV/0!"},{"$error":"#DIV/0!"},{"$error":"#DIV/0!"},{"$error":"#DIV/0!"},{"$error":"#DIV/0!"},{"$error":"#DIV/0!"},{"$error":"#DIV/0!"},{"$error":"#DIV/0!"},{"$error":"#DIV/0!"},{"$error":"#DIV/0!"},{"$error":"#DIV/0!"},null,null,null,"PALE BLUE CONTAINS LABELS, INSTRUCTIONS OR COMMENTS, SOMETIMES BACKGROUND"]
[18,"Sample Day 6",{"$f":"'DATA ENTRY DASHBOARD'!$C$21","v":"00:00:00"},{"$f":"IF('DATA ENTRY DASHBOARD'!$D$21=\"\",\"\", ('DATA ENTRY DASHBOARD'!$D$21))","v":""},{"$f":"IF('DATA ENTRY DASHBOARD'!$E$21=\"\",\"\", ('DATA ENTRY DASHBOARD'!$E$21))","v":""},{"$f":"IF('DATA ENTRY DASHBOARD'!$F$21=\"\",\"\", ('DATA ENTRY DASHBOARD'!$F$21))","v":""},{"$f":"IF('DATA ENTRY DASHBOARD'!$G$21=\"\",\"\", ('DATA ENTRY DASHBOARD'!$G$21))","v":""},{"$f":"SUM(J18:Z18)","v":0},null,{"$f":"IF('DATA ENTRY DASHBOARD'!$J$21=\"\",0, ('DATA ENTRY DASHBOARD'!$J$21))","v":0},{"$f":"IF('DATA ENTRY DASHBOARD'!$K$21=\"\",0, ('DATA ENTRY DASHBOARD'!$K$21))","v":0},{"$f":"IF('DATA ENTRY DASHBOARD'!$L$21=\"\",0, ('DATA ENTRY DASHBOARD'!$L$21))","v":0},{"$f":"IF('DATA ENTRY DASHBOARD'!$M$21=\"\",0, ('DATA ENTRY DASHBOARD'!$M$21))","v":0},{"$f":"IF('DATA ENTRY DASHBOARD'!$N$21=\"\",0, ('DATA ENTRY DASHBOARD'!$N$21))","v":0},{"$f":"IF('DATA ENTRY DASHBOARD'!$O$21=\"\",0, ('DATA ENTRY DASHBOARD'!$O$21))","v":0},{"$f":"IF('DATA ENTRY DASHBOARD'!$P$21=\"\",0, ('DATA ENTRY DASHBOARD'!$P$21))","v":0},{"$f":"IF('DATA ENTRY DASHBOARD'!$Q$21=\"\",0, ('DATA ENTRY DASHBOARD'!$Q$21))","v":0},{"$f":"IF('DATA ENTRY DASHBOARD'!$R$21=\"\",0, ('DATA ENTRY DASHBOARD'!$R$21))","v":0},{"$f":"IF('DATA ENTRY DASHBOARD'!$S$21=\"\",0, ('DATA ENTRY DASHBOARD'!$S$21))","v":0},{"$f":"IF('DATA ENTRY DASHBOARD'!$T$21=\"\",0, ('DATA ENTRY DASHBOARD'!$T$21))","v":0},{"$f":"IF('DATA ENTRY DASHBOARD'!$U$21=\"\",0, ('DATA ENTRY DASHBOARD'!$U$21))","v":0},{"$f":"IF('DATA ENTRY DASHBOARD'!$V$21=\"\",0, ('DATA ENTRY DASHBOARD'!$V$21))","v":0},{"$f":"IF('DATA ENTRY DASHBOARD'!$W$21=\"\",0, ('DATA ENTRY DASHBOARD'!$W$21))","v":0},{"$f":"IF('DATA ENTRY DASHBOARD'!$X$21=\"\",0, ('DATA ENTRY DASHBOARD'!$X$21))","v":0},{"$f":"IF('DATA ENTRY DASHBOARD'!$Y$21=\"\",0, ('DATA ENTRY DASHBOARD'!$Y$21))","v":0},{"$f":"IF('DATA ENTRY DASHBOARD'!$Z$21=\"\",0, ('DATA ENTRY DASHBOARD'!$Z$21))","v":0},null,null,null,"MEDIUM BLUE CONTAINS OR REPEATS INFORMATION, MOST BACKGROUND"]
[19,null,null,null,null,null,null,null,null,{"$f":"IF($J18=\"\",\"\", $J18/$H18)","v":{"$error":"#DIV/0!"}},{"$f":"IF(K18=\"\",\"\", K18/$H18)","v":{"$error":"#DIV/0!"}},{"$error":"#DIV/0!"},{"$error":"#DIV/0!"},{"$error":"#DIV/0!"},{"$error":"#DIV/0!"},{"$error":"#DIV/0!"},{"$error":"#DIV/0!"},{"$error":"#DIV/0!"},{"$error":"#DIV/0!"},{"$error":"#DIV/0!"},{"$error":"#DIV/0!"},{"$error":"#DIV/0!"},{"$error":"#DIV/0!"},{"$error":"#DIV/0!"},{"$error":"#DIV/0!"},{"$error":"#DIV/0!"},null,null,null,"LIGHT PURPLE CONTAINS FORMULAS, PRESENTS RESULTS"]
[20,"Sample Day 7",{"$f":"'DATA ENTRY DASHBOARD'!$C$23","v":"00:00:00"},{"$f":"IF('DATA ENTRY DASHBOARD'!$D$23=\"\",\"\", ('DATA ENTRY DASHBOARD'!$D$23))","v":""},{"$f":"IF('DATA ENTRY DASHBOARD'!$E$23=\"\",\"\", ('DATA ENTRY DASHBOARD'!$E$23))","v":""},{"$f":"IF('DATA ENTRY DASHBOARD'!$F$23=\"\",\"\", ('DATA ENTRY DASHBOARD'!$F$23))","v":""},{"$f":"IF('DATA ENTRY DASHBOARD'!$G$23=\"\",\"\", ('DATA ENTRY DASHBOARD'!$G$23))","v":""},{"$f":"SUM(J20:Z20)","v":0},null,{"$f":"IF('DATA ENTRY DASHBOARD'!$J$23=\"\",0, ('DATA ENTRY DASHBOARD'!$J$23))","v":0},{"$f":"IF('DATA ENTRY DASHBOARD'!$K$23=\"\",0, ('DATA ENTRY DASHBOARD'!$K$23))","v":0},{"$f":"IF('DATA ENTRY DASHBOARD'!$L$23=\"\",0, ('DATA ENTRY DASHBOARD'!$L$23))","v":0},{"$f":"IF('DATA ENTRY DASHBOARD'!$M$23=\"\",0, ('DATA ENTRY DASHBOARD'!$M$23))","v":0},{"$f":"IF('DATA ENTRY DASHBOARD'!$N$23=\"\",0, ('DATA ENTRY DASHBOARD'!$N$23))","v":0},{"$f":"IF('DATA ENTRY DASHBOARD'!$O$23=\"\",0, ('DATA ENTRY DASHBOARD'!$O$23))","v":0},{"$f":"IF('DATA ENTRY DASHBOARD'!$P$23=\"\",0, ('DATA ENTRY DASHBOARD'!$P$23))","v":0},{"$f":"IF('DATA ENTRY DASHBOARD'!$Q$23=\"\",0, ('DATA ENTRY DASHBOARD'!$Q$23))","v":0},{"$f":"IF('DATA ENTRY DASHBOARD'!$R$23=\"\",0, ('DATA ENTRY DASHBOARD'!$R$23))","v":0},{"$f":"IF('DATA ENTRY DASHBOARD'!$S$23=\"\",0, ('DATA ENTRY DASHBOARD'!$S$23))","v":0},{"$f":"IF('DATA ENTRY DASHBOARD'!$T$23=\"\",0, ('DATA ENTRY DASHBOARD'!$T$23))","v":0},{"$f":"IF('DATA ENTRY DASHBOARD'!$U$23=\"\",0, ('DATA ENTRY DASHBOARD'!$U$23))","v":0},{"$f":"IF('DATA ENTRY DASHBOARD'!$V$23=\"\",0, ('DATA ENTRY DASHBOARD'!$V$23))","v":0},{"$f":"IF('DATA ENTRY DASHBOARD'!$W$23=\"\",0, ('DATA ENTRY DASHBOARD'!$W$23))","v":0},{"$f":"IF('DATA ENTRY DASHBOARD'!$X$23=\"\",0, ('DATA ENTRY DASHBOARD'!$X$23))","v":0},{"$f":"IF('DATA ENTRY DASHBOARD'!$Y$23=\"\",0, ('DATA ENTRY DASHBOARD'!$Y$23))","v":0},{"$f":"IF('DATA ENTRY DASHBOARD'!$Z$23=\"\",0, ('DATA ENTRY DASHBOARD'!$Z$23))","v":0},null,null,null,"YELLOW IS ALERT FOR A SPECIAL SITUATION"]
[21,null,null,null,null,null,null,null,null,{"$f":"IF($J20=\"\",\"\", $J20/$H20)","v":{"$error":"#DIV/0!"}},{"$f":"IF(K20=\"\",\"\", K20/$H20)","v":{"$error":"#DIV/0!"}},{"$error":"#DIV/0!"},{"$error":"#DIV/0!"},{"$error":"#DIV/0!"},{"$error":"#DIV/0!"},{"$error":"#DIV/0!"},{"$error":"#DIV/0!"},{"$error":"#DIV/0!"},{"$error":"#DIV/0!"},{"$error":"#DIV/0!"},{"$error":"#DIV/0!"},{"$error":"#DIV/0!"},{"$error":"#DIV/0!"},{"$error":"#DIV/0!"},{"$error":"#DIV/0!"},{"$error":"#DIV/0!"}]
[22,"Sample Day 8",{"$f":"'DATA ENTRY DASHBOARD'!$C$25","v":"00:00:00"},{"$f":"IF('DATA ENTRY DASHBOARD'!$D$25=\"\",\"\", ('DATA ENTRY DASHBOARD'!$D$25))","v":""},{"$f":"IF('DATA ENTRY DASHBOARD'!$E$25=\"\",\"\", ('DATA ENTRY DASHBOARD'!$E$25))","v":""},{"$f":"IF('DATA ENTRY DASHBOARD'!$F$25=\"\",\"\", ('DATA ENTRY DASHBOARD'!$F$25))","v":""},{"$f":"IF('DATA ENTRY DASHBOARD'!$G$25=\"\",\"\", ('DATA ENTRY DASHBOARD'!$G$25))","v":""},{"$f":"SUM(J22:Z22)","v":0},null,{"$f":"IF('DATA ENTRY DASHBOARD'!$J$25=\"\",0, ('DATA ENTRY DASHBOARD'!$J$25))","v":0},{"$f":"IF('DATA ENTRY DASHBOARD'!$K$25=\"\",0, ('DATA ENTRY DASHBOARD'!$K$25))","v":0},{"$f":"IF('DATA ENTRY DASHBOARD'!$L$25=\"\",0, ('DATA ENTRY DASHBOARD'!$L$25))","v":0},{"$f":"IF('DATA ENTRY DASHBOARD'!$M$25=\"\",0, ('DATA ENTRY DASHBOARD'!$M$25))","v":0},{"$f":"IF('DATA ENTRY DASHBOARD'!$N$25=\"\",0, ('DATA ENTRY DASHBOARD'!$N$25))","v":0},{"$f":"IF('DATA ENTRY DASHBOARD'!$O$25=\"\",0, ('DATA ENTRY DASHBOARD'!$O$25))","v":0},{"$f":"IF('DATA ENTRY DASHBOARD'!$P$25=\"\",0, ('DATA ENTRY DASHBOARD'!$P$25))","v":0},{"$f":"IF('DATA ENTRY DASHBOARD'!$Q$25=\"\",0, ('DATA ENTRY DASHBOARD'!$Q$25))","v":0},{"$f":"IF('DATA ENTRY DASHBOARD'!$R$25=\"\",0, ('DATA ENTRY DASHBOARD'!$R$25))","v":0},{"$f":"IF('DATA ENTRY DASHBOARD'!$S$25=\"\",0, ('DATA ENTRY DASHBOARD'!$S$25))","v":0},{"$f":"IF('DATA ENTRY DASHBOARD'!$T$25=\"\",0, ('DATA ENTRY DASHBOARD'!$T$25))","v":0},{"$f":"IF('DATA ENTRY DASHBOARD'!$U$25=\"\",0, ('DATA ENTRY DASHBOARD'!$U$25))","v":0},{"$f":"IF('DATA ENTRY DASHBOARD'!$V$25=\"\",0, ('DATA ENTRY DASHBOARD'!$V$25))","v":0},{"$f":"IF('DATA ENTRY DASHBOARD'!$W$25=\"\",0, ('DATA ENTRY DASHBOARD'!$W$25))","v":0},{"$f":"IF('DATA ENTRY DASHBOARD'!$X$25=\"\",0, ('DATA ENTRY DASHBOARD'!$X$25))","v":0},{"$f":"IF('DATA ENTRY DASHBOARD'!$Y$25=\"\",0, ('DATA ENTRY DASHBOARD'!$Y$25))","v":0},{"$f":"IF('DATA ENTRY DASHBOARD'!$Z$25=\"\",0, ('DATA ENTRY DASHBOARD'!$Z$25))","v":0}]
[23,null,null,null,null,null,null,null,null,{"$f":"IF($J22=\"\",\"\", $J22/$H22)","v":{"$error":"#DIV/0!"}},{"$f":"IF(K22=\"\",\"\", K22/$H22)","v":{"$error":"#DIV/0!"}},{"$error":"#DIV/0!"},{"$error":"#DIV/0!"},{"$error":"#DIV/0!"},{"$error":"#DIV/0!"},{"$error":"#DIV/0!"},{"$error":"#DIV/0!"},{"$error":"#DIV/0!"},{"$error":"#DIV/0!"},{"$error":"#DIV/0!"},{"$error":"#DIV/0!"},{"$error":"#DIV/0!"},{"$error":"#DIV/0!"},{"$error":"#DIV/0!"},{"$error":"#DIV/0!"},{"$error":"#DIV/0!"}]
[24,"Sample Day 9",{"$f":"'DATA ENTRY DASHBOARD'!$C$27","v":"00:00:00"},{"$f":"IF('DATA ENTRY DASHBOARD'!$D$27=\"\",\"\", ('DATA ENTRY DASHBOARD'!$D$27))","v":""},{"$f":"IF('DATA ENTRY DASHBOARD'!$E$27=\"\",\"\", ('DATA ENTRY DASHBOARD'!$E$27))","v":""},{"$f":"IF('DATA ENTRY DASHBOARD'!$F$27=\"\",\"\", ('DATA ENTRY DASHBOARD'!$F$27))","v":""},{"$f":"IF('DATA ENTRY DASHBOARD'!$G$27=\"\",\"\", ('DATA ENTRY DASHBOARD'!$G$27))","v":""},{"$f":"SUM(J24:Z24)","v":0},null,{"$f":"IF('DATA ENTRY DASHBOARD'!$J$27=\"\",0, ('DATA ENTRY DASHBOARD'!$J$27))","v":0},{"$f":"IF('DATA ENTRY DASHBOARD'!$K$27=\"\",0, ('DATA ENTRY DASHBOARD'!$K$27))","v":0},{"$f":"IF('DATA ENTRY DASHBOARD'!$L$27=\"\",0, ('DATA ENTRY DASHBOARD'!$L$27))","v":0},{"$f":"IF('DATA ENTRY DASHBOARD'!$M$27=\"\",0, ('DATA ENTRY DASHBOARD'!$M$27))","v":0},{"$f":"IF('DATA ENTRY DASHBOARD'!$N$27=\"\",0, ('DATA ENTRY DASHBOARD'!$N$27))","v":0},{"$f":"IF('DATA ENTRY DASHBOARD'!$O$27=\"\",0, ('DATA ENTRY DASHBOARD'!$O$27))","v":0},{"$f":"IF('DATA ENTRY DASHBOARD'!$P$27=\"\",0, ('DATA ENTRY DASHBOARD'!$P$27))","v":0},{"$f":"IF('DATA ENTRY DASHBOARD'!$Q$27=\"\",0, ('DATA ENTRY DASHBOARD'!$Q$27))","v":0},{"$f":"IF('DATA ENTRY DASHBOARD'!$R$27=\"\",0, ('DATA ENTRY DASHBOARD'!$R$27))","v":0},{"$f":"IF('DATA ENTRY DASHBOARD'!$S$27=\"\",0, ('DATA ENTRY DASHBOARD'!$S$27))","v":0},{"$f":"IF('DATA ENTRY DASHBOARD'!$T$27=\"\",0, ('DATA ENTRY DASHBOARD'!$T$27))","v":0},{"$f":"IF('DATA ENTRY DASHBOARD'!$U$27=\"\",0, ('DATA ENTRY DASHBOARD'!$U$27))","v":0},{"$f":"IF('DATA ENTRY DASHBOARD'!$V$27=\"\",0, ('DATA ENTRY DASHBOARD'!$V$27))","v":0},{"$f":"IF('DATA ENTRY DASHBOARD'!$W$27=\"\",0, ('DATA ENTRY DASHBOARD'!$W$27))","v":0},{"$f":"IF('DATA ENTRY DASHBOARD'!$X$27=\"\",0, ('DATA ENTRY DASHBOARD'!$X$27))","v":0},{"$f":"IF('DATA ENTRY DASHBOARD'!$Y$27=\"\",0, ('DATA ENTRY DASHBOARD'!$Y$27))","v":0},{"$f":"IF('DATA ENTRY DASHBOARD'!$Z$27=\"\",0, ('DATA ENTRY DASHBOARD'!$Z$27))","v":0}]
[25,null,null,null,null,null,null,null,null,{"$f":"IF($J24=\"\",\"\", $J24/$H24)","v":{"$error":"#DIV/0!"}},{"$f":"IF(K24=\"\",\"\", K24/$H24)","v":{"$error":"#DIV/0!"}},{"$error":"#DIV/0!"},{"$error":"#DIV/0!"},{"$error":"#DIV/0!"},{"$error":"#DIV/0!"},{"$error":"#DIV/0!"},{"$error":"#DIV/0!"},{"$error":"#DIV/0!"},{"$error":"#DIV/0!"},{"$error":"#DIV/0!"},{"$error":"#DIV/0!"},{"$error":"#DIV/0!"},{"$error":"#DIV/0!"},{"$error":"#DIV/0!"},{"$error":"#DIV/0!"},{"$error":"#DIV/0!"}]
[26,"Sample Day 10",{"$f":"'DATA ENTRY DASHBOARD'!$C$29","v":"00:00:00"},{"$f":"IF('DATA ENTRY DASHBOARD'!$D$29=\"\",\"\", ('DATA ENTRY DASHBOARD'!$D$29))","v":""},{"$f":"IF('DATA ENTRY DASHBOARD'!$E$29=\"\",\"\", ('DATA ENTRY DASHBOARD'!$E$29))","v":""},{"$f":"IF('DATA ENTRY DASHBOARD'!$F$29=\"\",\"\", ('DATA ENTRY DASHBOARD'!$F$29))","v":""},{"$f":"IF('DATA ENTRY DASHBOARD'!$G$29=\"\",\"\", ('DATA ENTRY DASHBOARD'!$G$29))","v":""},{"$f":"SUM(J26:Z26)","v":0},null,{"$f":"IF('DATA ENTRY DASHBOARD'!$J$29=\"\",0, ('DATA ENTRY DASHBOARD'!$J$29))","v":0},{"$f":"IF('DATA ENTRY DASHBOARD'!$K$29=\"\",0, ('DATA ENTRY DASHBOARD'!$K$29))","v":0},{"$f":"IF('DATA ENTRY DASHBOARD'!$L$29=\"\",0, ('DATA ENTRY DASHBOARD'!$L$29))","v":0},{"$f":"IF('DATA ENTRY DASHBOARD'!$M$29=\"\",0, ('DATA ENTRY DASHBOARD'!$M$29))","v":0},{"$f":"IF('DATA ENTRY DASHBOARD'!$N$29=\"\",0, ('DATA ENTRY DASHBOARD'!$N$29))","v":0},{"$f":"IF('DATA ENTRY DASHBOARD'!$O$29=\"\",0, ('DATA ENTRY DASHBOARD'!$O$29))","v":0},{"$f":"IF('DATA ENTRY DASHBOARD'!$P$29=\"\",0, ('DATA ENTRY DASHBOARD'!$P$29))","v":0},{"$f":"IF('DATA ENTRY DASHBOARD'!$Q$29=\"\",0, ('DATA ENTRY DASHBOARD'!$Q$29))","v":0},{"$f":"IF('DATA ENTRY DASHBOARD'!$R$29=\"\",0, ('DATA ENTRY DASHBOARD'!$R$29))","v":0},{"$f":"IF('DATA ENTRY DASHBOARD'!$S$29=\"\",0, ('DATA ENTRY DASHBOARD'!$S$29))","v":0},{"$f":"IF('DATA ENTRY DASHBOARD'!$T$29=\"\",0, ('DATA ENTRY DASHBOARD'!$T$29))","v":0},{"$f":"IF('DATA ENTRY DASHBOARD'!$U$29=\"\",0, ('DATA ENTRY DASHBOARD'!$U$29))","v":0},{"$f":"IF('DATA ENTRY DASHBOARD'!$V$29=\"\",0, ('DATA ENTRY DASHBOARD'!$V$29))","v":0},{"$f":"IF('DATA ENTRY DASHBOARD'!$W$29=\"\",0, ('DATA ENTRY DASHBOARD'!$W$29))","v":0},{"$f":"IF('DATA ENTRY DASHBOARD'!$X$29=\"\",0, ('DATA ENTRY DASHBOARD'!$X$29))","v":0},{"$f":"IF('DATA ENTRY DASHBOARD'!$Y$29=\"\",0, ('DATA ENTRY DASHBOARD'!$Y$29))","v":0},{"$f":"IF('DATA ENTRY DASHBOARD'!$Z$29=\"\",0, ('DATA ENTRY DASHBOARD'!$Z$29))","v":0}]
[27,null,null,null,null,null,null,null,null,{"$f":"IF($J26=\"\",\"\", $J26/$H26)","v":{"$error":"#DIV/0!"}},{"$f":"IF(K26=\"\",\"\", K26/$H26)","v":{"$error":"#DIV/0!"}},{"$error":"#DIV/0!"},{"$error":"#DIV/0!"},{"$error":"#DIV/0!"},{"$error":"#DIV/0!"},{"$error":"#DIV/0!"},{"$error":"#DIV/0!"},{"$error":"#DIV/0!"},{"$error":"#DIV/0!"},{"$error":"#DIV/0!"},{"$error":"#DIV/0!"},{"$error":"#DIV/0!"},{"$error":"#DIV/0!"},{"$error":"#DIV/0!"},{"$error":"#DIV/0!"},{"$error":"#DIV/0!"}]
[28,null,null,null,null,null,null,{"$f":"SUM(H8+H10+H12+H14+H16+H18+H20+H22+H24+H26)","v":0},null,{"$f":"SUM(J8+J10+J12+J14+J16+J18+J20+J22+J24+J26)","v":0},{"$f":"SUM(K8+K10+K12+K14+K16+K18+K20+K22+K24+K26)","v":0},{"$f":"SUM(L8+L10+L12+L14+L16+L18+L20+L22+L24+L26)","v":0},0,0,{"$f":"SUM(O8+O10+O12+O14+O16+O18+O20+O22+O24+O26)","v":0},0,0,0,{"$f":"SUM(S8+S10+S12+S14+S16+S18+S20+S22+S24+S26)","v":0},0,0,0,0,0,{"$f":"SUM(Y8+Y10+Y12+Y14+Y16+Y18+Y20+Y22+Y24+Y26)","v":0},{"$f":"SUM(Z8+Z10+Z12+Z14+Z16+Z18+Z20+Z22+Z24+Z26)","v":0}]
[29,null,null,null,null,null,"TOT #s / month↑",null,null,"TOT SP #s / MONTH↑"]
[30,null,null,null,null,null,null,null,"% by month by type →",{"$f":"IF($H28=0,0,J28/$H28)","v":0},{"$f":"IF($H28=0,0,K28/$H28)","v":0},0,0,0,0,0,0,0,0,0,0,0,0,0,0,0]
[31,"B","C","D","E","F","G",null,"# Days Processing",{"$f":"IF('DATA ENTRY DASHBOARD'!J$34=\"\",0, ('DATA ENTRY DASHBOARD'!J$34))","v":0},{"$f":"IF('DATA ENTRY DASHBOARD'!K$34=\"\",0, ('DATA ENTRY DASHBOARD'!K$34))","v":0},{"$f":"IF('DATA ENTRY DASHBOARD'!L$34=\"\",0, ('DATA ENTRY DASHBOARD'!L$34))","v":0},{"$f":"IF('DATA ENTRY DASHBOARD'!M$34=\"\",0, ('DATA ENTRY DASHBOARD'!M$34))","v":0},{"$f":"IF('DATA ENTRY DASHBOARD'!N$34=\"\",0, ('DATA ENTRY DASHBOARD'!N$34))","v":0},{"$f":"IF('DATA ENTRY DASHBOARD'!O$34=\"\",0, ('DATA ENTRY DASHBOARD'!O$34))","v":0},{"$f":"IF('DATA ENTRY DASHBOARD'!P$34=\"\",0, ('DATA ENTRY DASHBOARD'!P$34))","v":0},{"$f":"IF('DATA ENTRY DASHBOARD'!Q$34=\"\",0, ('DATA ENTRY DASHBOARD'!Q$34))","v":0},{"$f":"IF('DATA ENTRY DASHBOARD'!R$34=\"\",0, ('DATA ENTRY DASHBOARD'!R$34))","v":0},{"$f":"IF('DATA ENTRY DASHBOARD'!S$34=\"\",0, ('DATA ENTRY DASHBOARD'!S$34))","v":0},{"$f":"IF('DATA ENTRY DASHBOARD'!T$34=\"\",0, ('DATA ENTRY DASHBOARD'!T$34))","v":0},{"$f":"IF('DATA ENTRY DASHBOARD'!U$34=\"\",0, ('DATA ENTRY DASHBOARD'!U$34))","v":0},{"$f":"IF('DATA ENTRY DASHBOARD'!V$34=\"\",0, ('DATA ENTRY DASHBOARD'!V$34))","v":0},{"$f":"IF('DATA ENTRY DASHBOARD'!W$34=\"\",0, ('DATA ENTRY DASHBOARD'!W$34))","v":0},{"$f":"IF('DATA ENTRY DASHBOARD'!X$34=\"\",0, ('DATA ENTRY DASHBOARD'!X$34))","v":0},{"$f":"IF('DATA ENTRY DASHBOARD'!Y$34=\"\",0, ('DATA ENTRY DASHBOARD'!Y$34))","v":0},{"$f":"IF('DATA ENTRY DASHBOARD'!Z$34=\"\",0, ('DATA ENTRY DASHBOARD'!Z$34))","v":0}]
[32,3,"CALCULATIONS PERFORMED AUTOMATICALLY.  DO NOT ENTER ANYTHING HERE.                                                                                                            (Discharged Load in lbs pollutant / 1000-lbs total processing of the day) "]
[33,null,null,"Flow                               MGD","LAB RESULT  Concentration  mg/L","Conv Factor    8.34                          (WT WATER LB/GAL)","Pounds Pollutant Discharged Daily Values","1000-pounds' processed by sample day","Discharge Load #/1000-#"]
[34,"Sample Day 1","BOD RESULTS",{"$f":"$D$8","v":""},{"$f":"$E$8","v":""},8.34,{"$f":"IF(D34=\"\",0, IF(E34=\"\",0, D34*E34*F34))","v":0},{"$f":"$H$8/1000","v":0},{"$f":"IFERROR(G34/H34,0)","v":0},"BOD is the abbreviation  for the  pollutant named Biochemical Oxygen Demand and refers to 5-day BOD analysed by an approved method from 40 CFR 136."]
[35,"Sample Day 2","BOD RESULTS",{"$f":"$D$10","v":""},{"$f":"$E$10","v":""},8.34,{"$f":"IF(D35=\"\",0, IF(E35=\"\",0, D35*E35*F35))","v":0},{"$f":"$H$10/1000","v":0},0]
[36,"Sample Day 3","BOD RESULTS",{"$f":"$D$12","v":""},{"$f":"$E$12","v":""},8.34,0,{"$f":"$H$12/1000","v":0},0]
[37,"Sample Day 4","BOD RESULTS",{"$f":"$D$14","v":""},{"$f":"$E$14","v":""},8.34,0,{"$f":"$H$14/1000","v":0},0]
[38,"Sample Day 5","BOD RESULTS",{"$f":"$D$16","v":""},{"$f":"$E$16","v":""},8.34,0,{"$f":"$H$16/1000","v":0},0]
[39,"Sample Day 6","BOD RESULTS",{"$f":"$D$18","v":""},{"$f":"$E$18","v":""},8.34,0,{"$f":"$H$18/1000","v":0},0]
[40,"Sample Day 7","BOD RESULTS",{"$f":"$D$20","v":""},{"$f":"$E$20","v":""},8.34,0,{"$f":"$H$20/1000","v":0},0]
[41,"Sample Day 8","BOD RESULTS",{"$f":"$D$22","v":""},{"$f":"$E$22","v":""},8.34,0,{"$f":"$H$22/1000","v":0},0]
[42,"Sample Day 9","BOD RESULTS",{"$f":"$D$24","v":""},{"$f":"$E$24","v":""},8.34,0,{"$f":"$H$24/1000","v":0},0]
[43,"Sample Day 10","BOD RESULTS",{"$f":"$D$26","v":""},{"$f":"$E$26","v":""},8.34,0,{"$f":"$H$26/1000","v":0},0]
[44,"Monthly TOTAL ","BOD RESULTS","--","--","--",{"$f":"SUM(G34:G43)","v":0},{"$f":"SUM(H34:H43)","v":0},0]
[45,"Sample Day 1","TSS RESULTS",{"$f":"$D$8","v":""},{"$f":"$F$8","v":""},8.34,0,{"$f":"$H$8/1000","v":0},0,"TSS is the abbreviation for the pollutant called Total Suspended Solids as analyzed by an approved method from 40 CFR 136."]
[46,"Sample Day 2","TSS RESULTS",{"$f":"$D$10","v":""},{"$f":"$F$10","v":""},8.34,0,{"$f":"$H$10/1000","v":0},0,"TSS is formally called Residue- non-filterable (40 CFR 136.3(a) Table 1B item 55)."]
[47,"Sample Day 3","TSS RESULTS",{"$f":"$D$12","v":""},{"$f":"$F$12","v":""},8.34,0,{"$f":"$H$12/1000","v":0},0]
[48,"Sample Day 4","TSS RESULTS",{"$f":"$D$14","v":""},{"$f":"$F$14","v":""},8.34,0,{"$f":"$H$14/1000","v":0},0]
[49,"Sample Day 5","TSS RESULTS",{"$f":"$D$16","v":""},{"$f":"$F$16","v":""},8.34,0,{"$f":"$H$16/1000","v":0},0]
[50,"Sample Day 6","TSS RESULTS",{"$f":"$D$18","v":""},{"$f":"$F$18","v":""},8.34,0,{"$f":"$H$18/1000","v":0},0]
[51,"Sample Day 7","TSS RESULTS",{"$f":"$D$20","v":""},{"$f":"$F$20","v":""},8.34,0,{"$f":"$H$20/1000","v":0},0]
[52,"Sample Day 8","TSS RESULTS",{"$f":"$D$22","v":""},{"$f":"$F$22","v":""},8.34,0,{"$f":"$H$22/1000","v":0},0]
[53,"Sample Day 9","TSS RESULTS",{"$f":"$D$24","v":""},{"$f":"$F$24","v":""},8.34,0,{"$f":"$H$24/1000","v":0},0]
[54,"Sample Day 10","TSS RESULTS",{"$f":"$D$26","v":""},{"$f":"$F$26","v":""},8.34,0,{"$f":"$H$26/1000","v":0},0]
[55,"Monthly TOTAL ","TSS RESULTS","--","--","--",{"$f":"SUM(G45:G54)","v":0},{"$f":"SUM(H45:H54)","v":0},0]
[56,"Sample Day 1","O &G RESULTS",{"$f":"$D$8","v":""},{"$f":"$G$8","v":""},8.34,0,{"$f":"$H$8/1000","v":0},0,"O&G is the abbreviation for the pollutant called Oil and Grease as analyzed by an approved method from 40CFR 136."]
[57,"Sample Day 2","O &G RESULTS",{"$f":"$D$10","v":""},{"$f":"$G$10","v":""},8.34,0,{"$f":"$H$10/1000","v":0},0]
[58,"Sample Day 3","O &G RESULTS",{"$f":"$D$12","v":""},{"$f":"$G$12","v":""},8.34,0,{"$f":"$H$12/1000","v":0},0]
[59,"Sample Day 4","O &G RESULTS",{"$f":"$D$14","v":""},{"$f":"$G$14","v":""},8.34,0,{"$f":"$H$14/1000","v":0},0]
[60,"Sample Day 5","O &G RESULTS",{"$f":"$D$16","v":""},{"$f":"$G$16","v":""},8.34,0,{"$f":"$H$16/1000","v":0},0]
[61,"Sample Day 6","O &G RESULTS",{"$f":"$D$18","v":""},{"$f":"$G$18","v":""},8.34,0,{"$f":"$H$18/1000","v":0},0]
[62,"Sample Day 7","O &G RESULTS",{"$f":"$D$20","v":""},{"$f":"$G$20","v":""},8.34,0,{"$f":"$H$20/1000","v":0},0]
[63,"Sample Day 8","O &G RESULTS",{"$f":"$D$22","v":""},{"$f":"$G$22","v":""},8.34,0,{"$f":"$H$22/1000","v":0},0]
[64,"Sample Day 9","O &G RESULTS",{"$f":"$D$24","v":""},{"$f":"$G$24","v":""},8.34,0,{"$f":"$H$24/1000","v":0},0]
[65,"Sample Day 10","O &G RESULTS",{"$f":"$D$26","v":""},{"$f":"$G$26","v":""},8.34,0,{"$f":"$H$26/1000","v":0},0]
[66,"Monthly TOTAL ","O &G RESULTS","--","--","--",{"$f":"SUM(G56:G65)","v":0},{"$f":"SUM(H56:H65)","v":0},0]
[67]
[68,4,"RECAP DAILY TBELS HERE (NSPS) BY PARAMETER & SPECIES/PROCESS-TYPE                                                                                                                                                                                                                                              all TBELs are expressed in pounds of pollutant per thousand-pounds of seafood processed abbreviated as   #/ 1000-#",null,null,null,null,null,null,null,null,null,"RECAP TBELS HERE BY PARAMETER & SPECIES/PROCESS-TYPE"]
[69,"B","C","D","E","F","G","H","I","J","K","L","M","N","O","P","Q","R","S"]
[70,"PARAMETER","CRAB"," N.SHRIMP","BFC        BOTTOM FISH CONV"," BFM      BOTTOM FISH MECH","SALMON HB"," SALMON MECH","BPJ           WHOLE FROZEN RAW SHRIMP"," HERRING  (Sardine Steaked)","OYSTER HAND SHUCK","FISH MEAL","CLAM HAND SHUCK","CLAM MECH","BREADED SHRIMP CONTIGUOUS STATES","TUNA                (canned)       ","OYSTER  STEAMED & CANNED","SARDINES CANNED","SCALLOP"]
[71,"BOD - Dly Mx",10,155,1.2,13,2.7,62,51,16,null,6.7,null,15,100,20,67]
[72,"TSS - Dly Mx",1.7,38,1.5,5.3,0.7,13,13,7,45,3.7,55,26,55,7.5,56,36,5.7]
[73,"O&G Dly Mx",0.25,14,7.6999999999999999E-2,1.2,4.4999999999999998E-2,4.2,4.5999999999999996,2.9,2.2000000000000002,1.4,0.56000000000000005,0.4,3.8,1.9,0.84,1.4,7.3]
[74]
[75,5,"CALCULATIONS PERFORMED AUTOMATICALLY.  DO NOT ENTER ANYTHING HERE.                                                                                                                                                                                          SPREADSHEET WILL ALLOCATE LOAD BY SPECIES AND SAMPLE DAY.       DIRECT COMPARE TO TBEL FOR COMPLIANCE",null,null,null,null,null,null,null,null,null,null,"CALCULATIONS PERFORMED AUTOMATICALLY.  DO NOT ENTER ANYTHING HERE.                                                                                                                                                                                                                                           SPREADSHEET WILL ALLOCATE LOAD BY SPECIES AND SAMPLE DAY.       DIRECT COMPARE TO TBEL FOR COMPLIANCE",null,null,null,null,null,null,null,null,null,null,null,"CALCULATIONS PERFORMED AUTOMATICALLY.    DO NOT ENTER ANYTHING HERE.                                                                                                                                                                                              SPREADSHEET WILL ALLOCATE LOAD BY SPECIES AND SAMPLE DAY.       DIRECT COMPARE TO TBEL FOR COMPLIANCE"]
[76,"B","C","D","E","F","G","H","I","J","K","L","M","N","O","P","Q","R","S","T","U","V","W","X","Y","Z","AA","AB","AC","AD","AE","AF","AG","AH","AI","AJ","AK"]
[77,"Sample Day 1                                        BOD","BOD Daily Max TBEL",null,"Production Pounds","Pounds of pollutant allowed",null,null,null,null,"Total Load #/1000-#","TSS Daily Max TBEL                        #/1000-#","Compliance               YES /NO","Sample Day 1                                        TSS","TSS Daily Max TBEL",null,"Production Pounds","Pounds of pollutant allowed",null,null,null,null,"Total Load #/1000-#","TSS Daily Max TBEL                        #/1000-#","Compliance              YES/ NO","Sample Day 1                                        O&G","O&G Daily Max TBEL",null,"Production Pounds","Pounds of pollutant allowed",null,null,null,null,"Total Load #/1000-#","TSS Daily Max TBEL                        #/1000-#","Compliance                  YES / NO"]
[78,"CRAB",{"$f":"IF($J$8=0, \"\", $C$71)","v":""},null,{"$f":"$J$8","v":0},{"$f":"IFERROR(C78*E78/1000,\"\")","v":""},null,null,null,null,{"$f":"IFERROR(I34,\"\")","v":0},{"$f":"IFERROR(F96/(E96/1000),\"\")","v":""},{"$f":"IF(L78=\"\", \"\", IF(L78=0, \"\", IF(K78=0, \"\", IF(K78<L78, \"YES\",\"NO\"))))","v":""},"CRAB",{"$f":"IF($J$8=0, \"\", $C$72)","v":""},null,{"$f":"$J$8","v":0},{"$f":"IFERROR(O78*Q78/1000,\"\")","v":""},null,null,null,null,{"$f":"IFERROR(I45,\"\")","v":0},{"$f":"IFERROR(R96/(Q96/1000),\"\")","v":""},{"$f":"IF(X78=\"\", \"\", IF(X78=0, \"\", IF(W78=0, \"\", IF(W78<X78, \"YES\",\"NO\"))))","v":""},"CRAB",{"$f":"IF($J$8=0, \"\", $C$73)","v":""},null,{"$f":"$J$8","v":0},{"$f":"IFERROR(AA78*AC78/1000,\"\")","v":""},null,null,null,null,{"$f":"IFERROR(I56,\"\")","v":0},{"$f":"IFERROR(AD96/(AC96/1000),\"\")","v":""},{"$f":"IF(AJ78=\"\", \"\", IF(AJ78=0, \"\", IF(AI78=0, \"\", IF(AI78<AJ78, \"YES\",\"NO\"))))","v":""}]
[79,"SHRIMP",{"$f":"IF($K$8=0, \"\", $D$71)","v":""},null,{"$f":"$K$8","v":0},{"$f":"IFERROR(C79*E79/1000,\"\")","v":""},null,null,null,null,null,null,"","SHRIMP",{"$f":"IF($K$8=0, \"\", $D$72)","v":""},null,{"$f":"$K$8","v":0},{"$f":"IFERROR(O79*Q79/1000,\"\")","v":""},null,null,null,null,null,null,"","SHRIMP",{"$f":"IF($K$8=0, \"\", $D$73)","v":""},null,{"$f":"$K$8","v":0},{"$f":"IFERROR(AA79*AC79/1000,\"\")","v":""},null,null,null,null,null,null,{"$f":"IF(AJ79=\"\", \"\", IF(AJ79=0, \"\", IF(AI79=0, \"\", IF(AI79<AJ79, \"YES\",\"NO\"))))","v":""}]
[80,"BF CONV",{"$f":"IF($L$8=0, \"\", $E$71)","v":""},null,{"$f":"$L$8","v":0},"",null,null,null,null,null,null,"","BF CONV",{"$f":"IF($L$8=0, \"\", $E$72)","v":""},null,{"$f":"$L$8","v":0},"",null,null,null,null,null,null,"","BF CONV",{"$f":"IF($L$8=0, \"\", $E$73)","v":""},null,{"$f":"$L$8","v":0},"",null,null,null,null,null,null,""]
[81,"BF MECH",{"$f":"IF($M$8=0, \"\", $F$71)","v":""},null,{"$f":"$M$8","v":0},"",null,null,null,null,null,null,"","BF MECH",{"$f":"IF($M$8=0, \"\", $F$72)","v":""},null,{"$f":"$M$8","v":0},"",null,null,null,null,null,null,"","BF MECH",{"$f":"IF($M$8=0, \"\", $F$73)","v":""},null,{"$f":"$M$8","v":0},"",null,null,null,null,null,null,""]
[82,"SALMON HB",{"$f":"IF($N$8=0, \"\", $G$71)","v":""},null,{"$f":"$N$8","v":0},"",null,null,null,null,null,null,"","SALMON HB",{"$f":"IF($N$8=0, \"\", $G$72)","v":""},null,{"$f":"$N$8","v":0},"",null,null,null,null,null,null,"","SALMON HB",{"$f":"IF($N$8=0, \"\", $G$73)","v":""},null,{"$f":"$N$8","v":0},"",null,null,null,null,null,null,""]
[83,"SALMON MECH",{"$f":"IF($O$8=0, \"\", $H$71)","v":""},null,{"$f":"$O$8","v":0},"",null,null,null,null,null,null,"","SALMON MECH",{"$f":"IF($O$8=0, \"\", $H$72)","v":""},null,{"$f":"$O$8","v":0},"",null,null,null,null,null,null,"","SALMON MECH",{"$f":"IF($O$8=0, \"\", $H$73)","v":""},null,{"$f":"$O$8","v":0},"",null,null,null,null,null,null,""]
[84,"WHOLE FROZ RAW SHRIMP",{"$f":"IF($P$8=0, \"\", $G$71)","v":""},null,{"$f":" $P$8","v":0},"",null,null,null,null,null,null,"","WHOLE FROZ RAW SHRIMP",{"$f":"IF($P$8=0, \"\", $G$72)","v":""},null,{"$f":"$P$8","v":0},"",null,null,null,null,null,null,"","WHOLE FROZ RAW SHRIMP",{"$f":"IF($P$8=0, \"\", $G$73)","v":""},null,{"$f":"$P$8","v":0},"",null,null,null,null,null,null,""]
[85,"HERRING STEAKED (SARDINES)",{"$f":"IF($Q$8=0, \"\", $J$71)","v":""},null,{"$f":"$Q$8","v":0},"",null,null,null,null,null,null,"","HERRING STEAKED (SARDINES)",{"$f":"IF($Q$8=0, \"\", $J$72)","v":""},null,{"$f":"$Q$8","v":0},"",null,null,null,null,null,null,"","HERRING STEAKED (SARDINES)",{"$f":"IF($Q$8=0, \"\", $J$73)","v":""},null,{"$f":"$Q$8","v":0},"",null,null,null,null,null,null,""]
[86,"OYSTERS HS",{"$f":"IF($R$8=0, \"\", $K$71)","v":""},null,{"$f":"$R$8","v":0},"",null,null,null,null,null,null,"","OYSTERS HS",{"$f":"IF($R$8=0, \"\", $K$72)","v":""},null,{"$f":"$R$8","v":0},"",null,null,null,null,null,null,"","OYSTERS HS",{"$f":"IF($R$8=0, \"\", $K$73)","v":""},null,{"$f":"$R$8","v":0},"",null,null,null,null,null,null,""]
[87,"FISH MEAL",{"$f":"IF($S$8=0, \"\", $L$71)","v":""},null,{"$f":"$S$8","v":0},"",null,null,null,null,null,null,"","FISH MEAL",{"$f":"IF($S$8=0, \"\", $L$72)","v":""},null,{"$f":"$S$8","v":0},"",null,null,null,null,null,null,"","FISH MEAL",{"$f":"IF($S$8=0, \"\", $L$73)","v":""},null,{"$f":"$S$8","v":0},"",null,null,null,null,null,null,""]
[88,"CLAM HS",{"$f":"IF($T$8=0, \"\", $M$71)","v":""},null,{"$f":"$T$8","v":0},"",null,null,null,null,null,null,"","CLAM HS",{"$f":"IF($T$8=0, \"\", $M$72)","v":""},null,{"$f":"$T$8","v":0},"",null,null,null,null,null,null,"","CLAM HS",{"$f":"IF($T$8=0, \"\", $M$73)","v":""},null,{"$f":"$T$8","v":0},"",null,null,null,null,null,null,""]
[89,"CLAM MECH",{"$f":"IF($U$8=0, \"\", $N$71)","v":""},null,{"$f":"$U$8","v":0},"",null,null,null,null,null,null,"","CLAM MECH",{"$f":"IF($U$8=0, \"\", $N$72)","v":""},null,{"$f":"$U$8","v":0},"",null,null,null,null,null,null,"","CLAM MECH",{"$f":"IF($U$8=0, \"\", $N$73)","v":""},null,{"$f":"$U$8","v":0},"",null,null,null,null,null,null,""]
[90,"BREADED SHRIMP",{"$f":"IF($V$8=0, \"\", $O$71)","v":""},null,{"$f":"$V$8","v":0},"",null,null,null,null,null,null,"","BREADED SHRIMP",{"$f":"IF($V$8=0, \"\", $O$72)","v":""},null,{"$f":"$V$8","v":0},"",null,null,null,null,null,null,"","BREADED SHRIMP",{"$f":"IF($V$8=0, \"\", $O$73)","v":""},null,{"$f":"$V$8","v":0},"",null,null,null,null,null,null,""]
[91,"TUNA-CANNED",{"$f":"IF($W$8=0, \"\", $P$71)","v":""},null,{"$f":"$W$8","v":0},"",null,null,null,null,null,null,"","TUNA-CANNED",{"$f":"IF($W$8=0, \"\", $P$72)","v":""},null,{"$f":"$W$8","v":0},"",null,null,null,null,null,null,"","TUNA-CANNED",{"$f":"IF($W$8=0, \"\", $P$73)","v":""},null,{"$f":"$W$8","v":0},"",null,null,null,null,null,null,""]
[92,"OYSTERS CANNED",{"$f":"IF($X$8=0, \"\", $Q$71)","v":""},null,{"$f":"$X$8","v":0},"",null,null,null,null,null,null,"","OYSTERS CANNED",{"$f":"IF($X$8=0, \"\", $Q$72)","v":""},null,{"$f":"$X$8","v":0},"",null,null,null,null,null,null,"","OYSTERS CANNED",{"$f":"IF($X$8=0, \"\", $Q$73)","v":""},null,{"$f":"$X$8","v":0},"",null,null,null,null,null,null,""]
[93,"SARDINES CANNED",{"$f":"IF($Y$8=0, \"\", $R$71)","v":""},null,{"$f":"$Y$8","v":0},"",null,null,null,null,null,null,"","SARDINES CANNED",{"$f":"IF($Y$8=0, \"\", $R$72)","v":""},null,{"$f":"$Y$8","v":0},"",null,null,null,null,null,null,"","SARDINES CANNED",{"$f":"IF($Y$8=0, \"\", $R$73)","v":""},null,{"$f":"$Y$8","v":0},"",null,null,null,null,null,null,""]
[94,"SCALLOPS",{"$f":"IF($Z$8=0, \"\", $S$71)","v":""},null,{"$f":"$Z$8","v":0},"",null,null,null,null,null,null,"","SCALLOPS",{"$f":"IF($Z$8=0, \"\", $S$72)","v":""},null,{"$f":"$Z$8","v":0},"",null,null,null,null,null,null,"","SCALLOPS",{"$f":"IF($Z$8=0, \"\", $S$73)","v":""},null,{"$f":"$Z$8","v":0},"",null,null,null,null,null,null,""]
[95]
[96,"Sum",null,null,{"$f":"SUM(E78:E94)","v":0},{"$f":"SUM(F78:F94)","v":0},null,null,null,null,null,null,null,"Sum",null,{"$f":"SUM(P78:P94)","v":0},0,0,null,null,null,null,null,null,null,"Sum",null,{"$f":"SUM(AB78:AB94)","v":0},0,0]
[97]
[98,"Sample Day 2                                        BOD","BOD Daily Max TBEL",null,"Production Pounds","Pounds of pollutant allowed",null,null,null,null,"Total Load #/1000-#","TSS Daily Max TBEL                        #/1000-#","Compliance                  YES / NO","Sample Day 2                                        TSS","TSS Daily Max TBEL",null,"Production Pounds","Pounds of pollutant allowed",null,null,null,null,"Total Load #/1000-#","TSS Daily Max TBEL                        #/1000-#","Compliance                  YES / NO","Sample Day 2                                        O&G","O&G Daily Max TBEL",null,"Production Pounds","Pounds of pollutant allowed",null,null,null,null,"Total Load #/1000-#","TSS Daily Max TBEL                        #/1000-#","Compliance                  YES / NO"]
[99,"CRAB",{"$f":"IF($J$10=0, \"\", $C$71)","v":""},null,{"$f":"$J$10","v":0},{"$f":"IFERROR(C99*E99/1000,\"\")","v":""},null,null,null,null,{"$f":"IFERROR(I35,\"\")","v":0},{"$f":"IFERROR(F117/(E117/1000),\"\")","v":""},{"$f":"IF(L99=\"\", \"\", IF(L99=0, \"\", IF(K99=0, \"\", IF(K99<L99, \"YES\",\"NO\"))))","v":""},"CRAB",{"$f":"IF($J$10=0, \"\", $C$72)","v":""},null,{"$f":"$J$10","v":0},{"$f":"IFERROR(O99*Q99/1000,\"\")","v":""},null,null,null,null,{"$f":"IFERROR(I46,\"\")","v":0},{"$f":"IFERROR(R117/(Q117/1000),\"\")","v":""},{"$f":"IF(X99=\"\", \"\", IF(X99=0, \"\", IF(W99=0, \"\", IF(W99<X99, \"YES\",\"NO\"))))","v":""},"CRAB",{"$f":"IF($J$10=0, \"\", $C$73)","v":""},null,{"$f":"$J$10","v":0},{"$f":"IFERROR(AA99*AC99/1000,\"\")","v":""},null,null,null,null,{"$f":"IFERROR(I57,\"\")","v":0},{"$f":"IFERROR(AD117/(AC117/1000),\"\")","v":""},{"$f":"IF(AJ99=\"\", \"\", IF(AJ99=0, \"\", IF(AI99=0, \"\", IF(AI99<AJ99, \"YES\",\"NO\"))))","v":""}]
[100,"SHRIMP",{"$f":"IF($K$10=0, \"\", $D$71)","v":""},null,{"$f":"$K$10","v":0},{"$f":"IFERROR(C100*E100/1000,\"\")","v":""},null,null,null,null,null,null,"","SHRIMP",{"$f":"IF($K$10=0, \"\", $D$72)","v":""},null,{"$f":"$K$10","v":0},{"$f":"IFERROR(O100*Q100/1000,\"\")","v":""},null,null,null,null,null,null,"","SHRIMP",{"$f":"IF($K$10=0, \"\", $D$73)","v":""},null,{"$f":"$K$10","v":0},{"$f":"IFERROR(AA100*AC100/1000,\"\")","v":""},null,null,null,null,null,null,""]
[101,"BF CONV",{"$f":"IF($L$10=0, \"\", $E$71)","v":""},null,{"$f":"$L$10","v":0},"",null,null,null,null,null,null,"","BF CONV",{"$f":"IF($L$10=0, \"\", $E$72)","v":""},null,{"$f":"$L$10","v":0},"",null,null,null,null,null,null,"","BF CONV",{"$f":"IF($L$10=0, \"\", $E$73)","v":""},null,{"$f":"$L$10","v":0},"",null,null,null,null,null,null,""]
[102,"BF MECH",{"$f":"IF($M$10=0, \"\", $F$71)","v":""},null,{"$f":"$M$10","v":0},"",null,null,null,null,null,null,"","BF MECH",{"$f":"IF($M$10=0, \"\", $F$72)","v":""},null,{"$f":"$M$10","v":0},"",null,null,null,null,null,null,"","BF MECH",{"$f":"IF($M$10=0, \"\", $F$73)","v":""},null,{"$f":"$M$10","v":0},"",null,null,null,null,null,null,""]
[103,"SALMON HB",{"$f":"IF($N$10=0, \"\", $G$71)","v":""},null,{"$f":"$N$10","v":0},"",null,null,null,null,null,null,"","SALMON HB",{"$f":"IF($N$10=0, \"\", $G$72)","v":""},null,{"$f":"$N$10","v":0},"",null,null,null,null,null,null,"","SALMON HB",{"$f":"IF($N$10=0, \"\", $G$73)","v":""},null,{"$f":"$N$10","v":0},"",null,null,null,null,null,null,""]
[104,"SALMON MECH",{"$f":"IF($O$10=0, \"\", $H$71)","v":""},null,{"$f":"$O$10","v":0},"",null,null,null,null,null,null,"","SALMON MECH",{"$f":"IF($O$10=0, \"\", $H$72)","v":""},null,{"$f":"$O$10","v":0},"",null,null,null,null,null,null,"","SALMON MECH",{"$f":"IF($O$10=0, \"\", $H$73)","v":""},null,{"$f":"$O$10","v":0},"",null,null,null,null,null,null,""]
[105,"WHOLE FROZ RAW SHRIMP",{"$f":"IF($P$10=0, \"\", $G$71)","v":""},null,{"$f":"$P$10","v":0},"",null,null,null,null,null,null,"","WHOLE FROZ RAW SHRIMP",{"$f":"IF($P$10=0, \"\", $G$72)","v":""},null,{"$f":"$P$10","v":0},"",null,null,null,null,null,null,"","WHOLE FROZ RAW SHRIMP",{"$f":"IF($P$10=0, \"\", $G$73)","v":""},null,{"$f":"$P$10","v":0},"",null,null,null,null,null,null,""]
[106,"HERRING STEAKED (SARDINES)",{"$f":"IF($Q$10=0, \"\", $J$71)","v":""},null,{"$f":"$Q$10","v":0},"",null,null,null,null,null,null,"","HERRING STEAKED (SARDINES)",{"$f":"IF($Q$10=0, \"\", $J$72)","v":""},null,{"$f":"$Q$10","v":0},"",null,null,null,null,null,null,"","HERRING STEAKED (SARDINES)",{"$f":"IF($Q$10=0, \"\", $J$73)","v":""},null,{"$f":"$Q$10","v":0},"",null,null,null,null,null,null,""]
[107,"OYSTERS HS",{"$f":"IF($R$10=0, \"\", $K$71)","v":""},null,{"$f":"$R$10","v":0},"",null,null,null,null,null,null,"","OYSTERS HS",{"$f":"IF($R$10=0, \"\", $K$72)","v":""},null,{"$f":"$R$10","v":0},"",null,null,null,null,null,null,"","OYSTERS HS",{"$f":"IF($R$10=0, \"\", $K$73)","v":""},null,{"$f":"$R$10","v":0},"",null,null,null,null,null,null,""]
[108,"FISH MEAL",{"$f":"IF($S$10=0, \"\", $L$71)","v":""},null,{"$f":"$S$10","v":0},"",null,null,null,null,null,null,"","FISH MEAL",{"$f":"IF($S$10=0, \"\", $L$72)","v":""},null,{"$f":"$S$10","v":0},"",null,null,null,null,null,null,"","FISH MEAL",{"$f":"IF($S$10=0, \"\", $L$73)","v":""},null,{"$f":"$S$10","v":0},"",null,null,null,null,null,null,""]
[109,"CLAM HS",{"$f":"IF($T$10=0, \"\", $M$71)","v":""},null,{"$f":"$T$10","v":0},"",null,null,null,null,null,null,"","CLAM HS",{"$f":"IF($T$10=0, \"\", $M$72)","v":""},null,{"$f":"$T$10","v":0},"",null,null,null,null,null,null,"","CLAM HS",{"$f":"IF($T$10=0, \"\", $M$73)","v":""},null,{"$f":"$T$10","v":0},"",null,null,null,null,null,null,""]
[110,"CLAM MECH",{"$f":"IF($U$10=0, \"\", $N$71)","v":""},null,{"$f":"$U$10","v":0},"",null,null,null,null,null,null,"","CLAM MECH",{"$f":"IF($U$10=0, \"\", $N$72)","v":""},null,{"$f":"$U$10","v":0},"",null,null,null,null,null,null,"","CLAM MECH",{"$f":"IF($U$10=0, \"\", $N$73)","v":""},null,{"$f":"$U$10","v":0},"",null,null,null,null,null,null,""]
[111,"BREADED SHRIMP",{"$f":"IF($V$10=0, \"\", $O$71)","v":""},null,{"$f":"$V$10","v":0},"",null,null,null,null,null,null,"","BREADED SHRIMP",{"$f":"IF($V$10=0, \"\", $O$72)","v":""},null,{"$f":"$V$10","v":0},"",null,null,null,null,null,null,"","BREADED SHRIMP",{"$f":"IF($V$10=0, \"\", $O$73)","v":""},null,{"$f":"$V$10","v":0},"",null,null,null,null,null,null,""]
[112,"TUNA-CANNED",{"$f":"IF($W$10=0, \"\", $P$71)","v":""},null,{"$f":"$W$10","v":0},"",null,null,null,null,null,null,"","TUNA-CANNED",{"$f":"IF($W$10=0, \"\", $P$72)","v":""},null,{"$f":"$W$10","v":0},"",null,null,null,null,null,null,"","TUNA-CANNED",{"$f":"IF($W$10=0, \"\", $P$73)","v":""},null,{"$f":"$W$10","v":0},"",null,null,null,null,null,null,""]
[113,"OYSTERS CANNED",{"$f":"IF($X$10=0, \"\", $Q$71)","v":""},null,{"$f":"$X$10","v":0},"",null,null,null,null,null,null,"","OYSTERS CANNED",{"$f":"IF($X$10=0, \"\", $Q$72)","v":""},null,{"$f":"$X$10","v":0},"",null,null,null,null,null,null,"","OYSTERS CANNED",{"$f":"IF($X$10=0, \"\", $Q$73)","v":""},null,{"$f":"$X$10","v":0},"",null,null,null,null,null,null,""]
[114,"SARDINES CANNED",{"$f":"IF($Y$10=0,\"\", $R$71)","v":""},null,{"$f":"$Y$10","v":0},"",null,null,null,null,null,null,"","SARDINES CANNED",{"$f":"IF($Y$10=0, \"\", $R$72)","v":""},null,{"$f":"$Y$10","v":0},"",null,null,null,null,null,null,"","SARDINES CANNED",{"$f":"IF($Y$10=0, \"\", $R$73)","v":""},null,{"$f":"$Y$10","v":0},"",null,null,null,null,null,null,""]
[115,"SCALLOPS",{"$f":"IF($Z$10=0, \"\", $S$71)","v":""},null,{"$f":"$Z$10","v":0},"",null,null,null,null,null,null,"","SCALLOPS",{"$f":"IF($Z$10=0, \"\", $S$72)","v":""},null,{"$f":"$Z$10","v":0},"",null,null,null,null,null,null,"","SCALLOPS",{"$f":"IF($Z$10=0, \"\", $S$73)","v":""},null,{"$f":"$Z$10","v":0},"",null,null,null,null,null,null,""]
[116]
[117,"Sum",null,null,{"$f":"SUM(E99:E115)","v":0},{"$f":"SUM(F99:F115)","v":0},null,null,null,null,null,null,null,"Sum",null,{"$f":"SUM(P99:P115)","v":0},0,0,null,null,null,null,null,null,null,"Sum",null,{"$f":"SUM(AB99:AB115)","v":0},0,0]
[118]
[119,"Sample Day 3                                        BOD","BOD Daily Max TBEL",null,"Production Pounds","Pounds of pollutant allowed",null,null,null,null,"Total Load #/1000-#","TSS Daily Max TBEL                        #/1000-#","Compliance                  YES / NO","Sample Day 3                                       TSS","TSS Daily Max TBEL",null,"Production Pounds","Pounds of pollutant allowed",null,null,null,null,"Total Load #/1000-#","TSS Daily Max TBEL                        #/1000-#","Compliance                  YES / NO","Sample Day 3                                        O&G","O&G Daily Max TBEL",null,"Production Pounds","Pounds of pollutant allowed",null,null,null,null,"Total Load #/1000-#","TSS Daily Max TBEL                        #/1000-#","Compliance                  YES / NO"]
[120,"CRAB",{"$f":"IF($J$12=0, \"\", $C$71)","v":""},null,{"$f":"$J$12","v":0},{"$f":"IFERROR(C120*E120/1000,\"\")","v":""},null,null,null,null,{"$f":"IFERROR(I36,\"\")","v":0},{"$f":"IFERROR(F138/(E138/1000),\"\")","v":""},{"$f":"IF(L120=\"\", \"\", IF(L120=0, \"\", IF(K120=0, \"\", IF(K120<L120, \"YES\",\"NO\"))))","v":""},"CRAB",{"$f":"IF($J$12=0, \"\", $C$72)","v":""},null,{"$f":"$J$12","v":0},{"$f":"IFERROR(O120*Q120/1000,\"\")","v":""},null,null,null,null,{"$f":"IFERROR(I47,\"\")","v":0},{"$f":"IFERROR(R138/(Q138/1000),\"\")","v":""},{"$f":"IF(X120=\"\", \"\", IF(X120=0, \"\", IF(W120=0, \"\", IF(W120<X120, \"YES\",\"NO\"))))","v":""},"CRAB",{"$f":"IF($J$12=0, \"\", $C$73)","v":""},null,{"$f":"$J$12","v":0},{"$f":"IFERROR(AA120*AC120/1000,\"\")","v":""},null,null,null,null,{"$f":"IFERROR(I58,\"\")","v":0},{"$f":"IFERROR(AD138/(AC138/1000),\"\")","v":""},{"$f":"IF(AJ120=\"\", \"\", IF(AJ120=0, \"\", IF(AI120=0, \"\", IF(AI120<AJ120, \"YES\",\"NO\"))))","v":""}]
[121,"SHRIMP",{"$f":"IF($K$12=0, \"\", $D$71)","v":""},null,{"$f":"$K$12","v":0},{"$f":"IFERROR(C121*E121/1000,\"\")","v":""},null,null,null,null,null,null,"","SHRIMP",{"$f":"IF($K$12=0, \"\", $D$72)","v":""},null,{"$f":"$K$12","v":0},{"$f":"IFERROR(O121*Q121/1000,\"\")","v":""},null,null,null,null,null,null,"","SHRIMP",{"$f":"IF($K$12=0, \"\", $D$73)","v":""},null,{"$f":"$K$12","v":0},{"$f":"IFERROR(AA121*AC121/1000,\"\")","v":""},null,null,null,null,null,null,""]
[122,"BF CONV",{"$f":"IF($L$12=0, \"\", $E$71)","v":""},null,{"$f":"$L$12","v":0},"",null,null,null,null,null,null,"","BF CONV",{"$f":"IF($L$12=0, \"\", $E$72)","v":""},null,{"$f":"$L$12","v":0},"",null,null,null,null,null,null,"","BF CONV",{"$f":"IF($L$12=0, \"\", $E$73)","v":""},null,{"$f":"$L$12","v":0},"",null,null,null,null,null,null,""]
[123,"BF MECH",{"$f":"IF($M$12=0, \"\", $F$71)","v":""},null,{"$f":"$M$12","v":0},"",null,null,null,null,null,null,"","BF MECH",{"$f":"IF($M$12=0, \"\", $F$72)","v":""},null,{"$f":"$M$12","v":0},"",null,null,null,null,null,null,"","BF MECH",{"$f":"IF($M$12=0, \"\", $F$73)","v":""},null,{"$f":"$M$12","v":0},"",null,null,null,null,null,null,""]
[124,"SALMON HB",{"$f":"IF($N$12=0, \"\", $G$71)","v":""},null,{"$f":"$N$12","v":0},"",null,null,null,null,null,null,"","SALMON HB",{"$f":"IF($N$12=0, \"\", $G$72)","v":""},null,{"$f":"$N$12","v":0},"",null,null,null,null,null,null,"","SALMON HB",{"$f":"IF($N$12=0, \"\", $G$73)","v":""},null,{"$f":"$N$12","v":0},"",null,null,null,null,null,null,""]
[125,"SALMON MECH",{"$f":"IF($O$12=0, \"\", $H$71)","v":""},null,{"$f":"$O$12","v":0},"",null,null,null,null,null,null,"","SALMON MECH",{"$f":"IF($O$12=0, \"\", $H$72)","v":""},null,{"$f":"$O$12","v":0},"",null,null,null,null,null,null,"","SALMON MECH",{"$f":"IF($O$12=0, \"\", $H$73)","v":""},null,{"$f":"$O$12","v":0},"",null,null,null,null,null,null,""]
[126,"WHOLE FROZ RAW SHRIMP",{"$f":"IF($P$12=0, \"\", $G$71)","v":""},null,{"$f":"$P$12","v":0},"",null,null,null,null,null,null,"","WHOLE FROZ RAW SHRIMP",{"$f":"IF($P$12=0, \"\", $G$72)","v":""},null,{"$f":"$P$12","v":0},"",null,null,null,null,null,null,"","WHOLE FROZ RAW SHRIMP",{"$f":"IF($P$12=0, \"\", $G$73)","v":""},null,{"$f":"$P$12","v":0},"",null,null,null,null,null,null,""]
[127,"HERRING STEAKED (SARDINES)",{"$f":"IF($Q$12=0, \"\", $J$71)","v":""},null,{"$f":"$Q$12","v":0},"",null,null,null,null,null,null,"","HERRING STEAKED (SARDINES)",{"$f":"IF($Q$12=0, \"\", $J$72)","v":""},null,{"$f":"$Q$12","v":0},"",null,null,null,null,null,null,"","HERRING STEAKED (SARDINES)",{"$f":"IF($Q$12=0, \"\", $J$73)","v":""},null,{"$f":"$Q$12","v":0},"",null,null,null,null,null,null,""]
[128,"OYSTERS HS",{"$f":"IF($R$12=0, \"\", $K$71)","v":""},null,{"$f":"$R$12","v":0},"",null,null,null,null,null,null,"","OYSTERS HS",{"$f":"IF($R$12=0, \"\", $K$72)","v":""},null,{"$f":"$R$12","v":0},"",null,null,null,null,null,null,"","OYSTERS HS",{"$f":"IF($R$12=0, \"\", $K$73)","v":""},null,{"$f":"$R$12","v":0},"",null,null,null,null,null,null,""]
[129,"FISH MEAL",{"$f":"IF($S$12=0, \"\", $L$71)","v":""},null,{"$f":"$S$12","v":0},"",null,null,null,null,null,null,"","FISH MEAL",{"$f":"IF($S$12=0, \"\", $L$72)","v":""},null,{"$f":"$S$12","v":0},"",null,null,null,null,null,null,"","FISH MEAL",{"$f":"IF($S$12=0, \"\", $L$73)","v":""},null,{"$f":"$S$12","v":0},"",null,null,null,null,null,null,""]
[130,"CLAM HS",{"$f":"IF($T$12=0, \"\", $M$71)","v":""},null,{"$f":"$T$12","v":0},"",null,null,null,null,null,null,"","CLAM HS",{"$f":"IF($T$12=0, \"\", $M$72)","v":""},null,{"$f":"$T$12","v":0},"",null,null,null,null,null,null,"","CLAM HS",{"$f":"IF($T$12=0, \"\", $M$73)","v":""},null,{"$f":"$T$12","v":0},"",null,null,null,null,null,null,""]
[131,"CLAM MECH",{"$f":"IF($U$12=0, \"\", $N$71)","v":""},null,{"$f":"$U$12","v":0},"",null,null,null,null,null,null,"","CLAM MECH",{"$f":"IF($U$12=0, \"\", $N$72)","v":""},null,{"$f":"$U$12","v":0},"",null,null,null,null,null,null,"","CLAM MECH",{"$f":"IF($U$12=0, \"\", $N$73)","v":""},null,{"$f":"$U$12","v":0},"",null,null,null,null,null,null,""]
[132,"BREADED SHRIMP",{"$f":"IF($V$12=0, \"\", $O$71)","v":""},null,{"$f":"$V$12","v":0},"",null,null,null,null,null,null,"","BREADED SHRIMP",{"$f":"IF($V$12=0, \"\", $O$72)","v":""},null,{"$f":"$V$12","v":0},"",null,null,null,null,null,null,"","BREADED SHRIMP",{"$f":"IF($V$12=0, \"\", $O$73)","v":""},null,{"$f":"$V$12","v":0},"",null,null,null,null,null,null,""]
[133,"TUNA-CANNED",{"$f":"IF($W$12=0, \"\", $P$71)","v":""},null,{"$f":"$W$12","v":0},"",null,null,null,null,null,null,"","TUNA-CANNED",{"$f":"IF($W$12=0, \"\", $P$72)","v":""},null,{"$f":"$W$12","v":0},"",null,null,null,null,null,null,"","TUNA-CANNED",{"$f":"IF($W$12=0, \"\", $P$73)","v":""},null,{"$f":"$W$12","v":0},"",null,null,null,null,null,null,""]
[134,"OYSTERS CANNED",{"$f":"IF($X$12=0, \"\", $Q$71)","v":""},null,{"$f":"$X$12","v":0},"",null,null,null,null,null,null,"","OYSTERS CANNED",{"$f":"IF($X$12=0, \"\", $Q$72)","v":""},null,{"$f":"$X$12","v":0},"",null,null,null,null,null,null,"","OYSTERS CANNED",{"$f":"IF($X$12=0, \"\", $Q$73)","v":""},null,{"$f":"$X$12","v":0},"",null,null,null,null,null,null,""]
[135,"SARDINES CANNED",{"$f":"IF($Y$12=0, \"\", $R$71)","v":""},null,{"$f":"$Y$12","v":0},"",null,null,null,null,null,null,"","SARDINES CANNED",{"$f":"IF($Y$12=0, \"\", $R$72)","v":""},null,{"$f":"$Y$12","v":0},"",null,null,null,null,null,null,"","SARDINES CANNED",{"$f":"IF($Y$12=0, \"\", $R$73)","v":""},null,{"$f":"$Y$12","v":0},"",null,null,null,null,null,null,""]
[136,"SCALLOPS",{"$f":"IF($Z$12=0, \"\", $S$71)","v":""},null,{"$f":"$Z$12","v":0},"",null,null,null,null,null,null,"","SCALLOPS",{"$f":"IF($Z$12=0, \"\", $S$72)","v":""},null,{"$f":"$Z$12","v":0},"",null,null,null,null,null,null,"","SCALLOPS",{"$f":"IF($Z$12=0, \"\", $S$73)","v":""},null,{"$f":"$Z$12","v":0},"",null,null,null,null,null,null,""]
[137]
[138,"Sum",null,null,{"$f":"SUM(E120:E136)","v":0},0,null,null,null,null,null,null,null,"Sum",null,{"$f":"SUM(P120:P136)","v":0},0,0,null,null,null,null,null,null,null,"Sum",null,{"$f":"SUM(AB120:AB136)","v":0},0,0]
[139]
[140,"Sample Day 4                                       BOD","BOD Daily Max TBEL",null,"Production Pounds","Pounds of pollutant allowed",null,null,null,null,"Total Load #/1000-#","TSS Daily Max TBEL                        #/1000-#","Compliance                  YES / NO","Sample Day 4                                       TSS","TSS Daily Max TBEL",null,"Production Pounds","Pounds of pollutant allowed",null,null,null,null,"Total Load #/1000-#","TSS Daily Max TBEL                        #/1000-#","Compliance                  YES / NO","Sample Day 4                                        O&G","O&G Daily Max TBEL",null,"Production Pounds","Pounds of pollutant allowed",null,null,null,null,"Total Load #/1000-#","TSS Daily Max TBEL                        #/1000-#","Compliance                  YES / NO"]
[141,"CRAB",{"$f":"IF($J$14=0, \"\", $C$71)","v":""},null,{"$f":"$J$14","v":0},{"$f":"IFERROR(C141*E141/1000,\"\")","v":""},null,null,null,null,{"$f":"IFERROR(I37,\"\")","v":0},{"$f":"IFERROR(F159/(E159/1000),\"\")","v":""},{"$f":"IF(L141=\"\", \"\", IF(L141=0, \"\", IF(K141=0, \"\", IF(K141<L141, \"YES\",\"NO\"))))","v":""},"CRAB",{"$f":"IF($J$14=0, \"\", $C$72)","v":""},null,{"$f":"$J$14","v":0},{"$f":"IFERROR(O141*Q141/1000,\"\")","v":""},null,null,null,null,{"$f":"IFERROR(I48,\"\")","v":0},{"$f":"IFERROR(R159/(Q159/1000),\"\")","v":""},{"$f":"IF(X141=\"\", \"\", IF(X141=0, \"\", IF(W141=0, \"\", IF(W141<X141, \"YES\",\"NO\"))))","v":""},"CRAB",{"$f":"IF($J$14=0, \"\", $C$73)","v":""},null,{"$f":"$J$14","v":0},{"$f":"IFERROR(AA141*AC141/1000,\"\")","v":""},null,null,null,null,{"$f":"IFERROR(I59,\"\")","v":0},{"$f":"IFERROR(AD159/(AC159/1000),\"\")","v":""},{"$f":"IF(AJ141=\"\", \"\", IF(AJ141=0, \"\", IF(AI141=0, \"\", IF(AI141<AJ141, \"YES\",\"NO\"))))","v":""}]
[142,"SHRIMP",{"$f":"IF($K$14=0, \"\", $D$71)","v":""},null,{"$f":"$K$14","v":0},{"$f":"IFERROR(C142*E142/1000,\"\")","v":""},null,null,null,null,null,null,"","SHRIMP",{"$f":"IF($K$14=0, \"\", $D$72)","v":""},null,{"$f":"$K$14","v":0},{"$f":"IFERROR(O142*Q142/1000,\"\")","v":""},null,null,null,null,null,null,"","SHRIMP",{"$f":"IF($K$14=0, \"\", $D$73)","v":""},null,{"$f":"$K$14","v":0},{"$f":"IFERROR(AA142*AC142/1000,\"\")","v":""},null,null,null,null,null,null,""]
[143,"BF CONV",{"$f":"IF($L$14=0, \"\", $E$71)","v":""},null,{"$f":"$L$14","v":0},"",null,null,null,null,null,null,"","BF CONV",{"$f":"IF($L$14=0, \"\", $E$72)","v":""},null,{"$f":"$L$14","v":0},"",null,null,null,null,null,null,"","BF CONV",{"$f":"IF($L$14=0, \"\", $E$73)","v":""},null,{"$f":"$L$14","v":0},"",null,null,null,null,null,null,""]
[144,"BF MECH",{"$f":"IF($M$14=0, \"\", $F$71)","v":""},null,{"$f":"$M$14","v":0},"",null,null,null,null,null,null,"","BF MECH",{"$f":"IF($M$14=0, \"\", $F$72)","v":""},null,{"$f":"$M$14","v":0},"",null,null,null,null,null,null,"","BF MECH",{"$f":"IF($M$14=0, \"\", $F$73)","v":""},null,{"$f":"$M$14","v":0},"",null,null,null,null,null,null,""]
[145,"SALMON HB",{"$f":"IF($N$14=0, \"\", $G$71)","v":""},null,{"$f":"$N$14","v":0},"",null,null,null,null,null,null,"","SALMON HB",{"$f":"IF($N$14=0, \"\", $G$72)","v":""},null,{"$f":"$N$14","v":0},"",null,null,null,null,null,null,"","SALMON HB",{"$f":"IF($N$14=0, \"\", $G$73)","v":""},null,{"$f":"$N$14","v":0},"",null,null,null,null,null,null,""]
[146,"SALMON MECH",{"$f":"IF($O$14=0, \"\", $H$71)","v":""},null,{"$f":"$O$14","v":0},"",null,null,null,null,null,null,"","SALMON MECH",{"$f":"IF($O$14=0, \"\", $H$72)","v":""},null,{"$f":"$O$14","v":0},"",null,null,null,null,null,null,"","SALMON MECH",{"$f":"IF($O$14=0, \"\", $H$73)","v":""},null,{"$f":"$O$14","v":0},"",null,null,null,null,null,null,""]
[147,"WHOLE FROZ RAW SHRIMP",{"$f":"IF($P$14=0, \"\", $G$71)","v":""},null,{"$f":"$P$14","v":0},"",null,null,null,null,null,null,"","WHOLE FROZ RAW SHRIMP",{"$f":"IF($P$14=0, \"\", $G$72)","v":""},null,{"$f":"$P$14","v":0},"",null,null,null,null,null,null,"","WHOLE FROZ RAW SHRIMP",{"$f":"IF($P$14=0, \"\", $G$73)","v":""},null,{"$f":"$P$14","v":0},"",null,null,null,null,null,null,""]
[148,"HERRING STEAKED (SARDINES)",{"$f":"IF($Q$14=0, \"\", $J$71)","v":""},null,{"$f":"$Q$14","v":0},"",null,null,null,null,null,null,"","HERRING STEAKED (SARDINES)",{"$f":"IF($Q$14=0, \"\", $J$72)","v":""},null,{"$f":"$Q$14","v":0},"",null,null,null,null,null,null,"","HERRING STEAKED (SARDINES)",{"$f":"IF($Q$14=0, \"\", $J$73)","v":""},null,{"$f":"$Q$14","v":0},"",null,null,null,null,null,null,""]
[149,"OYSTERS HS",{"$f":"IF($R$14=0, \"\", $K$71)","v":""},null,{"$f":"$R$14","v":0},"",null,null,null,null,null,null,"","OYSTERS HS",{"$f":"IF($R$14=0, \"\", $K$72)","v":""},null,{"$f":"$R$14","v":0},"",null,null,null,null,null,null,"","OYSTERS HS",{"$f":"IF($R$14=0, \"\", $K$73)","v":""},null,{"$f":"$R$14","v":0},"",null,null,null,null,null,null,""]
[150,"FISH MEAL",{"$f":"IF($S$14=0, \"\", $L$71)","v":""},null,{"$f":"$S$14","v":0},"",null,null,null,null,null,null,"","FISH MEAL",{"$f":"IF($S$14=0, \"\", $L$72)","v":""},null,{"$f":"$S$14","v":0},"",null,null,null,null,null,null,"","FISH MEAL",{"$f":"IF($S$14=0, \"\", $L$73)","v":""},null,{"$f":"$S$14","v":0},"",null,null,null,null,null,null,""]
[151,"CLAM HS",{"$f":"IF($T$14=0, \"\", $M$71)","v":""},null,{"$f":"$T$14","v":0},"",null,null,null,null,null,null,"","CLAM HS",{"$f":"IF($T$14=0, \"\", $M$72)","v":""},null,{"$f":"$T$14","v":0},"",null,null,null,null,null,null,"","CLAM HS",{"$f":"IF($T$14=0, \"\", $M$73)","v":""},null,{"$f":"$T$14","v":0},"",null,null,null,null,null,null,""]
[152,"CLAM MECH",{"$f":"IF($U$14=0, \"\", $N$71)","v":""},null,{"$f":"$U$14","v":0},"",null,null,null,null,null,null,"","CLAM MECH",{"$f":"IF($U$14=0, \"\", $N$72)","v":""},null,{"$f":"$U$14","v":0},"",null,null,null,null,null,null,"","CLAM MECH",{"$f":"IF($U$14=0, \"\", $N$73)","v":""},null,{"$f":"$U$14","v":0},"",null,null,null,null,null,null,""]
[153,"BREADED SHRIMP",{"$f":"IF($V$14=0, \"\", $O$71)","v":""},null,{"$f":"$V$14","v":0},"",null,null,null,null,null,null,"","BREADED SHRIMP",{"$f":"IF($V$14=0, \"\", $O$72)","v":""},null,{"$f":"$V$14","v":0},"",null,null,null,null,null,null,"","BREADED SHRIMP",{"$f":"IF($V$14=0, \"\", $O$73)","v":""},null,{"$f":"$V$14","v":0},"",null,null,null,null,null,null,""]
[154,"TUNA-CANNED",{"$f":"IF($W$14=0, \"\", $P$71)","v":""},null,{"$f":"$W$14","v":0},"",null,null,null,null,null,null,"","TUNA-CANNED",{"$f":"IF($W$14=0, \"\", $P$72)","v":""},null,{"$f":"$W$14","v":0},"",null,null,null,null,null,null,"","TUNA-CANNED",{"$f":"IF($W$14=0, \"\", $P$73)","v":""},null,{"$f":"$W$14","v":0},"",null,null,null,null,null,null,""]
[155,"OYSTERS CANNED",{"$f":"IF($X$14=0, \"\", $Q$71)","v":""},null,{"$f":"$X$14","v":0},"",null,null,null,null,null,null,"","OYSTERS CANNED",{"$f":"IF($X$14=0, \"\", $Q$72)","v":""},null,{"$f":"$X$14","v":0},"",null,null,null,null,null,null,"","OYSTERS CANNED",{"$f":"IF($X$14=0, \"\", $Q$73)","v":""},null,{"$f":"$X$14","v":0},"",null,null,null,null,null,null,""]
[156,"SARDINES CANNED",{"$f":"IF($Y$14=0, \"\", $R$71)","v":""},null,{"$f":"$Y$14","v":0},"",null,null,null,null,null,null,"","SARDINES CANNED",{"$f":"IF($Y$14=0, \"\", $R$72)","v":""},null,{"$f":"$Y$14","v":0},"",null,null,null,null,null,null,"","SARDINES CANNED",{"$f":"IF($Y$14=0, \"\", $R$73)","v":""},null,{"$f":"$Y$14","v":0},"",null,null,null,null,null,null,""]
[157,"SCALLOPS",{"$f":"IF($Z$14=0, \"\", $S$71)","v":""},null,{"$f":"$Z$14","v":0},"",null,null,null,null,null,null,"","SCALLOPS",{"$f":"IF($Z$14=0, \"\", $S$72)","v":""},null,{"$f":"$Z$14","v":0},"",null,null,null,null,null,null,"","SCALLOPS",{"$f":"IF($Z$14=0, \"\", $S$73)","v":""},null,{"$f":"$Z$14","v":0},"",null,null,null,null,null,null,""]
[158]
[159,"Sum",{"$f":"SUM(C141:C157)","v":0},null,0,{"$f":"SUM(F141:F157)","v":0},null,null,null,null,null,null,null,"Sum",null,{"$f":"SUM(P141:P157)","v":0},0,0,null,null,null,null,null,null,null,"Sum",null,{"$f":"SUM(AB141:AB157)","v":0},0,0]
[160]
[161,"Sample Day 5                                       BOD","BOD Daily Max TBEL",null,"Production Pounds","Pounds of pollutant allowed",null,null,null,null,"Total Load #/1000-#","TSS Daily Max TBEL                        #/1000-#","Compliance                  YES / NO","Sample Day 5                                       TSS","TSS Daily Max TBEL",null,"Production Pounds","Pounds of pollutant allowed",null,null,null,null,"Total Load #/1000-#","TSS Daily Max TBEL                        #/1000-#","Compliance                  YES / NO","Sample Day 5                                        O&G","O&G Daily Max TBEL",null,"Production Pounds","Pounds of pollutant allowed",null,null,null,null,"Total Load #/1000-#","TSS Daily Max TBEL                        #/1000-#","Compliance                  YES / NO"]
[162,"CRAB",{"$f":"IF($J$16=0, \"\", $C$71)","v":""},null,{"$f":"$J$16","v":0},{"$f":"IFERROR(C162*E162/1000,\"\")","v":""},null,null,null,null,{"$f":"IFERROR(I38,\"\")","v":0},{"$f":"IFERROR(F180/(E180/1000),\"\")","v":""},{"$f":"IF(L162=\"\", \"\", IF(L162=0, \"\", IF(K162=0, \"\", IF(K162<L162, \"YES\",\"NO\"))))","v":""},"CRAB",{"$f":"IF($J$16=0, \"\", $C$72)","v":""},null,{"$f":"$J$16","v":0},{"$f":"IFERROR(O162*Q162/1000,\"\")","v":""},null,null,null,null,{"$f":"IFERROR(I49,\"\")","v":0},{"$f":"IFERROR(R180/(Q180/1000),\"\")","v":""},{"$f":"IF(X162=\"\", \"\", IF(X162=0, \"\", IF(W162=0, \"\", IF(W162<X162, \"YES\",\"NO\"))))","v":""},"CRAB",{"$f":"IF($J$16=0, \"\", $C$73)","v":""},null,{"$f":"$J$16","v":0},{"$f":"IFERROR(AA162*AC162/1000,\"\")","v":""},null,null,null,null,{"$f":"IFERROR(I60,\"\")","v":0},{"$f":"IFERROR(AD180/(AC180/1000),\"\")","v":""},{"$f":"IF(AJ162=\"\", \"\", IF(AJ162=0, \"\", IF(AI162=0, \"\", IF(AI162<AJ162, \"YES\",\"NO\"))))","v":""}]
[163,"SHRIMP",{"$f":"IF($K$16=0, \"\", $D$71)","v":""},null,{"$f":"$K$16","v":0},{"$f":"IFERROR(C163*E163/1000,\"\")","v":""},null,null,null,null,null,null,"","SHRIMP",{"$f":"IF($K$16=0, \"\", $D$72)","v":""},null,{"$f":"$K$16","v":0},{"$f":"IFERROR(O163*Q163/1000,\"\")","v":""},null,null,null,null,null,null,"","SHRIMP",{"$f":"IF($K$16=0, \"\", $D$73)","v":""},null,{"$f":"$K$16","v":0},{"$f":"IFERROR(AA163*AC163/1000,\"\")","v":""},null,null,null,null,null,null,""]
[164,"BF CONV",{"$f":"IF($L$16=0, \"\", $E$71)","v":""},null,{"$f":"$L$16","v":0},"",null,null,null,null,null,null,"","BF CONV",{"$f":"IF($L$16=0, \"\", $E$72)","v":""},null,{"$f":"$L$16","v":0},"",null,null,null,null,null,null,"","BF CONV",{"$f":"IF($L$16=0, \"\", $E$73)","v":""},null,{"$f":"$L$16","v":0},"",null,null,null,null,null,null,""]
[165,"BF MECH",{"$f":"IF($M$16=0, \"\", $F$71)","v":""},null,{"$f":"$M$16","v":0},"",null,null,null,null,null,null,"","BF MECH",{"$f":"IF($M$16=0, \"\", $F$72)","v":""},null,{"$f":"$M$16","v":0},"",null,null,null,null,null,null,"","BF MECH",{"$f":"IF($M$16=0, \"\", $F$73)","v":""},null,{"$f":"$M$16","v":0},"",null,null,null,null,null,null,""]
[166,"SALMON HB",{"$f":"IF($N$16=0, \"\", $G$71)","v":""},null,{"$f":"$N$16","v":0},"",null,null,null,null,null,null,"","SALMON HB",{"$f":"IF($N$16=0, \"\", $G$72)","v":""},null,{"$f":"$N$16","v":0},"",null,null,null,null,null,null,"","SALMON HB",{"$f":"IF($N$16=0, \"\", $G$73)","v":""},null,{"$f":"$N$16","v":0},"",null,null,null,null,null,null,""]
[167,"SALMON MECH",{"$f":"IF($O$16=0, \"\", $H$71)","v":""},null,{"$f":"$O$16","v":0},"",null,null,null,null,null,null,"","SALMON MECH",{"$f":"IF($O$16=0, \"\", $H$72)","v":""},null,{"$f":"$O$16","v":0},"",null,null,null,null,null,null,"","SALMON MECH",{"$f":"IF($O$16=0, \"\", $H$73)","v":""},null,{"$f":"$O$16","v":0},"",null,null,null,null,null,null,""]
[168,"WHOLE FROZ RAW SHRIMP",{"$f":"IF($P$16=0, \"\", $G$71)","v":""},null,{"$f":"$P$16","v":0},"",null,null,null,null,null,null,"","WHOLE FROZ RAW SHRIMP",{"$f":"IF($P$16=0, \"\", $G$72)","v":""},null,{"$f":"$P$16","v":0},"",null,null,null,null,null,null,"","WHOLE FROZ RAW SHRIMP",{"$f":"IF($P$16=0, \"\", $G$73)","v":""},null,{"$f":"$P$16","v":0},"",null,null,null,null,null,null,""]
[169,"HERRING STEAKED (SARDINES)",{"$f":"IF($Q$16=0, \"\", $J$71)","v":""},null,{"$f":"$Q$16","v":0},"",null,null,null,null,null,null,"","HERRING STEAKED (SARDINES)",{"$f":"IF($Q$16=0, \"\", $J$72)","v":""},null,{"$f":"$Q$16","v":0},"",null,null,null,null,null,null,"","HERRING STEAKED (SARDINES)",{"$f":"IF($Q$16=0, \"\", $J$73)","v":""},null,{"$f":"$Q$16","v":0},"",null,null,null,null,null,null,""]
[170,"OYSTERS HS",{"$f":"IF($R$16=0, \"\", $K$71)","v":""},null,{"$f":"$R$16","v":0},"",null,null,null,null,null,null,"","OYSTERS HS",{"$f":"IF($R$16=0, \"\", $K$72)","v":""},null,{"$f":"$R$16","v":0},"",null,null,null,null,null,null,"","OYSTERS HS",{"$f":"IF($R$16=0, \"\", $K$73)","v":""},null,{"$f":"$R$16","v":0},"",null,null,null,null,null,null,""]
[171,"FISH MEAL",{"$f":"IF($S$16=0, \"\", $L$71)","v":""},null,{"$f":"$S$16","v":0},"",null,null,null,null,null,null,"","FISH MEAL",{"$f":"IF($S$16=0, \"\", $L$72)","v":""},null,{"$f":"$S$16","v":0},"",null,null,null,null,null,null,"","FISH MEAL",{"$f":"IF($S$16=0, \"\", $L$73)","v":""},null,{"$f":"$S$16","v":0},"",null,null,null,null,null,null,""]
[172,"CLAM HS",{"$f":"IF($T$16=0, \"\", $M$71)","v":""},null,{"$f":"$T$16","v":0},"",null,null,null,null,null,null,"","CLAM HS",{"$f":"IF($T$16=0, \"\", $M$72)","v":""},null,{"$f":"$T$16","v":0},"",null,null,null,null,null,null,"","CLAM HS",{"$f":"IF($T$16=0, \"\", $M$73)","v":""},null,{"$f":"$T$16","v":0},"",null,null,null,null,null,null,""]
[173,"CLAM MECH",{"$f":"IF($U$16=0, \"\", $N$71)","v":""},null,{"$f":"$U$16","v":0},"",null,null,null,null,null,null,"","CLAM MECH",{"$f":"IF($U$16=0, \"\", $N$72)","v":""},null,{"$f":"$U$16","v":0},"",null,null,null,null,null,null,"","CLAM MECH",{"$f":"IF($U$16=0, \"\", $N$73)","v":""},null,{"$f":"$U$16","v":0},"",null,null,null,null,null,null,""]
[174,"BREADED SHRIMP",{"$f":"IF($V$16=0, \"\", $O$71)","v":""},null,{"$f":"$V$16","v":0},"",null,null,null,null,null,null,"","BREADED SHRIMP",{"$f":"IF($V$16=0, \"\", $O$72)","v":""},null,{"$f":"$V$16","v":0},"",null,null,null,null,null,null,"","BREADED SHRIMP",{"$f":"IF($V$16=0, \"\", $O$73)","v":""},null,{"$f":"$V$16","v":0},"",null,null,null,null,null,null,""]
[175,"TUNA-CANNED",{"$f":"IF($W$16=0, \"\", $P$71)","v":""},null,{"$f":"$W$16","v":0},"",null,null,null,null,null,null,"","TUNA-CANNED",{"$f":"IF($W$16=0, \"\", $P$72)","v":""},null,{"$f":"$W$16","v":0},"",null,null,null,null,null,null,"","TUNA-CANNED",{"$f":"IF($W$16=0, \"\", $P$73)","v":""},null,{"$f":"$W$16","v":0},"",null,null,null,null,null,null,""]
[176,"OYSTERS CANNED",{"$f":"IF($X$16=0, \"\", $Q$71)","v":""},null,{"$f":"$X$16","v":0},"",null,null,null,null,null,null,"","OYSTERS CANNED",{"$f":"IF($X$16=0, \"\", $Q$72)","v":""},null,{"$f":"$X$16","v":0},"",null,null,null,null,null,null,"","OYSTERS CANNED",{"$f":"IF($X$16=0, \"\", $Q$73)","v":""},null,{"$f":"$X$16","v":0},"",null,null,null,null,null,null,""]
[177,"SARDINES CANNED",{"$f":"IF($Y$16=0, \"\", $R$71)","v":""},null,{"$f":"$Y$16","v":0},"",null,null,null,null,null,null,"","SARDINES CANNED",{"$f":"IF($Y$16=0, \"\", $R$72)","v":""},null,{"$f":"$Y$16","v":0},"",null,null,null,null,null,null,"","SARDINES CANNED",{"$f":"IF($Y$16=0, \"\", $R$73)","v":""},null,{"$f":"$Y$16","v":0},"",null,null,null,null,null,null,""]
[178,"SCALLOPS",{"$f":"IF($Z$16=0, \"\", $S$71)","v":""},null,{"$f":"$Z$16","v":0},"",null,null,null,null,null,null,"","SCALLOPS",{"$f":"IF($Z$16=0, \"\", $S$72)","v":""},null,{"$f":"$Z$16","v":0},"",null,null,null,null,null,null,"","SCALLOPS",{"$f":"IF($Z$16=0, \"\", $S$73)","v":""},null,{"$f":"$Z$16","v":0},"",null,null,null,null,null,null,""]
[179]
[180,"Sum",null,null,{"$f":"SUM(E162:E178)","v":0},{"$f":"SUM(F162:F178)","v":0},null,null,null,null,null,null,null,"Sum",null,{"$f":"SUM(P162:P178)","v":0},0,0,null,null,null,null,null,null,null,"Sum",null,{"$f":"SUM(AB162:AB178)","v":0},0,0]
[181]
[182,"Sample Day 6                                       BOD","BOD Daily Max TBEL",null,"Production Pounds","Pounds of pollutant allowed",null,null,null,null,"Total Load #/1000-#","TSS Daily Max TBEL                        #/1000-#","Compliance                  YES / NO","Sample Day 6                                       TSS","TSS Daily Max TBEL",null,"Production Pounds","Pounds of pollutant allowed",null,null,null,null,"Total Load #/1000-#","TSS Daily Max TBEL                        #/1000-#","Compliance                  YES / NO","Sample Day 6                                        O&G","O&G Daily Max TBEL",null,"Production Pounds","Pounds of pollutant allowed",null,null,null,null,"Total Load #/1000-#","TSS Daily Max TBEL                        #/1000-#","Compliance                  YES / NO"]
[183,"CRAB",{"$f":"IF($J$18=0, \"\", $C$71)","v":""},null,{"$f":"$J$18","v":0},{"$f":"IFERROR(C183*E183/1000,\"\")","v":""},null,null,null,null,{"$f":"IFERROR(I39,\"\")","v":0},{"$f":"IFERROR(F201/(E201/1000),\"\")","v":""},{"$f":"IF(L183=\"\", \"\", IF(L183=0, \"\", IF(K183=0, \"\", IF(K183<L183, \"YES\",\"NO\"))))","v":""},"CRAB",{"$f":"IF($J$18=0, \"\", $C$72)","v":""},null,{"$f":"$J$18","v":0},{"$f":"IFERROR(O183*Q183/1000,\"\")","v":""},null,null,null,null,{"$f":"IFERROR(I50,\"\")","v":0},{"$f":"IFERROR(R201/(Q201/1000),\"\")","v":""},{"$f":"IF(X183=\"\", \"\", IF(X183=0, \"\", IF(W183=0, \"\", IF(W183<X183, \"YES\",\"NO\"))))","v":""},"CRAB",{"$f":"IF($J$18=0, \"\", $C$73)","v":""},null,{"$f":"$J$18","v":0},{"$f":"IFERROR(AA183*AC183/1000,\"\")","v":""},null,null,null,null,{"$f":"IFERROR(I61,\"\")","v":0},{"$f":"IFERROR(AD201/(AC201/1000),\"\")","v":""},{"$f":"IF(AJ183=\"\", \"\", IF(AJ183=0, \"\", IF(AI183=0, \"\", IF(AI183<AJ183, \"YES\",\"NO\"))))","v":""}]
[184,"SHRIMP",{"$f":"IF($K$18=0, \"\", $D$71)","v":""},null,{"$f":"$K$18","v":0},{"$f":"IFERROR(C184*E184/1000,\"\")","v":""},null,null,null,null,null,null,"","SHRIMP",{"$f":"IF($K$18=0, \"\", $D$72)","v":""},null,{"$f":"$K$18","v":0},{"$f":"IFERROR(O184*Q184/1000,\"\")","v":""},null,null,null,null,null,null,"","SHRIMP",{"$f":"IF($K$18=0, \"\", $D$73)","v":""},null,{"$f":"$K$18","v":0},{"$f":"IFERROR(AA184*AC184/1000,\"\")","v":""},null,null,null,null,null,null,""]
[185,"BF CONV",{"$f":"IF($L$18=0, \"\", $E$71)","v":""},null,{"$f":"$L$18","v":0},"",null,null,null,null,null,null,"","BF CONV",{"$f":"IF($L$18=0, \"\", $E$72)","v":""},null,{"$f":"$L$18","v":0},"",null,null,null,null,null,null,"","BF CONV",{"$f":"IF($L$18=0, \"\", $E$73)","v":""},null,{"$f":"$L$18","v":0},"",null,null,null,null,null,null,""]
[186,"BF MECH",{"$f":"IF($M$18=0, \"\", $F$71)","v":""},null,{"$f":"$M$18","v":0},"",null,null,null,null,null,null,"","BF MECH",{"$f":"IF($M$18=0, \"\", $F$72)","v":""},null,{"$f":"$M$18","v":0},"",null,null,null,null,null,null,"","BF MECH",{"$f":"IF($M$18=0, \"\", $F$73)","v":""},null,{"$f":"$M$18","v":0},"",null,null,null,null,null,null,""]
[187,"SALMON HB",{"$f":"IF($N$18=0, \"\", $G$71)","v":""},null,{"$f":"$N$18","v":0},"",null,null,null,null,null,null,"","SALMON HB",{"$f":"IF($N$18=0, \"\", $G$72)","v":""},null,{"$f":"$N$18","v":0},"",null,null,null,null,null,null,"","SALMON HB",{"$f":"IF($N$18=0, \"\", $G$73)","v":""},null,{"$f":"$N$18","v":0},"",null,null,null,null,null,null,""]
[188,"SALMON MECH",{"$f":"IF($O$18=0, \"\", $H$71)","v":""},null,{"$f":"$O$18","v":0},"",null,null,null,null,null,null,"","SALMON MECH",{"$f":"IF($O$18=0, \"\", $H$72)","v":""},null,{"$f":"$O$18","v":0},"",null,null,null,null,null,null,"","SALMON MECH",{"$f":"IF($O$18=0, \"\", $H$73)","v":""},null,{"$f":"$O$18","v":0},"",null,null,null,null,null,null,""]
[189,"WHOLE FROZ RAW SHRIMP",{"$f":"IF($P$18=0, \"\", $G$71)","v":""},null,{"$f":"$P$18","v":0},"",null,null,null,null,null,null,"","WHOLE FROZ RAW SHRIMP",{"$f":"IF($P$18=0, \"\", $G$72)","v":""},null,{"$f":"$P$18","v":0},"",null,null,null,null,null,null,"","WHOLE FROZ RAW SHRIMP",{"$f":"IF($P$18=0, \"\", $G$73)","v":""},null,{"$f":"$P$18","v":0},"",null,null,null,null,null,null,""]
[190,"HERRING STEAKED (SARDINES)",{"$f":"IF($Q$18=0, \"\", $J$71)","v":""},null,{"$f":"$Q$18","v":0},"",null,null,null,null,null,null,"","HERRING STEAKED (SARDINES)",{"$f":"IF($Q$18=0, \"\", $J$72)","v":""},null,{"$f":"$Q$18","v":0},"",null,null,null,null,null,null,"","HERRING STEAKED (SARDINES)",{"$f":"IF($Q$18=0, \"\", $J$73)","v":""},null,{"$f":"$Q$18","v":0},"",null,null,null,null,null,null,""]
[191,"OYSTERS HS",{"$f":"IF($R$18=0, \"\", $K$71)","v":""},null,{"$f":"$R$18","v":0},"",null,null,null,null,null,null,"","OYSTERS HS",{"$f":"IF($R$18=0, \"\", $K$72)","v":""},null,{"$f":"$R$18","v":0},"",null,null,null,null,null,null,"","OYSTERS HS",{"$f":"IF($R$18=0, \"\", $K$73)","v":""},null,{"$f":"$R$18","v":0},"",null,null,null,null,null,null,""]
[192,"FISH MEAL",{"$f":"IF($S$18=0, \"\", $L$71)","v":""},null,{"$f":"$S$18","v":0},"",null,null,null,null,null,null,"","FISH MEAL",{"$f":"IF($S$18=0, \"\", $L$72)","v":""},null,{"$f":"$S$18","v":0},"",null,null,null,null,null,null,"","FISH MEAL",{"$f":"IF($S$18=0, \"\", $L$73)","v":""},null,{"$f":"$S$18","v":0},"",null,null,null,null,null,null,""]
[193,"CLAM HS",{"$f":"IF($T$18=0, \"\", $M$71)","v":""},null,{"$f":"$T$18","v":0},"",null,null,null,null,null,null,"","CLAM HS",{"$f":"IF($T$18=0, \"\", $M$72)","v":""},null,{"$f":"$T$18","v":0},"",null,null,null,null,null,null,"","CLAM HS",{"$f":"IF($T$18=0, \"\", $M$73)","v":""},null,{"$f":"$T$18","v":0},"",null,null,null,null,null,null,""]
[194,"CLAM MECH",{"$f":"IF($U$18=0, \"\", $N$71)","v":""},null,{"$f":"$U$18","v":0},"",null,null,null,null,null,null,"","CLAM MECH",{"$f":"IF($U$18=0, \"\", $N$72)","v":""},null,{"$f":"$U$18","v":0},"",null,null,null,null,null,null,"","CLAM MECH",{"$f":"IF($U$18=0, \"\", $N$73)","v":""},null,{"$f":"$U$18","v":0},"",null,null,null,null,null,null,""]
[195,"BREADED SHRIMP",{"$f":"IF($V$18=0, \"\", $O$71)","v":""},null,{"$f":"$V$18","v":0},"",null,null,null,null,null,null,"","BREADED SHRIMP",{"$f":"IF($V$18=0, \"\", $O$72)","v":""},null,{"$f":"$V$18","v":0},"",null,null,null,null,null,null,"","BREADED SHRIMP",{"$f":"IF($V$18=0, \"\", $O$73)","v":""},null,{"$f":"$V$18","v":0},"",null,null,null,null,null,null,""]
[196,"TUNA-CANNED",{"$f":"IF($W$18=0, \"\", $P$71)","v":""},null,{"$f":"$W$18","v":0},"",null,null,null,null,null,null,"","TUNA-CANNED",{"$f":"IF($W$18=0, \"\", $P$72)","v":""},null,{"$f":"$W$18","v":0},"",null,null,null,null,null,null,"","TUNA-CANNED",{"$f":"IF($W$18=0, \"\", $P$73)","v":""},null,{"$f":"$W$18","v":0},"",null,null,null,null,null,null,""]
[197,"OYSTERS CANNED",{"$f":"IF($X$18=0, \"\", $Q$71)","v":""},null,{"$f":"$X$18","v":0},"",null,null,null,null,null,null,"","OYSTERS CANNED",{"$f":"IF($X$18=0, \"\", $Q$72)","v":""},null,{"$f":"$X$18","v":0},"",null,null,null,null,null,null,"","OYSTERS CANNED",{"$f":"IF($X$18=0, \"\", $Q$73)","v":""},null,{"$f":"$X$18","v":0},"",null,null,null,null,null,null,""]
[198,"SARDINES CANNED",{"$f":"IF($Y$18=0, \"\", $R$71)","v":""},null,{"$f":"$Y$18","v":0},"",null,null,null,null,null,null,"","SARDINES CANNED",{"$f":"IF($Y$18=0, \"\", $R$72)","v":""},null,{"$f":"$Y$18","v":0},"",null,null,null,null,null,null,"","SARDINES CANNED",{"$f":"IF($Y$18=0, \"\", $R$73)","v":""},null,{"$f":"$Y$18","v":0},"",null,null,null,null,null,null,""]
[199,"SCALLOPS",{"$f":"IF($Z$18=0, \"\", $S$71)","v":""},null,{"$f":"$Z$18","v":0},"",null,null,null,null,null,null,"","SCALLOPS",{"$f":"IF($Z$18=0, \"\", $S$72)","v":""},null,{"$f":"$Z$18","v":0},"",null,null,null,null,null,null,"","SCALLOPS",{"$f":"IF($Z$18=0, \"\", $S$73)","v":""},null,{"$f":"$Z$18","v":0},"",null,null,null,null,null,null,""]
[200]
[201,"Sum",null,null,{"$f":"SUM(E183:E199)","v":0},{"$f":"SUM(F183:F199)","v":0},null,null,null,null,null,null,null,"Sum",null,{"$f":"SUM(P183:P199)","v":0},0,0,null,null,null,null,null,null,null,"Sum",null,{"$f":"SUM(AB183:AB199)","v":0},0,0]
[202]
[203,"Sample Day 7                                       BOD","BOD Daily Max TBEL",null,"Production Pounds","Pounds of pollutant allowed",null,null,null,null,"Total Load #/1000-#","TSS Daily Max TBEL                        #/1000-#","Compliance                  YES / NO","Sample Day 7                                       TSS","TSS Daily Max TBEL",null,"Production Pounds","Pounds of pollutant allowed",null,null,null,null,"Total Load #/1000-#","TSS Daily Max TBEL                        #/1000-#","Compliance                  YES / NO","Sample Day 7                                        O&G","O&G Daily Max TBEL",null,"Production Pounds","Pounds of pollutant allowed",null,null,null,null,"Total Load #/1000-#","TSS Daily Max TBEL                        #/1000-#","Compliance                  YES / NO"]
[204,"CRAB",{"$f":"IF($J$20=0, \"\", $C$71)","v":""},null,{"$f":"$J$20","v":0},{"$f":"IFERROR(C204*E204/1000,\"\")","v":""},null,null,null,null,{"$f":"IFERROR(I40,\"\")","v":0},{"$f":"IFERROR(F222/(E222/1000),\"\")","v":""},{"$f":"IF(L204=\"\", \"\", IF(L204=0, \"\", IF(K204=0, \"\", IF(K204<L204, \"YES\",\"NO\"))))","v":""},"CRAB",{"$f":"IF($J$20=0, \"\", $C$72)","v":""},null,{"$f":"$J$20","v":0},{"$f":"IFERROR(O204*Q204/1000,\"\")","v":""},null,null,null,null,{"$f":"IFERROR(I51,\"\")","v":0},{"$f":"IFERROR(R222/(Q222/1000),\"\")","v":""},{"$f":"IF(X204=\"\", \"\", IF(X204=0, \"\", IF(W204=0, \"\", IF(W204<X204, \"YES\",\"NO\"))))","v":""},"CRAB",{"$f":"IF($J$20=0, \"\", $C$73)","v":""},null,{"$f":"$J$20","v":0},{"$f":"IFERROR(AA204*AC204/1000,\"\")","v":""},null,null,null,null,{"$f":"IFERROR(I62,\"\")","v":0},{"$f":"IFERROR(AD222/(AC222/1000),\"\")","v":""},{"$f":"IF(AJ204=\"\", \"\", IF(AJ204=0, \"\", IF(AI204=0, \"\", IF(AI204<AJ204, \"YES\",\"NO\"))))","v":""}]
[205,"SHRIMP",{"$f":"IF($K$20=0, \"\", $D$71)","v":""},null,{"$f":"$K$20","v":0},{"$f":"IFERROR(C205*E205/1000,\"\")","v":""},null,null,null,null,null,null,"","SHRIMP",{"$f":"IF($K$20=0, \"\", $D$72)","v":""},null,{"$f":"$K$20","v":0},{"$f":"IFERROR(O205*Q205/1000,\"\")","v":""},null,null,null,null,null,null,"","SHRIMP",{"$f":"IF($K$20=0, \"\", $D$73)","v":""},null,{"$f":"$K$20","v":0},{"$f":"IFERROR(AA205*AC205/1000,\"\")","v":""},null,null,null,null,null,null,""]
[206,"BF CONV",{"$f":"IF($L$20=0, \"\", $E$71)","v":""},null,{"$f":"$L$20","v":0},"",null,null,null,null,null,null,"","BF CONV",{"$f":"IF($L$20=0, \"\", $E$72)","v":""},null,{"$f":"$L$20","v":0},"",null,null,null,null,null,null,"","BF CONV",{"$f":"IF($L$20=0, \"\", $E$73)","v":""},null,{"$f":"$L$20","v":0},"",null,null,null,null,null,null,""]
[207,"BF MECH",{"$f":"IF($M$20=0, \"\", $F$71)","v":""},null,{"$f":"$M$20","v":0},"",null,null,null,null,null,null,"","BF MECH",{"$f":"IF($M$20=0, \"\", $F$72)","v":""},null,{"$f":"$M$20","v":0},"",null,null,null,null,null,null,"","BF MECH",{"$f":"IF($M$20=0, \"\", $F$73)","v":""},null,{"$f":"$M$20","v":0},"",null,null,null,null,null,null,""]
[208,"SALMON HB",{"$f":"IF($N$20=0, \"\", $G$71)","v":""},null,{"$f":"$N$20","v":0},"",null,null,null,null,null,null,"","SALMON HB",{"$f":"IF($N$20=0, \"\", $G$72)","v":""},null,{"$f":"$N$20","v":0},"",null,null,null,null,null,null,"","SALMON HB",{"$f":"IF($N$20=0, \"\", $G$73)","v":""},null,{"$f":"$N$20","v":0},"",null,null,null,null,null,null,""]
[209,"SALMON MECH",{"$f":"IF($O$20=0, \"\", $H$71)","v":""},null,{"$f":"$O$20","v":0},"",null,null,null,null,null,null,"","SALMON MECH",{"$f":"IF($O$20=0, \"\", $H$72)","v":""},null,{"$f":"$O$20","v":0},"",null,null,null,null,null,null,"","SALMON MECH",{"$f":"IF($O$20=0, \"\", $H$73)","v":""},null,{"$f":"$O$20","v":0},"",null,null,null,null,null,null,""]
[210,"WHOLE FROZ RAW SHRIMP",{"$f":"IF($P$20=0, \"\", $G$71)","v":""},null,{"$f":"$P$20","v":0},"",null,null,null,null,null,null,"","WHOLE FROZ RAW SHRIMP",{"$f":"IF($P$20=0, \"\", $G$72)","v":""},null,{"$f":"$P$20","v":0},"",null,null,null,null,null,null,"","WHOLE FROZ RAW SHRIMP",{"$f":"IF($P$20=0, \"\", $G$73)","v":""},null,{"$f":"$P$20","v":0},"",null,null,null,null,null,null,""]
[211,"HERRING STEAKED (SARDINES)",{"$f":"IF($Q$20=0, \"\", $J$71)","v":""},null,{"$f":"$Q$20","v":0},"",null,null,null,null,null,null,"","HERRING STEAKED (SARDINES)",{"$f":"IF($Q$20=0, \"\", $J$72)","v":""},null,{"$f":"$Q$20","v":0},"",null,null,null,null,null,null,"","HERRING STEAKED (SARDINES)",{"$f":"IF($Q$20=0, \"\", $J$73)","v":""},null,{"$f":"$Q$20","v":0},"",null,null,null,null,null,null,""]
[212,"OYSTERS HS",{"$f":"IF($R$20=0, \"\", $K$71)","v":""},null,{"$f":"$R$20","v":0},"",null,null,null,null,null,null,"","OYSTERS HS",{"$f":"IF($R$20=0, \"\", $K$72)","v":""},null,{"$f":"$R$20","v":0},"",null,null,null,null,null,null,"","OYSTERS HS",{"$f":"IF($R$20=0, \"\", $K$73)","v":""},null,{"$f":"$R$20","v":0},"",null,null,null,null,null,null,""]
[213,"FISH MEAL",{"$f":"IF($S$20=0, \"\", $L$71)","v":""},null,{"$f":"$S$20","v":0},"",null,null,null,null,null,null,"","FISH MEAL",{"$f":"IF($S$20=0, \"\", $L$72)","v":""},null,{"$f":"$S$20","v":0},"",null,null,null,null,null,null,"","FISH MEAL",{"$f":"IF($S$20=0, \"\", $L$73)","v":""},null,{"$f":"$S$20","v":0},"",null,null,null,null,null,null,""]
[214,"CLAM HS",{"$f":"IF($T$20=0, \"\", $M$71)","v":""},null,{"$f":"$T$20","v":0},"",null,null,null,null,null,null,"","CLAM HS",{"$f":"IF($T$20=0, \"\", $M$72)","v":""},null,{"$f":"$T$20","v":0},"",null,null,null,null,null,null,"","CLAM HS",{"$f":"IF($T$20=0, \"\", $M$73)","v":""},null,{"$f":"$T$20","v":0},"",null,null,null,null,null,null,""]
[215,"CLAM MECH",{"$f":"IF($U$20=0, \"\", $N$71)","v":""},null,{"$f":"$U$20","v":0},"",null,null,null,null,null,null,"","CLAM MECH",{"$f":"IF($U$20=0, \"\", $N$72)","v":""},null,{"$f":"$U$20","v":0},"",null,null,null,null,null,null,"","CLAM MECH",{"$f":"IF($U$20=0, \"\", $N$73)","v":""},null,{"$f":"$U$20","v":0},"",null,null,null,null,null,null,""]
[216,"BREADED SHRIMP",{"$f":"IF($V$20=0, \"\", $O$71)","v":""},null,{"$f":"$V$20","v":0},"",null,null,null,null,null,null,"","BREADED SHRIMP",{"$f":"IF($V$20=0, \"\", $O$72)","v":""},null,{"$f":"$V$20","v":0},"",null,null,null,null,null,null,"","BREADED SHRIMP",{"$f":"IF($V$20=0, \"\", $O$73)","v":""},null,{"$f":"$V$20","v":0},"",null,null,null,null,null,null,""]
[217,"TUNA-CANNED",{"$f":"IF($W$20=0, \"\", $P$71)","v":""},null,{"$f":"$W$20","v":0},"",null,null,null,null,null,null,"","TUNA-CANNED",{"$f":"IF($W$20=0, \"\", $P$72)","v":""},null,{"$f":"$W$20","v":0},"",null,null,null,null,null,null,"","TUNA-CANNED",{"$f":"IF($W$20=0, \"\", $P$73)","v":""},null,{"$f":"$W$20","v":0},"",null,null,null,null,null,null,""]
[218,"OYSTERS CANNED",{"$f":"IF($X$20=0, \"\", $Q$71)","v":""},null,{"$f":"$X$20","v":0},"",null,null,null,null,null,null,"","OYSTERS CANNED",{"$f":"IF($X$20=0, \"\", $Q$72)","v":""},null,{"$f":"$X$20","v":0},"",null,null,null,null,null,null,"","OYSTERS CANNED",{"$f":"IF($X$20=0, \"\", $Q$73)","v":""},null,{"$f":"$X$20","v":0},"",null,null,null,null,null,null,""]
[219,"SARDINES CANNED",{"$f":"IF($Y$20=0, \"\", $R$71)","v":""},null,{"$f":"$Y$20","v":0},"",null,null,null,null,null,null,"","SARDINES CANNED",{"$f":"IF($Y$20=0, \"\", $R$72)","v":""},null,{"$f":"$Y$20","v":0},"",null,null,null,null,null,null,"","SARDINES CANNED",{"$f":"IF($Y$20=0, \"\", $R$73)","v":""},null,{"$f":"$Y$20","v":0},"",null,null,null,null,null,null,""]
[220,"SCALLOPS",{"$f":"IF($Z$20=0, \"\", $S$71)","v":""},null,{"$f":"$Z$20","v":0},"",null,null,null,null,null,null,"","SCALLOPS",{"$f":"IF($Z$20=0, \"\", $S$72)","v":""},null,{"$f":"$Z$20","v":0},"",null,null,null,null,null,null,"","SCALLOPS",{"$f":"IF($Z$20=0, \"\", $S$73)","v":""},null,{"$f":"$Z$20","v":0},"",null,null,null,null,null,null,""]
[221]
[222,"Sum",null,null,{"$f":"SUM(E204:E220)","v":0},{"$f":"SUM(F204:F220)","v":0},null,null,null,null,null,null,null,"Sum",null,{"$f":"SUM(P204:P220)","v":0},0,0,null,null,null,null,null,null,null,"Sum",null,{"$f":"SUM(AB204:AB220)","v":0},0,0]
[223]
[224,"Sample Day 8                                       BOD","BOD Daily Max TBEL",null,"Production Pounds","Pounds of pollutant allowed",null,null,null,null,"Total Load #/1000-#","TSS Daily Max TBEL                        #/1000-#","Compliance                  YES / NO","Sample Day 8                                       TSS","TSS Daily Max TBEL",null,"Production Pounds","Pounds of pollutant allowed",null,null,null,null,"Total Load #/1000-#","TSS Daily Max TBEL                        #/1000-#","Compliance                  YES / NO","Sample Day 8                                        O&G","O&G Daily Max TBEL",null,"Production Pounds","Pounds of pollutant allowed",null,null,null,null,"Total Load #/1000-#","TSS Daily Max TBEL                        #/1000-#","Compliance                  YES / NO"]
[225,"CRAB",{"$f":"IF($J$22=0, \"\", $C$71)","v":""},null,{"$f":"$J$22","v":0},{"$f":"IFERROR(C225*E225/1000,\"\")","v":""},null,null,null,null,{"$f":"IFERROR(I41,\"\")","v":0},{"$f":"IFERROR(F243/(E243/1000),\"\")","v":""},{"$f":"IF(L225=\"\", \"\", IF(L225=0, \"\", IF(K225=0, \"\", IF(K225<L225, \"YES\",\"NO\"))))","v":""},"CRAB",{"$f":"IF($J$22=0, \"\", $C$72)","v":""},null,{"$f":"$J$22","v":0},{"$f":"IFERROR(O225*Q225/1000,\"\")","v":""},null,null,null,null,{"$f":"IFERROR(I52,\"\")","v":0},{"$f":"IFERROR(R243/(Q243/1000),\"\")","v":""},{"$f":"IF(X225=\"\", \"\", IF(X225=0, \"\", IF(W225=0, \"\", IF(W225<X225, \"YES\",\"NO\"))))","v":""},"CRAB",{"$f":"IF($J$22=0, \"\", $C$73)","v":""},null,{"$f":"$J$22","v":0},{"$f":"IFERROR(AA225*AC225/1000,\"\")","v":""},null,null,null,null,{"$f":"IFERROR(I63,\"\")","v":0},{"$f":"IFERROR(AD243/(AC243/1000),\"\")","v":""},{"$f":"IF(AJ225=\"\", \"\", IF(AJ225=0, \"\", IF(AI225=0, \"\", IF(AI225<AJ225, \"YES\",\"NO\"))))","v":""}]
[226,"SHRIMP",{"$f":"IF($K$22=0, \"\", $D$71)","v":""},null,{"$f":"$K$22","v":0},{"$f":"IFERROR(C226*E226/1000,\"\")","v":""},null,null,null,null,null,null,"","SHRIMP",{"$f":"IF($K$22=0, \"\", $D$72)","v":""},null,{"$f":"$K$22","v":0},{"$f":"IFERROR(O226*Q226/1000,\"\")","v":""},null,null,null,null,null,null,"","SHRIMP",{"$f":"IF($K$22=0, \"\", $D$73)","v":""},null,{"$f":"$K$22","v":0},{"$f":"IFERROR(AA226*AC226/1000,\"\")","v":""},null,null,null,null,null,null,""]
[227,"BF CONV",{"$f":"IF($L$22=0, \"\", $E$71)","v":""},null,{"$f":"$L$22","v":0},"",null,null,null,null,null,null,"","BF CONV",{"$f":"IF($L$22=0, \"\", $E$72)","v":""},null,{"$f":"$L$22","v":0},"",null,null,null,null,null,null,"","BF CONV",{"$f":"IF($L$22=0, \"\", $E$73)","v":""},null,{"$f":"$L$22","v":0},"",null,null,null,null,null,null,""]
[228,"BF MECH",{"$f":"IF($M$22=0, \"\", $F$71)","v":""},null,{"$f":"$M$22","v":0},"",null,null,null,null,null,null,"","BF MECH",{"$f":"IF($M$22=0, \"\", $F$72)","v":""},null,{"$f":"$M$22","v":0},"",null,null,null,null,null,null,"","BF MECH",{"$f":"IF($M$22=0, \"\", $F$73)","v":""},null,{"$f":"$M$22","v":0},"",null,null,null,null,null,null,""]
[229,"SALMON HB",{"$f":"IF($N$22=0, \"\", $G$71)","v":""},null,{"$f":"$N$22","v":0},"",null,null,null,null,null,null,"","SALMON HB",{"$f":"IF($N$22=0, \"\", $G$72)","v":""},null,{"$f":"$N$22","v":0},"",null,null,null,null,null,null,"","SALMON HB",{"$f":"IF($N$22=0, \"\", $G$73)","v":""},null,{"$f":"$N$22","v":0},"",null,null,null,null,null,null,""]
[230,"SALMON MECH",{"$f":"IF($O$22=0, \"\", $H$71)","v":""},null,{"$f":"$O$22","v":0},"",null,null,null,null,null,null,"","SALMON MECH",{"$f":"IF($O$22=0, \"\", $H$72)","v":""},null,{"$f":"$O$22","v":0},"",null,null,null,null,null,null,"","SALMON MECH",{"$f":"IF($O$22=0, \"\", $H$73)","v":""},null,{"$f":"$O$22","v":0},"",null,null,null,null,null,null,""]
[231,"WHOLE FROZ RAW SHRIMP",{"$f":"IF($P$22=0, \"\", $G$71)","v":""},null,{"$f":"$P$22","v":0},"",null,null,null,null,null,null,"","WHOLE FROZ RAW SHRIMP",{"$f":"IF($P$22=0, \"\", $G$72)","v":""},null,{"$f":"$P$22","v":0},"",null,null,null,null,null,null,"","WHOLE FROZ RAW SHRIMP",{"$f":"IF($P$22=0, \"\", $G$73)","v":""},null,{"$f":"$P$22","v":0},"",null,null,null,null,null,null,""]
[232,"HERRING STEAKED (SARDINES)",{"$f":"IF($Q$22=0, \"\", $J$71)","v":""},null,{"$f":"$Q$22","v":0},"",null,null,null,null,null,null,"","HERRING STEAKED (SARDINES)",{"$f":"IF($Q$22=0, \"\", $J$72)","v":""},null,{"$f":"$Q$22","v":0},"",null,null,null,null,null,null,"","HERRING STEAKED (SARDINES)",{"$f":"IF($Q$22=0, \"\", $J$73)","v":""},null,{"$f":"$Q$22","v":0},"",null,null,null,null,null,null,""]
[233,"OYSTERS HS",{"$f":"IF($R$22=0, \"\", $K$71)","v":""},null,{"$f":"$R$22","v":0},"",null,null,null,null,null,null,"","OYSTERS HS",{"$f":"IF($R$22=0, \"\", $K$72)","v":""},null,{"$f":"$R$22","v":0},"",null,null,null,null,null,null,"","OYSTERS HS",{"$f":"IF($R$22=0, \"\", $K$73)","v":""},null,{"$f":"$R$22","v":0},"",null,null,null,null,null,null,""]
[234,"FISH MEAL",{"$f":"IF($S$22=0, \"\", $L$71)","v":""},null,{"$f":"$S$22","v":0},"",null,null,null,null,null,null,"","FISH MEAL",{"$f":"IF($S$22=0, \"\", $L$72)","v":""},null,{"$f":"$S$22","v":0},"",null,null,null,null,null,null,"","FISH MEAL",{"$f":"IF($S$22=0, \"\", $L$73)","v":""},null,{"$f":"$S$22","v":0},"",null,null,null,null,null,null,""]
[235,"CLAM HS",{"$f":"IF($T$22=0, \"\", $M$71)","v":""},null,{"$f":"$T$22","v":0},"",null,null,null,null,null,null,"","CLAM HS",{"$f":"IF($T$22=0, \"\", $M$72)","v":""},null,{"$f":"$T$22","v":0},"",null,null,null,null,null,null,"","CLAM HS",{"$f":"IF($T$22=0, \"\", $M$73)","v":""},null,{"$f":"$T$22","v":0},"",null,null,null,null,null,null,""]
[236,"CLAM MECH",{"$f":"IF($U$22=0, \"\", $N$71)","v":""},null,{"$f":"$U$22","v":0},"",null,null,null,null,null,null,"","CLAM MECH",{"$f":"IF($U$22=0, \"\", $N$72)","v":""},null,{"$f":"$U$22","v":0},"",null,null,null,null,null,null,"","CLAM MECH",{"$f":"IF($U$22=0, \"\", $N$73)","v":""},null,{"$f":"$U$22","v":0},"",null,null,null,null,null,null,""]
[237,"BREADED SHRIMP",{"$f":"IF($V$22=0, \"\", $O$71)","v":""},null,{"$f":"$V$22","v":0},"",null,null,null,null,null,null,"","BREADED SHRIMP",{"$f":"IF($V$22=0, \"\", $O$72)","v":""},null,{"$f":"$V$22","v":0},"",null,null,null,null,null,null,"","BREADED SHRIMP",{"$f":"IF($V$22=0, \"\", $O$73)","v":""},null,{"$f":"$V$22","v":0},"",null,null,null,null,null,null,""]
[238,"TUNA-CANNED",{"$f":"IF($W$22=0, \"\", $P$71)","v":""},null,{"$f":"$W$22","v":0},"",null,null,null,null,null,null,"","TUNA-CANNED",{"$f":"IF($W$22=0, \"\", $P$72)","v":""},null,{"$f":"$W$22","v":0},"",null,null,null,null,null,null,"","TUNA-CANNED",{"$f":"IF($W$22=0, \"\", $P$73)","v":""},null,{"$f":"$W$22","v":0},"",null,null,null,null,null,null,""]
[239,"OYSTERS CANNED",{"$f":"IF($X$22=0, \"\", $Q$71)","v":""},null,{"$f":"$X$22","v":0},"",null,null,null,null,null,null,"","OYSTERS CANNED",{"$f":"IF($X$22=0, \"\", $Q$72)","v":""},null,{"$f":"$X$22","v":0},"",null,null,null,null,null,null,"","OYSTERS CANNED",{"$f":"IF($X$22=0, \"\", $Q$73)","v":""},null,{"$f":"$X$22","v":0},"",null,null,null,null,null,null,""]
[240,"SARDINES CANNED",{"$f":"IF($Y$22=0, \"\", $R$71)","v":""},null,{"$f":"$Y$22","v":0},"",null,null,null,null,null,null,"","SARDINES CANNED",{"$f":"IF($Y$22=0, \"\", $R$72)","v":""},null,{"$f":"$Y$22","v":0},"",null,null,null,null,null,null,"","SARDINES CANNED",{"$f":"IF($Y$22=0, \"\", $R$73)","v":""},null,{"$f":"$Y$22","v":0},"",null,null,null,null,null,null,""]
[241,"SCALLOPS",{"$f":"IF($Z$22=0, \"\", $S$71)","v":""},null,{"$f":"$Z$22","v":0},"",null,null,null,null,null,null,"","SCALLOPS",{"$f":"IF($Z$22=0, \"\", $S$72)","v":""},null,{"$f":"$Z$22","v":0},"",null,null,null,null,null,null,"","SCALLOPS",{"$f":"IF($Z$22=0, \"\", $S$73)","v":""},null,{"$f":"$Z$22","v":0},"",null,null,null,null,null,null,""]
[242]
[243,"Sum",null,null,{"$f":"SUM(E225:E241)","v":0},{"$f":"SUM(F225:F241)","v":0},null,null,null,null,null,null,null,"Sum",null,{"$f":"SUM(P225:P241)","v":0},0,0,null,null,null,null,null,null,null,"Sum",null,{"$f":"SUM(AB225:AB241)","v":0},0,0]
[244]
[245,"Sample Day 9                                       BOD","BOD Daily Max TBEL",null,"Production Pounds","Pounds of pollutant allowed",null,null,null,null,"Total Load #/1000-#","TSS Daily Max TBEL                        #/1000-#","Compliance                  YES / NO","Sample Day 9                                       TSS","TSS Daily Max TBEL",null,"Production Pounds","Pounds of pollutant allowed",null,null,null,null,"Total Load #/1000-#","TSS Daily Max TBEL                        #/1000-#","Compliance                  YES / NO","Sample Day 9                                      O&G","O&G Daily Max TBEL",null,"Production Pounds","Pounds of pollutant allowed",null,null,null,null,"Total Load #/1000-#","TSS Daily Max TBEL                        #/1000-#","Compliance                  YES / NO"]
[246,"CRAB",{"$f":"IF($J$24=0, \"\", $C$71)","v":""},null,{"$f":"$J$24","v":0},{"$f":"IFERROR(C246*E246/1000,\"\")","v":""},null,null,null,null,{"$f":"IFERROR(I42,\"\")","v":0},{"$f":"IFERROR(F264/(E264/1000),\"\")","v":""},{"$f":"IF(L246=\"\", \"\", IF(L246=0, \"\", IF(K246=0, \"\", IF(K246<L246, \"YES\",\"NO\"))))","v":""},"CRAB",{"$f":"IF($J$24=0, \"\", $C$72)","v":""},null,{"$f":"$J$24","v":0},{"$f":"IFERROR(O246*Q246/1000,\"\")","v":""},null,null,null,null,{"$f":"IFERROR(I53,\"\")","v":0},{"$f":"IFERROR(R264/(Q264/1000),\"\")","v":""},{"$f":"IF(X246=\"\", \"\", IF(X246=0, \"\", IF(W246=0, \"\", IF(W246<X246, \"YES\",\"NO\"))))","v":""},"CRAB",{"$f":"IF($J$24=0, \"\", $C$73)","v":""},null,{"$f":"$J$24","v":0},{"$f":"IFERROR(AA246*AC246/1000,\"\")","v":""},null,null,null,null,{"$f":"IFERROR(I64,\"\")","v":0},{"$f":"IFERROR(AD264/(AC264/1000),\"\")","v":""},{"$f":"IF(AJ246=\"\", \"\", IF(AJ246=0, \"\", IF(AI246=0, \"\", IF(AI246<AJ246, \"YES\",\"NO\"))))","v":""}]
[247,"SHRIMP",{"$f":"IF($K$24=0, \"\", $D$71)","v":""},null,{"$f":"$K$24","v":0},{"$f":"IFERROR(C247*E247/1000,\"\")","v":""},null,null,null,null,null,null,"","SHRIMP",{"$f":"IF($K$24=0, \"\", $D$72)","v":""},null,{"$f":"$K$24","v":0},{"$f":"IFERROR(O247*Q247/1000,\"\")","v":""},null,null,null,null,null,null,"","SHRIMP",{"$f":"IF($K$24=0, \"\", $D$73)","v":""},null,{"$f":"$K$24","v":0},{"$f":"IFERROR(AA247*AC247/1000,\"\")","v":""},null,null,null,null,null,null,""]
[248,"BF CONV",{"$f":"IF($L$24=0, \"\", $E$71)","v":""},null,{"$f":"$L$24","v":0},"",null,null,null,null,null,null,"","BF CONV",{"$f":"IF($L$24=0, \"\", $E$72)","v":""},null,{"$f":"$L$24","v":0},"",null,null,null,null,null,null,"","BF CONV",{"$f":"IF($L$24=0, \"\", $E$73)","v":""},null,{"$f":"$L$24","v":0},"",null,null,null,null,null,null,""]
[249,"BF MECH",{"$f":"IF($M$24=0, \"\", $F$71)","v":""},null,{"$f":"$M$24","v":0},"",null,null,null,null,null,null,"","BF MECH",{"$f":"IF($M$24=0, \"\", $F$72)","v":""},null,{"$f":"$M$24","v":0},"",null,null,null,null,null,null,"","BF MECH",{"$f":"IF($M$24=0, \"\", $F$73)","v":""},null,{"$f":"$M$24","v":0},"",null,null,null,null,null,null,""]
[250,"SALMON HB",{"$f":"IF($N$24=0, \"\", $G$71)","v":""},null,{"$f":"$N$24","v":0},"",null,null,null,null,null,null,"","SALMON HB",{"$f":"IF($N$24=0, \"\", $G$72)","v":""},null,{"$f":"$N$24","v":0},"",null,null,null,null,null,null,"","SALMON HB",{"$f":"IF($N$24=0, \"\", $G$73)","v":""},null,{"$f":"$N$24","v":0},"",null,null,null,null,null,null,""]
[251,"SALMON MECH",{"$f":"IF($O$24=0, \"\", $H$71)","v":""},null,{"$f":"$O$24","v":0},"",null,null,null,null,null,null,"","SALMON MECH",{"$f":"IF($O$24=0, \"\", $H$72)","v":""},null,{"$f":"$O$24","v":0},"",null,null,null,null,null,null,"","SALMON MECH",{"$f":"IF($O$24=0, \"\", $H$73)","v":""},null,{"$f":"$O$24","v":0},"",null,null,null,null,null,null,""]
[252,"WHOLE FROZ RAW SHRIMP",{"$f":"IF($P$24=0, \"\", $G$71)","v":""},null,{"$f":"$P$24","v":0},"",null,null,null,null,null,null,"","WHOLE FROZ RAW SHRIMP",{"$f":"IF($P$24=0, \"\", $G$72)","v":""},null,{"$f":"$P$24","v":0},"",null,null,null,null,null,null,"","WHOLE FROZ RAW SHRIMP",{"$f":"IF($P$24=0, \"\", $G$73)","v":""},null,{"$f":"$P$24","v":0},"",null,null,null,null,null,null,""]
[253,"HERRING STEAKED (SARDINES)",{"$f":"IF($Q$24=0, \"\", $J$71)","v":""},null,{"$f":"$Q$24","v":0},"",null,null,null,null,null,null,"","HERRING STEAKED (SARDINES)",{"$f":"IF($Q$24=0, \"\", $J$72)","v":""},null,{"$f":"$Q$24","v":0},"",null,null,null,null,null,null,"","HERRING STEAKED (SARDINES)",{"$f":"IF($Q$24=0, \"\", $J$73)","v":""},null,{"$f":"$Q$24","v":0},"",null,null,null,null,null,null,""]
[254,"OYSTERS HS",{"$f":"IF($R$24=0, \"\", $K$71)","v":""},null,{"$f":"$R$24","v":0},"",null,null,null,null,null,null,"","OYSTERS HS",{"$f":"IF($R$24=0, \"\", $K$72)","v":""},null,{"$f":"$R$24","v":0},"",null,null,null,null,null,null,"","OYSTERS HS",{"$f":"IF($R$24=0, \"\", $K$73)","v":""},null,{"$f":"$R$24","v":0},"",null,null,null,null,null,null,""]
[255,"FISH MEAL",{"$f":"IF($S$24=0, \"\", $L$71)","v":""},null,{"$f":"$S$24","v":0},"",null,null,null,null,null,null,"","FISH MEAL",{"$f":"IF($S$24=0, \"\", $L$72)","v":""},null,{"$f":"$S$24","v":0},"",null,null,null,null,null,null,"","FISH MEAL",{"$f":"IF($S$24=0, \"\", $L$73)","v":""},null,{"$f":"$S$24","v":0},"",null,null,null,null,null,null,""]
[256,"CLAM HS",{"$f":"IF($T$24=0, \"\", $M$71)","v":""},null,{"$f":"$T$24","v":0},"",null,null,null,null,null,null,"","CLAM HS",{"$f":"IF($T$24=0, \"\", $M$72)","v":""},null,{"$f":"$T$24","v":0},"",null,null,null,null,null,null,"","CLAM HS",{"$f":"IF($T$24=0, \"\", $M$73)","v":""},null,{"$f":"$T$24","v":0},"",null,null,null,null,null,null,""]
[257,"CLAM MECH",{"$f":"IF($U$24=0, \"\", $N$71)","v":""},null,{"$f":"$U$24","v":0},"",null,null,null,null,null,null,"","CLAM MECH",{"$f":"IF($U$24=0, \"\", $N$72)","v":""},null,{"$f":"$U$24","v":0},"",null,null,null,null,null,null,"","CLAM MECH",{"$f":"IF($U$24=0, \"\", $N$73)","v":""},null,{"$f":"$U$24","v":0},"",null,null,null,null,null,null,""]
[258,"BREADED SHRIMP",{"$f":"IF($V$24=0, \"\", $O$71)","v":""},null,{"$f":"$V$24","v":0},"",null,null,null,null,null,null,"","BREADED SHRIMP",{"$f":"IF($V$24=0, \"\", $O$72)","v":""},null,{"$f":"$V$24","v":0},"",null,null,null,null,null,null,"","BREADED SHRIMP",{"$f":"IF($V$24=0, \"\", $O$73)","v":""},null,{"$f":"$V$24","v":0},"",null,null,null,null,null,null,""]
[259,"TUNA-CANNED",{"$f":"IF($W$24=0, \"\", $P$71)","v":""},null,{"$f":"$W$24","v":0},"",null,null,null,null,null,null,"","TUNA-CANNED",{"$f":"IF($W$24=0, \"\", $P$72)","v":""},null,{"$f":"$W$24","v":0},"",null,null,null,null,null,null,"","TUNA-CANNED",{"$f":"IF($W$24=0, \"\", $P$73)","v":""},null,{"$f":"$W$24","v":0},"",null,null,null,null,null,null,""]
[260,"OYSTERS CANNED",{"$f":"IF($X$24=0, \"\", $Q$71)","v":""},null,{"$f":"$X$24","v":0},"",null,null,null,null,null,null,"","OYSTERS CANNED",{"$f":"IF($X$24=0, \"\", $Q$72)","v":""},null,{"$f":"$X$24","v":0},"",null,null,null,null,null,null,"","OYSTERS CANNED",{"$f":"IF($X$24=0, \"\", $Q$73)","v":""},null,{"$f":"$X$24","v":0},"",null,null,null,null,null,null,""]
[261,"SARDINES CANNED",{"$f":"IF($Y$24=0, \"\", $R$71)","v":""},null,{"$f":"$Y$24","v":0},"",null,null,null,null,null,null,"","SARDINES CANNED",{"$f":"IF($Y$24=0, \"\", $R$72)","v":""},null,{"$f":"$Y$24","v":0},"",null,null,null,null,null,null,"","SARDINES CANNED",{"$f":"IF($Y$24=0, \"\", $R$73)","v":""},null,{"$f":"$Y$24","v":0},"",null,null,null,null,null,null,""]
[262,"SCALLOPS",{"$f":"IF($Z$24=0, \"\", $S$71)","v":""},null,{"$f":"$Z$24","v":0},"",null,null,null,null,null,null,"","SCALLOPS",{"$f":"IF($Z$24=0, \"\", $S$72)","v":""},null,{"$f":"$Z$24","v":0},"",null,null,null,null,null,null,"","SCALLOPS",{"$f":"IF($Z$24=0, \"\", $S$73)","v":""},null,{"$f":"$Z$24","v":0},"",null,null,null,null,null,null,""]
[263,null,null,null,null,null,null,null,null,null,null,null,null,null,null,null,null,null,null,null,null,null,null,null,{"$f":"IF(X263=\"\", \"\", IF(X263=0, \"\", IF(V263=0, \"\", IF(V263<X263, \"YES\",\"NO\"))))","v":""}]
[264,"Sum",null,null,{"$f":"SUM(E246:E262)","v":0},{"$f":"SUM(F246:F262)","v":0},null,null,null,null,null,null,null,"Sum",null,{"$f":"SUM(P246:P262)","v":0},0,0,null,null,null,null,null,null,null,"Sum",null,{"$f":"SUM(AB246:AB262)","v":0},0,0]
[265]
[266,"Sample Day 10                                      BOD","BOD Daily Max TBEL",null,"Production Pounds","Pounds of pollutant allowed",null,null,null,null,"Total Load #/1000-#","TSS Daily Max TBEL                        #/1000-#","Compliance                  YES / NO","Sample Day 10                                       TSS","TSS Daily Max TBEL",null,"Production Pounds","Pounds of pollutant allowed",null,null,null,null,"Total Load #/1000-#","TSS Daily Max TBEL                        #/1000-#","Compliance                  YES / NO","Sample Day 10                                       O&G","O&G Daily Max TBEL",null,"Production Pounds","Pounds of pollutant allowed",null,null,null,null,"Total Load #/1000-#","TSS Daily Max TBEL                        #/1000-#","Compliance                  YES / NO"]
[267,"CRAB",{"$f":"IF($J$26=0, \"\", $C$71)","v":""},null,{"$f":"$J$26","v":0},{"$f":"IFERROR(C267*E267/1000,\"\")","v":""},null,null,null,null,{"$f":"IFERROR(I43,\"\")","v":0},{"$f":"IFERROR(F285/(E285/1000),\"\")","v":""},{"$f":"IF(L267=\"\", \"\", IF(L267=0, \"\", IF(K267=0, \"\", IF(K267<L267, \"YES\",\"NO\"))))","v":""},"CRAB",{"$f":"IF($J$26=0, \"\", $C$72)","v":""},null,{"$f":"$J$26","v":0},{"$f":"IFERROR(O267*Q267/1000,\"\")","v":""},null,null,null,null,{"$f":"IFERROR(I54,\"\")","v":0},{"$f":"IFERROR(R285/(Q285/1000),\"\")","v":""},{"$f":"IF(X267=\"\", \"\", IF(X267=0, \"\", IF(W267=0, \"\", IF(W267<X267, \"YES\",\"NO\"))))","v":""},"CRAB",{"$f":"IF($J$26=0, \"\", $C$73)","v":""},null,{"$f":"$J$26","v":0},{"$f":"IFERROR(AA267*AC267/1000,\"\")","v":""},null,null,null,null,{"$f":"IFERROR(I65,\"\")","v":0},{"$f":"IFERROR(AD285/(AC285/1000),\"\")","v":""},{"$f":"IF(AJ267=\"\", \"\", IF(AJ267=0, \"\", IF(AI267=0, \"\", IF(AI267<AJ267, \"YES\",\"NO\"))))","v":""}]
[268,"SHRIMP",{"$f":"IF($K$26=0, \"\", $D$71)","v":""},null,{"$f":"$K$26","v":0},{"$f":"IFERROR(C268*E268/1000,\"\")","v":""},null,null,null,null,null,null,"","SHRIMP",{"$f":"IF($K$26=0, \"\", $D$72)","v":""},null,{"$f":"$K$26","v":0},{"$f":"IFERROR(O268*Q268/1000,\"\")","v":""},null,null,null,null,null,null,"","SHRIMP",{"$f":"IF($K$26=0, \"\", $D$73)","v":""},null,{"$f":"$K$26","v":0},{"$f":"IFERROR(AA268*AC268/1000,\"\")","v":""},null,null,null,null,null,null,""]
[269,"BF CONV",{"$f":"IF($L$26=0, \"\", $E$71)","v":""},null,{"$f":"$L$26","v":0},"",null,null,null,null,null,null,"","BF CONV",{"$f":"IF($L$26=0, \"\", $E$72)","v":""},null,{"$f":"$L$26","v":0},"",null,null,null,null,null,null,"","BF CONV",{"$f":"IF($L$26=0, \"\", $E$73)","v":""},null,{"$f":"$L$26","v":0},"",null,null,null,null,null,null,""]
[270,"BF MECH",{"$f":"IF($M$26=0, \"\", $F$71)","v":""},null,{"$f":"$M$26","v":0},"",null,null,null,null,null,null,"","BF MECH",{"$f":"IF($M$26=0, \"\", $F$72)","v":""},null,{"$f":"$M$26","v":0},"",null,null,null,null,null,null,"","BF MECH",{"$f":"IF($M$26=0, \"\", $F$73)","v":""},null,{"$f":"$M$26","v":0},"",null,null,null,null,null,null,""]
[271,"SALMON HB",{"$f":"IF($N$26=0, \"\", $G$71)","v":""},null,{"$f":"$N$26","v":0},"",null,null,null,null,null,null,"","SALMON HB",{"$f":"IF($N$26=0, \"\", $G$72)","v":""},null,{"$f":"$N$26","v":0},"",null,null,null,null,null,null,"","SALMON HB",{"$f":"IF($N$26=0, \"\", $G$73)","v":""},null,{"$f":"$N$26","v":0},"",null,null,null,null,null,null,""]
[272,"SALMON MECH",{"$f":"IF($O$26=0, \"\", $H$71)","v":""},null,{"$f":"$O$26","v":0},"",null,null,null,null,null,null,"","SALMON MECH",{"$f":"IF($O$26=0, \"\", $H$72)","v":""},null,{"$f":"$O$26","v":0},"",null,null,null,null,null,null,"","SALMON MECH",{"$f":"IF($O$26=0, \"\", $H$73)","v":""},null,{"$f":"$O$26","v":0},"",null,null,null,null,null,null,""]
[273,"WHOLE FROZ RAW SHRIMP",{"$f":"IF($P$26=0, \"\", $G$71)","v":""},null,{"$f":"$P$26","v":0},"",null,null,null,null,null,null,"","WHOLE FROZ RAW SHRIMP",{"$f":"IF($P$26=0, \"\", $G$72)","v":""},null,{"$f":"$P$26","v":0},"",null,null,null,null,null,null,"","WHOLE FROZ RAW SHRIMP",{"$f":"IF($P$26=0, \"\", $G$73)","v":""},null,{"$f":"$P$26","v":0},"",null,null,null,null,null,null,""]
[274,"HERRING STEAKED (SARDINES)",{"$f":"IF($Q$26=0, \"\", $J$71)","v":""},null,{"$f":"$Q$26","v":0},"",null,null,null,null,null,null,"","HERRING STEAKED (SARDINES)",{"$f":"IF($Q$26=0, \"\", $J$72)","v":""},null,{"$f":"$Q$26","v":0},"",null,null,null,null,null,null,"","HERRING STEAKED (SARDINES)",{"$f":"IF($Q$26=0, \"\", $J$73)","v":""},null,{"$f":"$Q$26","v":0},"",null,null,null,null,null,null,""]
[275,"OYSTERS HS",{"$f":"IF($R$26=0, \"\", $K$71)","v":""},null,{"$f":"$R$26","v":0},"",null,null,null,null,null,null,"","OYSTERS HS",{"$f":"IF($R$26=0, \"\", $K$72)","v":""},null,{"$f":"$R$26","v":0},"",null,null,null,null,null,null,"","OYSTERS HS",{"$f":"IF($R$26=0, \"\", $K$73)","v":""},null,{"$f":"$R$26","v":0},"",null,null,null,null,null,null,""]
[276,"FISH MEAL",{"$f":"IF($S$26=0, \"\", $L$71)","v":""},null,{"$f":"$S$26","v":0},"",null,null,null,null,null,null,"","FISH MEAL",{"$f":"IF($S$26=0, \"\", $L$72)","v":""},null,{"$f":"$S$26","v":0},"",null,null,null,null,null,null,"","FISH MEAL",{"$f":"IF($S$26=0, \"\", $L$73)","v":""},null,{"$f":"$S$26","v":0},"",null,null,null,null,null,null,""]
[277,"CLAM HS",{"$f":"IF($T$26=0, \"\", $M$71)","v":""},null,{"$f":"$T$26","v":0},"",null,null,null,null,null,null,"","CLAM HS",{"$f":"IF($T$26=0, \"\", $M$72)","v":""},null,{"$f":"$T$26","v":0},"",null,null,null,null,null,null,"","CLAM HS",{"$f":"IF($T$26=0, \"\", $M$73)","v":""},null,{"$f":"$T$26","v":0},"",null,null,null,null,null,null,""]
[278,"CLAM MECH",{"$f":"IF($U$26=0, \"\", $N$71)","v":""},null,{"$f":"$U$26","v":0},"",null,null,null,null,null,null,"","CLAM MECH",{"$f":"IF($U$26=0, \"\", $N$72)","v":""},null,{"$f":"$U$26","v":0},"",null,null,null,null,null,null,"","CLAM MECH",{"$f":"IF($U$26=0, \"\", $N$73)","v":""},null,{"$f":"$U$26","v":0},"",null,null,null,null,null,null,""]
[279,"BREADED SHRIMP",{"$f":"IF($V$26=0, \"\", $O$71)","v":""},null,{"$f":"$V$26","v":0},"",null,null,null,null,null,null,"","BREADED SHRIMP",{"$f":"IF($V$26=0, \"\", $O$72)","v":""},null,{"$f":"$V$26","v":0},"",null,null,null,null,null,null,"","BREADED SHRIMP",{"$f":"IF($V$26=0, \"\", $O$73)","v":""},null,{"$f":"$V$26","v":0},"",null,null,null,null,null,null,""]
[280,"TUNA-CANNED",{"$f":"IF($W$26=0, \"\", $P$71)","v":""},null,{"$f":"$W$26","v":0},"",null,null,null,null,null,null,"","TUNA-CANNED",{"$f":"IF($W$26=0, \"\", $P$72)","v":""},null,{"$f":"$W$26","v":0},"",null,null,null,null,null,null,"","TUNA-CANNED",{"$f":"IF($W$26=0, \"\", $P$73)","v":""},null,{"$f":"$W$26","v":0},"",null,null,null,null,null,null,""]
[281,"OYSTERS CANNED",{"$f":"IF($X$26=0, \"\", $Q$71)","v":""},null,{"$f":"$X$26","v":0},"",null,null,null,null,null,null,"","OYSTERS CANNED",{"$f":"IF($X$26=0, \"\", $Q$72)","v":""},null,{"$f":"$X$26","v":0},"",null,null,null,null,null,null,"","OYSTERS CANNED",{"$f":"IF($X$26=0, \"\", $Q$73)","v":""},null,{"$f":"$X$26","v":0},"",null,null,null,null,null,null,""]
[282,"SARDINES CANNED",{"$f":"IF($Y$26=0, \"\", $R$71)","v":""},null,{"$f":"$Y$26","v":0},"",null,null,null,null,null,null,"","SARDINES CANNED",{"$f":"IF($Y$26=0, \"\", $R$72)","v":""},null,{"$f":"$Y$26","v":0},"",null,null,null,null,null,null,"","SARDINES CANNED",{"$f":"IF($Y$26=0, \"\", $R$73)","v":""},null,{"$f":"$Y$26","v":0},"",null,null,null,null,null,null,""]
[283,"SCALLOPS",{"$f":"IF($Z$26=0, \"\", $S$71)","v":""},null,{"$f":"$Z$26","v":0},"",null,null,null,null,null,null,"","SCALLOPS",{"$f":"IF($Z$26=0, \"\", $S$72)","v":""},null,{"$f":"$Z$26","v":0},"",null,null,null,null,null,null,"","SCALLOPS",{"$f":"IF($Z$26=0, \"\", $S$73)","v":""},null,{"$f":"$Z$26","v":0},"",null,null,null,null,null,null,""]
[284]
[285,"Sum",null,null,{"$f":"SUM(E267:E283)","v":0},{"$f":"SUM(F267:F283)","v":0},null,null,null,null,null,null,null,"Sum",null,{"$f":"SUM(P267:P283)","v":0},0,0,null,null,null,null,null,null,null,"Sum",{"$f":"SUM(AA267:AA283)","v":0},0,0,0]
[286]
[287]
[288]
[289]
[290,6,"RECAP MO-AVG TBELS HERE (NSPS) BY PARAMETER & SPECIES/PROCESS-TYPE                                                                                              all TBELs are expressed in pounds of pollutant per thousand-pounds of seafood processed abbreviated as   #/ 1000-#",null,null,null,null,null,null,null,null,null,"RECAP TBELS HERE BY PARAMETER & SPECIES/PROCESS-TYPE"]
[291,"B","C","D","E","F","G","H","I","J","K","L","M","N","O","P","Q","R","S"]
[292,"PARAMETER","CRAB"," N.SHRIMP","BFC        BOTTOM FISH CONV"," BFM      BOTTOM FISH MECH","SALMON HB"," SALMON MECH","BPJ           WHOLE FROZEN RAW SHRIMP"," HERRING  (Sardine Steaked)","OYSTER HAND SHUCK","FISH MEAL","CLAM HAND SHUCK","CLAM MECH","BREADED SHRIMP CONTIGUOUS STATES","TUNA                (canned)       ","OYSTER  STEAMED & CANNED","SARDINES CANNED","SCALLOP"]
[293,"BOD - Mo Avg",4.0999999999999996,62,0.71,7.5,1.7,38,18,15,null,3.8,null,5.7,40,8.1,17,null,null,293]
[294,"TSS - Mo Avg",0.69,15,0.73,2.9,0.42,7.6,4.4000000000000004,5.2,36,1.5,17,4.4000000000000004,22,3,39,10,1.4,294]
[295,"O&G Mo Avg",0.1,5.7,4.2000000000000003E-2,0.47,2.5999999999999999E-2,1.5,1.7,1.1000000000000001,1.7,0.76,0.21,9.1999999999999998E-2,1.5,0.76,0.42,0.56999999999999995,0.23,295]
[296]
[297]
[298]
[299,7,"CALCULATIONS PERFORMED AUTOMATICALLY.  DO NOT ENTER ANYTHING HERE.                                                                                                                                          SPREADSHEET WILL ALLOCATE LOAD BY SPECIES AND TOTAL POUNDS/MONTH,  MONTHLY AVERAGE TBEL.                                                                                   DIRECT COMPARE TO TBEL FOR COMPLIANCE",null,null,null,null,null,null,null,null,null,null,"CALCULATIONS PERFORMED AUTOMATICALLY.  DO NOT ENTER ANYTHING HERE.                                                                                                                                                                            SPREADSHEET WILL ALLOCATE LOAD BY SPECIES AND TOTAL POUNDS/MONTH,  MONTHLY AVERAGE TBEL.                                                                                                                                      DIRECT COMPARE TO TBEL FOR COMPLIANCE",null,null,null,null,null,null,null,null,null,null,null,"CALCULATIONS PERFORMED AUTOMATICALLY.  DO NOT ENTER ANYTHING HERE.                                                                                                                                                                       SPREADSHEET WILL ALLOCATE LOAD BY SPECIES AND TOTAL POUNDS/MONTH,  MONTHLY AVERAGE TBEL.                                                                                                                        DIRECT COMPARE TO TBEL FOR COMPLIANCE"]
[300,"MONTHLY AVERAGE                                     BOD","BOD MO AVG TBEL",null,"Total Production per Species (#)","Allowd mass per species (#)",null,null,null,null,"Monthly Average Load per Day #/1000-#","Monthly Average Limit #/1000-#","Compliance                           YES /NO","MONTHLY AVERAGE                                   TSS","TSS MO AVG TBEL",null,"Total Production per Species (#)","Allowd mass per species (#)",null,null,null,null,"Monthly Average Load per Day #/1000-#","Monthly Average Limit #/1000-#","Compliance              YES/ NO","MONTHLY AVERAGE                                  O&G","O&G MO AVG TBEL",null,"Total Production per Species (#)","Allowd mass per species (#)",null,null,null,null,"Monthly Average Load per Day #/1000-#","Monthly Average Limit #/1000-#","Compliance                   YES / NO"]
[301,"CRAB",{"$f":"IF($J$28=\"\", \"\",IF($J$28=0,\"\", $C$293))","v":""},null,{"$f":"E78+E99+E120+E141+E162+E183+E204+E225++E246+E267","v":0},{"$f":"IFERROR(C301*E301/1000,\"\")","v":""},null,null,null,null,{"$f":"IFERROR((K78+K99+K120+K141+K162+K183+K204+K225++K246+K267)/COUNTIF(K78:K267,\">0\"),\"\")","v":""},{"$f":"IFERROR(F319/(E319/1000),\"\")","v":""},{"$f":"IF(L301=\"\", \"\",IF(L301=0,\"\",IF(K301=0,\"\", IF(K301<L301, \"YES\",\"NO\"))))","v":""},"CRAB",{"$f":"IF($J$28=\"\", \"\",IF($J$28=0,\"\", $C$294))","v":""},null,{"$f":"Q78+Q99+Q120+Q141+Q162+Q183+Q204+Q225++Q246+Q267","v":0},{"$f":"IFERROR(O301*Q301/1000,\"\")","v":""},null,null,null,null,{"$f":"IFERROR((W78+W99+W120+W141+W162+W183+W204+W225++W246+W267)/COUNTIF(W78:W267,\">0\"),\"\")","v":""},{"$f":"IFERROR(R319/(Q319/1000),\"\")","v":""},{"$f":"IF(X301=\"\", \"\",IF(X301=0,\"\",IF(W301=0,\"\", IF(W301<X301, \"YES\",\"NO\"))))","v":""},"CRAB",{"$f":"IF($J$28=\"\", \"\",IF($J$28=0,\"\", $C$295))","v":""},null,{"$f":"AC78+AC99+AC120+AC141+AC162+AC183+AC204+AC225++AC246+AC267","v":0},{"$f":"IFERROR(AA301*AC301/1000,\"\")","v":""},null,null,null,null,{"$f":"IFERROR((AI78+AI99+AI120+AI141+AI162+AI183+AI204+AI225++AI246+AI267)/COUNTIF(AI78:AI267,\">0\"),\"\")","v":""},{"$f":"IFERROR(AD319/(AC319/1000),\"\")","v":""},{"$f":"IF(AJ301=\"\", \"\",IF(AJ301=0,\"\",IF(AI301=0,\"\", IF(AI301<AJ301, \"YES\",\"NO\"))))","v":""}]
[302,"SHRIMP",{"$f":"IF($K$28=\"\", \"\",IF($K$28=0,\"\", $D$293))","v":""},null,{"$f":"E79+E100+E121+E142+E163+E184+E205+E226++E247+E268","v":0},{"$f":"IFERROR(C302*E302/1000,\"\")","v":""},null,null,null,null,null,null,{"$f":"IF(L302=\"\", \"\",IF(L302=0,\"\",IF(K302=0,\"\", IF(K302<L302, \"YES\",\"NO\"))))","v":""},"SHRIMP",{"$f":"IF($K$28=\"\", \"\",IF($K$28=0,\"\", $D$294))","v":""},null,{"$f":"Q79+Q100+Q121+Q142+Q163+Q184+Q205+Q226++Q247+Q268","v":0},{"$f":"IFERROR(O302*Q302/1000,\"\")","v":""},null,null,null,null,null,null,"","SHRIMP",{"$f":"IF($K$28=\"\", \"\",IF($K$28=0,\"\", $D$295))","v":""},null,{"$f":"AC79+AC100+AC121+AC142+AC163+AC184+AC205+AC226++AC247+AC268","v":0},{"$f":"IFERROR(AA302*AC302/1000,\"\")","v":""},null,null,null,null,null,null,""]
[303,"BF CONV",{"$f":"IF($L$28=\"\", \"\",IF($L$28=0,\"\", $E$293))","v":""},null,0,"",null,null,null,null,null,null,"","BF CONV",{"$f":"IF($L$28=\"\", \"\",IF($L$28=0,\"\", $E$294))","v":""},null,0,"",null,null,null,null,null,null,"","BF CONV",{"$f":"IF($L$28=\"\", \"\",IF($L$28=0,\"\", $E$295))","v":""},null,0,"",null,null,null,null,null,null,""]
[304,"BF MECH",{"$f":"IF($M$28=\"\", \"\",IF($M$28=0,\"\", $F$293))","v":""},null,0,"",null,null,null,null,null,null,"","BF MECH",{"$f":"IF($M$28=\"\", \"\",IF($M$28=0,\"\", $F$294))","v":""},null,0,"",null,null,null,null,null,null,"","BF MECH",{"$f":"IF($M$28=\"\", \"\",IF($M$28=0,\"\", $F$295))","v":""},null,0,"",null,null,null,null,null,null,""]
[305,"SALMON HB",{"$f":"IF($N$28=\"\", \"\",IF($N$28=0,\"\", $G$293))","v":""},null,0,"",null,null,null,null,null,null,"","SALMON HB",{"$f":"IF($N$28=\"\", \"\",IF($N$28=0,\"\", $G$294))","v":""},null,0,"",null,null,null,null,null,null,"","SALMON HB",{"$f":"IF($N$28=\"\", \"\",IF($N$28=0,\"\", $G$295))","v":""},null,0,"",null,null,null,null,null,null,""]
[306,"SALMON MECH",{"$f":"IF($O$28=\"\", \"\",IF($O$28=0,\"\", $H$293))","v":""},null,0,"",null,null,null,null,null,null,"","SALMON MECH",{"$f":"IF($O$28=\"\", \"\",IF($O$28=0,\"\", $H$294))","v":""},null,0,"",null,null,null,null,null,null,"","SALMON MECH",{"$f":"IF($O$28=\"\", \"\",IF($O$28=0,\"\", $H$295))","v":""},null,0,"",null,null,null,null,null,null,""]
[307,"WHOLE FROZ RAW SHRIMP",{"$f":"IF($P$28=\"\", \"\",IF($P$28=0,\"\", $I$293))","v":""},null,0,"",null,null,null,null,null,null,"","WHOLE FROZ RAW SHRIMP",{"$f":"IF($P$28=\"\", \"\",IF($P$28=0,\"\", $I$294))","v":""},null,0,"",null,null,null,null,null,null,"","WHOLE FROZ RAW SHRIMP",{"$f":"IF($P$28=\"\", \"\",IF($P$28=0,\"\", $I$295))","v":""},null,0,"",null,null,null,null,null,null,""]
[308,"HERRING STEAKED (SARDINES)",{"$f":"IF($Q$28=\"\", \"\",IF($Q$28=0,\"\", $J$293))","v":""},null,0,"",null,null,null,null,null,null,"","HERRING STEAKED (SARDINES)",{"$f":"IF($Q$28=\"\", \"\",IF($Q$28=0,\"\", $J$294))","v":""},null,0,"",null,null,null,null,null,null,"","HERRING STEAKED (SARDINES)",{"$f":"IF($Q$28=\"\", \"\",IF($Q$28=0,\"\", $J$295))","v":""},null,0,"",null,null,null,null,null,null,""]
[309,"OYSTERS HS",{"$f":"IF($R$28=\"\", \"\",IF($R$28=0,\"\", $K$293))","v":""},null,0,"",null,null,null,null,null,null,"","OYSTERS HS",{"$f":"IF($R$28=\"\", \"\",IF($R$28=0,\"\", $K$294))","v":""},null,0,"",null,null,null,null,null,null,"","OYSTERS HS",{"$f":"IF($R$28=\"\", \"\",IF($R$28=0,\"\", $K$295))","v":""},null,0,"",null,null,null,null,null,null,""]
[310,"FISH MEAL",{"$f":"IF($S$28=\"\", \"\",IF($S$28=0,\"\", $L$293))","v":""},null,0,"",null,null,null,null,null,null,"","FISH MEAL",{"$f":"IF($S$28=\"\", \"\",IF($S$28=0,\"\", $L$294))","v":""},null,0,"",null,null,null,null,null,null,"","FISH MEAL",{"$f":"IF($S$28=\"\", \"\",IF($S$28=0,\"\", $L$295))","v":""},null,0,"",null,null,null,null,null,null,""]
[311,"CLAM HS",{"$f":"IF($T$28=\"\", \"\",IF($T$28=0,\"\", $M$293))","v":""},null,0,"",null,null,null,null,null,null,"","CLAM HS",{"$f":"IF($T$28=\"\", \"\",IF($T$28=0,\"\", $M$294))","v":""},null,0,"",null,null,null,null,null,null,"","CLAM HS",{"$f":"IF($T$28=\"\", \"\",IF($T$28=0,\"\", $M$295))","v":""},null,0,"",null,null,null,null,null,null,""]
[312,"CLAM MECH",{"$f":"IF($U$28=\"\", \"\",IF($U$28=0,\"\", $N$293))","v":""},null,0,"",null,null,null,null,null,null,"","CLAM MECH",{"$f":"IF($U$28=\"\", \"\",IF($U$28=0,\"\", $N$294))","v":""},null,0,"",null,null,null,null,null,null,"","CLAM MECH",{"$f":"IF($U$28=\"\", \"\",IF($U$28=0,\"\", $N$295))","v":""},null,0,"",null,null,null,null,null,null,""]
[313,"BREADED SHRIMP",{"$f":"IF($V$28=\"\", \"\",IF($V$28=0,\"\", $O$293))","v":""},null,0,"",null,null,null,null,null,null,"","BREADED SHRIMP",{"$f":"IF($V$28=\"\", \"\",IF($V$28=0,\"\", $O$294))","v":""},null,0,"",null,null,null,null,null,null,"","BREADED SHRIMP",{"$f":"IF($V$28=\"\", \"\",IF($V$28=0,\"\", $O$295))","v":""},null,0,"",null,null,null,null,null,null,""]
[314,"TUNA-CANNED",{"$f":"IF($W$28=\"\", \"\",IF($W$28=0,\"\", $P$293))","v":""},null,0,"",null,null,null,null,null,null,"","TUNA-CANNED",{"$f":"IF($W$28=\"\", \"\",IF($W$28=0,\"\", $P$294))","v":""},null,0,"",null,null,null,null,null,null,"","TUNA-CANNED",{"$f":"IF($W$28=\"\", \"\",IF($W$28=0,\"\", $P$295))","v":""},null,0,"",null,null,null,null,null,null,""]
[315,"OYSTERS CANNED",{"$f":"IF($X$28=\"\", \"\",IF($X$28=0,\"\", $Q$293))","v":""},null,0,"",null,null,null,null,null,null,"","OYSTERS CANNED",{"$f":"IF($X$28=\"\", \"\",IF($X$28=0,\"\", $Q$294))","v":""},null,0,"",null,null,null,null,null,null,"","OYSTERS CANNED",{"$f":"IF($X$28=\"\", \"\",IF($X$28=0,\"\", $Q$295))","v":""},null,0,"",null,null,null,null,null,null,""]
[315,"SARDINES CANNED",{"$f":"IF($Y$28=\"\", \"\",IF($Y$28=0,\"\", $R$293))","v":""},null,0,"",null,null,null,null,null,null,"","SARDINES CANNED",{"$f":"IF($Y$28=\"\", \"\",IF($Y$28=0,\"\", $R$294))","v":""},null,0,"",null,null,null,null,null,null,"","SARDINES CANNED",{"$f":"IF($Y$28=\"\", \"\",IF($Y$28=0,\"\", $R$295))","v":""},null,0,"",null,null,null,null,null,null,""]
[317,"SCALLOPS",{"$f":"IF($Z$28=\"\", \"\",IF($Z$28=0,\"\", $S$293))","v":""},null,0,"",null,null,null,null,null,null,"","SCALLOPS",{"$f":"IF($Z$28=\"\", \"\",IF($Z$28=0,\"\", $S$294))","v":""},null,0,"",null,null,null,null,null,null,"","SCALLOPS",{"$f":"IF($Z$28=\"\", \"\",IF($Z$28=0,\"\", $S$295))","v":""},null,0,"",null,null,null,null,null,null,""]
[318]
[319,null,null,null,{"$f":"SUM(E301:E318)","v":0},{"$f":"SUM(F301:F318)","v":0},null,null,null,null,null,null,null,null,null,null,{"$f":"SUM(Q301:Q318)","v":0},{"$f":"SUM(R301:R318)","v":0},null,null,null,null,null,null,null,null,null,null,{"$f":"SUM(AC301:AC318)","v":0},{"$f":"SUM(AD301:AD318)","v":0}]
[320]
[321,8,"COMPLIANCE SORT FOR REPORTING"]
[322]
[]
[]
[null,null,null,null,"Daily Compliance"]
[null,"Day","Total Load #/1000-#","BOD Daily Max TBEL          #/1000-#","Compliance            YES /NO","Total Load #/1000-#","TSS Daily Max TBEL                        #/1000-#","Compliance                 YES/ NO","Total Load #/1000-#","O&G Daily Max TBEL                        #/1000-#","Compliance     YES / NO"]
[null,1,{"$f":"IFERROR(ROUND(VLOOKUP(ROUNDUP(LOG10(NwSoTransfer!B2),0),NwSoTransfer!$A$16:$B$29,2)*NwSoTransfer!B2,2)/VLOOKUP(ROUNDUP(LOG10(NwSoTransfer!B2),0),NwSoTransfer!$A$16:$B$29,2),\"\")","v":""},{"$f":"IFERROR(ROUND(VLOOKUP(ROUNDUP(LOG10(NwSoTransfer!C2),0),NwSoTransfer!$A$16:$B$29,2)*NwSoTransfer!C2,2)/VLOOKUP(ROUNDUP(LOG10(NwSoTransfer!C2),0),NwSoTransfer!$A$16:$B$29,2),\"\")","v":""},{"$f":"IF(C327=\"\", \"\", IF(C327=0, \"\", IF(D327=0, \"\", IF(D327<C327, \"NO\",\"YES\"))))","v":""},{"$f":"IFERROR(ROUND(VLOOKUP(ROUNDUP(LOG10(NwSoTransfer!E2),0),NwSoTransfer!$A$16:$B$29,2)*NwSoTransfer!E2,2)/VLOOKUP(ROUNDUP(LOG10(NwSoTransfer!E2),0),NwSoTransfer!$A$16:$B$29,2),\"\")","v":""},{"$f":"IFERROR(ROUND(VLOOKUP(ROUNDUP(LOG10(NwSoTransfer!F2),0),NwSoTransfer!$A$16:$B$29,2)*NwSoTransfer!F2,2)/VLOOKUP(ROUNDUP(LOG10(NwSoTransfer!F2),0),NwSoTransfer!$A$16:$B$29,2),\"\")","v":""},{"$f":"IF(F327=\"\", \"\", IF(F327=0, \"\", IF(G327=0, \"\", IF(G327<F327, \"NO\",\"YES\"))))","v":""},{"$f":"IFERROR(ROUND(VLOOKUP(ROUNDUP(LOG10(NwSoTransfer!H2),0),NwSoTransfer!$A$16:$B$29,2)*NwSoTransfer!H2,2)/VLOOKUP(ROUNDUP(LOG10(NwSoTransfer!H2),0),NwSoTransfer!$A$16:$B$29,2),\"\")","v":""},{"$f":"IFERROR(ROUND(VLOOKUP(ROUNDUP(LOG10(NwSoTransfer!I2),0),NwSoTransfer!$A$16:$B$29,2)*NwSoTransfer!I2,2)/VLOOKUP(ROUNDUP(LOG10(NwSoTransfer!I2),0),NwSoTransfer!$A$16:$B$29,2),\"\")","v":""},{"$f":"IF(I327=\"\", \"\", IF(I327=0, \"\", IF(J327=0, \"\", IF(J327<I327, \"NO\",\"YES\"))))","v":""}]
[null,2,{"$f":"IFERROR(ROUND(VLOOKUP(ROUNDUP(LOG10(NwSoTransfer!B3),0),NwSoTransfer!$A$16:$B$29,2)*NwSoTransfer!B3,2)/VLOOKUP(ROUNDUP(LOG10(NwSoTransfer!B3),0),NwSoTransfer!$A$16:$B$29,2),\"\")","v":""},{"$f":"IFERROR(ROUND(VLOOKUP(ROUNDUP(LOG10(NwSoTransfer!C3),0),NwSoTransfer!$A$16:$B$29,2)*NwSoTransfer!C3,2)/VLOOKUP(ROUNDUP(LOG10(NwSoTransfer!C3),0),NwSoTransfer!$A$16:$B$29,2),\"\")","v":""},"",{"$f":"IFERROR(ROUND(VLOOKUP(ROUNDUP(LOG10(NwSoTransfer!E3),0),NwSoTransfer!$A$16:$B$29,2)*NwSoTransfer!E3,2)/VLOOKUP(ROUNDUP(LOG10(NwSoTransfer!E3),0),NwSoTransfer!$A$16:$B$29,2),\"\")","v":""},{"$f":"IFERROR(ROUND(VLOOKUP(ROUNDUP(LOG10(NwSoTransfer!F3),0),NwSoTransfer!$A$16:$B$29,2)*NwSoTransfer!F3,2)/VLOOKUP(ROUNDUP(LOG10(NwSoTransfer!F3),0),NwSoTransfer!$A$16:$B$29,2),\"\")","v":""},"",{"$f":"IFERROR(ROUND(VLOOKUP(ROUNDUP(LOG10(NwSoTransfer!H3),0),NwSoTransfer!$A$16:$B$29,2)*NwSoTransfer!H3,2)/VLOOKUP(ROUNDUP(LOG10(NwSoTransfer!H3),0),NwSoTransfer!$A$16:$B$29,2),\"\")","v":""},{"$f":"IFERROR(ROUND(VLOOKUP(ROUNDUP(LOG10(NwSoTransfer!I3),0),NwSoTransfer!$A$16:$B$29,2)*NwSoTransfer!I3,2)/VLOOKUP(ROUNDUP(LOG10(NwSoTransfer!I3),0),NwSoTransfer!$A$16:$B$29,2),\"\")","v":""},""]
[null,3,{"$f":"IFERROR(ROUND(VLOOKUP(ROUNDUP(LOG10(NwSoTransfer!B4),0),NwSoTransfer!$A$16:$B$29,2)*NwSoTransfer!B4,2)/VLOOKUP(ROUNDUP(LOG10(NwSoTransfer!B4),0),NwSoTransfer!$A$16:$B$29,2),\"\")","v":""},{"$f":"IFERROR(ROUND(VLOOKUP(ROUNDUP(LOG10(NwSoTransfer!C4),0),NwSoTransfer!$A$16:$B$29,2)*NwSoTransfer!C4,2)/VLOOKUP(ROUNDUP(LOG10(NwSoTransfer!C4),0),NwSoTransfer!$A$16:$B$29,2),\"\")","v":""},"",{"$f":"IFERROR(ROUND(VLOOKUP(ROUNDUP(LOG10(NwSoTransfer!E4),0),NwSoTransfer!$A$16:$B$29,2)*NwSoTransfer!E4,2)/VLOOKUP(ROUNDUP(LOG10(NwSoTransfer!E4),0),NwSoTransfer!$A$16:$B$29,2),\"\")","v":""},{"$f":"IFERROR(ROUND(VLOOKUP(ROUNDUP(LOG10(NwSoTransfer!F4),0),NwSoTransfer!$A$16:$B$29,2)*NwSoTransfer!F4,2)/VLOOKUP(ROUNDUP(LOG10(NwSoTransfer!F4),0),NwSoTransfer!$A$16:$B$29,2),\"\")","v":""},"",{"$f":"IFERROR(ROUND(VLOOKUP(ROUNDUP(LOG10(NwSoTransfer!H4),0),NwSoTransfer!$A$16:$B$29,2)*NwSoTransfer!H4,2)/VLOOKUP(ROUNDUP(LOG10(NwSoTransfer!H4),0),NwSoTransfer!$A$16:$B$29,2),\"\")","v":""},{"$f":"IFERROR(ROUND(VLOOKUP(ROUNDUP(LOG10(NwSoTransfer!I4),0),NwSoTransfer!$A$16:$B$29,2)*NwSoTransfer!I4,2)/VLOOKUP(ROUNDUP(LOG10(NwSoTransfer!I4),0),NwSoTransfer!$A$16:$B$29,2),\"\")","v":""},""]
[null,4,{"$f":"IFERROR(ROUND(VLOOKUP(ROUNDUP(LOG10(NwSoTransfer!B5),0),NwSoTransfer!$A$16:$B$29,2)*NwSoTransfer!B5,2)/VLOOKUP(ROUNDUP(LOG10(NwSoTransfer!B5),0),NwSoTransfer!$A$16:$B$29,2),\"\")","v":""},{"$f":"IFERROR(ROUND(VLOOKUP(ROUNDUP(LOG10(NwSoTransfer!C5),0),NwSoTransfer!$A$16:$B$29,2)*NwSoTransfer!C5,2)/VLOOKUP(ROUNDUP(LOG10(NwSoTransfer!C5),0),NwSoTransfer!$A$16:$B$29,2),\"\")","v":""},"",{"$f":"IFERROR(ROUND(VLOOKUP(ROUNDUP(LOG10(NwSoTransfer!E5),0),NwSoTransfer!$A$16:$B$29,2)*NwSoTransfer!E5,2)/VLOOKUP(ROUNDUP(LOG10(NwSoTransfer!E5),0),NwSoTransfer!$A$16:$B$29,2),\"\")","v":""},{"$f":"IFERROR(ROUND(VLOOKUP(ROUNDUP(LOG10(NwSoTransfer!F5),0),NwSoTransfer!$A$16:$B$29,2)*NwSoTransfer!F5,2)/VLOOKUP(ROUNDUP(LOG10(NwSoTransfer!F5),0),NwSoTransfer!$A$16:$B$29,2),\"\")","v":""},"",{"$f":"IFERROR(ROUND(VLOOKUP(ROUNDUP(LOG10(NwSoTransfer!H5),0),NwSoTransfer!$A$16:$B$29,2)*NwSoTransfer!H5,2)/VLOOKUP(ROUNDUP(LOG10(NwSoTransfer!H5),0),NwSoTransfer!$A$16:$B$29,2),\"\")","v":""},{"$f":"IFERROR(ROUND(VLOOKUP(ROUNDUP(LOG10(NwSoTransfer!I5),0),NwSoTransfer!$A$16:$B$29,2)*NwSoTransfer!I5,2)/VLOOKUP(ROUNDUP(LOG10(NwSoTransfer!I5),0),NwSoTransfer!$A$16:$B$29,2),\"\")","v":""},""]
[null,5,{"$f":"IFERROR(ROUND(VLOOKUP(ROUNDUP(LOG10(NwSoTransfer!B6),0),NwSoTransfer!$A$16:$B$29,2)*NwSoTransfer!B6,2)/VLOOKUP(ROUNDUP(LOG10(NwSoTransfer!B6),0),NwSoTransfer!$A$16:$B$29,2),\"\")","v":""},{"$f":"IFERROR(ROUND(VLOOKUP(ROUNDUP(LOG10(NwSoTransfer!C6),0),NwSoTransfer!$A$16:$B$29,2)*NwSoTransfer!C6,2)/VLOOKUP(ROUNDUP(LOG10(NwSoTransfer!C6),0),NwSoTransfer!$A$16:$B$29,2),\"\")","v":""},"",{"$f":"IFERROR(ROUND(VLOOKUP(ROUNDUP(LOG10(NwSoTransfer!E6),0),NwSoTransfer!$A$16:$B$29,2)*NwSoTransfer!E6,2)/VLOOKUP(ROUNDUP(LOG10(NwSoTransfer!E6),0),NwSoTransfer!$A$16:$B$29,2),\"\")","v":""},{"$f":"IFERROR(ROUND(VLOOKUP(ROUNDUP(LOG10(NwSoTransfer!F6),0),NwSoTransfer!$A$16:$B$29,2)*NwSoTransfer!F6,2)/VLOOKUP(ROUNDUP(LOG10(NwSoTransfer!F6),0),NwSoTransfer!$A$16:$B$29,2),\"\")","v":""},"",{"$f":"IFERROR(ROUND(VLOOKUP(ROUNDUP(LOG10(NwSoTransfer!H6),0),NwSoTransfer!$A$16:$B$29,2)*NwSoTransfer!H6,2)/VLOOKUP(ROUNDUP(LOG10(NwSoTransfer!H6),0),NwSoTransfer!$A$16:$B$29,2),\"\")","v":""},{"$f":"IFERROR(ROUND(VLOOKUP(ROUNDUP(LOG10(NwSoTransfer!I6),0),NwSoTransfer!$A$16:$B$29,2)*NwSoTransfer!I6,2)/VLOOKUP(ROUNDUP(LOG10(NwSoTransfer!I6),0),NwSoTransfer!$A$16:$B$29,2),\"\")","v":""},""]
[null,6,{"$f":"IFERROR(ROUND(VLOOKUP(ROUNDUP(LOG10(NwSoTransfer!B7),0),NwSoTransfer!$A$16:$B$29,2)*NwSoTransfer!B7,2)/VLOOKUP(ROUNDUP(LOG10(NwSoTransfer!B7),0),NwSoTransfer!$A$16:$B$29,2),\"\")","v":""},{"$f":"IFERROR(ROUND(VLOOKUP(ROUNDUP(LOG10(NwSoTransfer!C7),0),NwSoTransfer!$A$16:$B$29,2)*NwSoTransfer!C7,2)/VLOOKUP(ROUNDUP(LOG10(NwSoTransfer!C7),0),NwSoTransfer!$A$16:$B$29,2),\"\")","v":""},"",{"$f":"IFERROR(ROUND(VLOOKUP(ROUNDUP(LOG10(NwSoTransfer!E7),0),NwSoTransfer!$A$16:$B$29,2)*NwSoTransfer!E7,2)/VLOOKUP(ROUNDUP(LOG10(NwSoTransfer!E7),0),NwSoTransfer!$A$16:$B$29,2),\"\")","v":""},{"$f":"IFERROR(ROUND(VLOOKUP(ROUNDUP(LOG10(NwSoTransfer!F7),0),NwSoTransfer!$A$16:$B$29,2)*NwSoTransfer!F7,2)/VLOOKUP(ROUNDUP(LOG10(NwSoTransfer!F7),0),NwSoTransfer!$A$16:$B$29,2),\"\")","v":""},"",{"$f":"IFERROR(ROUND(VLOOKUP(ROUNDUP(LOG10(NwSoTransfer!H7),0),NwSoTransfer!$A$16:$B$29,2)*NwSoTransfer!H7,2)/VLOOKUP(ROUNDUP(LOG10(NwSoTransfer!H7),0),NwSoTransfer!$A$16:$B$29,2),\"\")","v":""},{"$f":"IFERROR(ROUND(VLOOKUP(ROUNDUP(LOG10(NwSoTransfer!I7),0),NwSoTransfer!$A$16:$B$29,2)*NwSoTransfer!I7,2)/VLOOKUP(ROUNDUP(LOG10(NwSoTransfer!I7),0),NwSoTransfer!$A$16:$B$29,2),\"\")","v":""},""]
[null,7,{"$f":"IFERROR(ROUND(VLOOKUP(ROUNDUP(LOG10(NwSoTransfer!B8),0),NwSoTransfer!$A$16:$B$29,2)*NwSoTransfer!B8,2)/VLOOKUP(ROUNDUP(LOG10(NwSoTransfer!B8),0),NwSoTransfer!$A$16:$B$29,2),\"\")","v":""},{"$f":"IFERROR(ROUND(VLOOKUP(ROUNDUP(LOG10(NwSoTransfer!C8),0),NwSoTransfer!$A$16:$B$29,2)*NwSoTransfer!C8,2)/VLOOKUP(ROUNDUP(LOG10(NwSoTransfer!C8),0),NwSoTransfer!$A$16:$B$29,2),\"\")","v":""},"",{"$f":"IFERROR(ROUND(VLOOKUP(ROUNDUP(LOG10(NwSoTransfer!E8),0),NwSoTransfer!$A$16:$B$29,2)*NwSoTransfer!E8,2)/VLOOKUP(ROUNDUP(LOG10(NwSoTransfer!E8),0),NwSoTransfer!$A$16:$B$29,2),\"\")","v":""},{"$f":"IFERROR(ROUND(VLOOKUP(ROUNDUP(LOG10(NwSoTransfer!F8),0),NwSoTransfer!$A$16:$B$29,2)*NwSoTransfer!F8,2)/VLOOKUP(ROUNDUP(LOG10(NwSoTransfer!F8),0),NwSoTransfer!$A$16:$B$29,2),\"\")","v":""},"",{"$f":"IFERROR(ROUND(VLOOKUP(ROUNDUP(LOG10(NwSoTransfer!H8),0),NwSoTransfer!$A$16:$B$29,2)*NwSoTransfer!H8,2)/VLOOKUP(ROUNDUP(LOG10(NwSoTransfer!H8),0),NwSoTransfer!$A$16:$B$29,2),\"\")","v":""},{"$f":"IFERROR(ROUND(VLOOKUP(ROUNDUP(LOG10(NwSoTransfer!I8),0),NwSoTransfer!$A$16:$B$29,2)*NwSoTransfer!I8,2)/VLOOKUP(ROUNDUP(LOG10(NwSoTransfer!I8),0),NwSoTransfer!$A$16:$B$29,2),\"\")","v":""},""]
[null,8,{"$f":"IFERROR(ROUND(VLOOKUP(ROUNDUP(LOG10(NwSoTransfer!B9),0),NwSoTransfer!$A$16:$B$29,2)*NwSoTransfer!B9,2)/VLOOKUP(ROUNDUP(LOG10(NwSoTransfer!B9),0),NwSoTransfer!$A$16:$B$29,2),\"\")","v":""},{"$f":"IFERROR(ROUND(VLOOKUP(ROUNDUP(LOG10(NwSoTransfer!C9),0),NwSoTransfer!$A$16:$B$29,2)*NwSoTransfer!C9,2)/VLOOKUP(ROUNDUP(LOG10(NwSoTransfer!C9),0),NwSoTransfer!$A$16:$B$29,2),\"\")","v":""},"",{"$f":"IFERROR(ROUND(VLOOKUP(ROUNDUP(LOG10(NwSoTransfer!E9),0),NwSoTransfer!$A$16:$B$29,2)*NwSoTransfer!E9,2)/VLOOKUP(ROUNDUP(LOG10(NwSoTransfer!E9),0),NwSoTransfer!$A$16:$B$29,2),\"\")","v":""},{"$f":"IFERROR(ROUND(VLOOKUP(ROUNDUP(LOG10(NwSoTransfer!F9),0),NwSoTransfer!$A$16:$B$29,2)*NwSoTransfer!F9,2)/VLOOKUP(ROUNDUP(LOG10(NwSoTransfer!F9),0),NwSoTransfer!$A$16:$B$29,2),\"\")","v":""},"",{"$f":"IFERROR(ROUND(VLOOKUP(ROUNDUP(LOG10(NwSoTransfer!H9),0),NwSoTransfer!$A$16:$B$29,2)*NwSoTransfer!H9,2)/VLOOKUP(ROUNDUP(LOG10(NwSoTransfer!H9),0),NwSoTransfer!$A$16:$B$29,2),\"\")","v":""},{"$f":"IFERROR(ROUND(VLOOKUP(ROUNDUP(LOG10(NwSoTransfer!I9),0),NwSoTransfer!$A$16:$B$29,2)*NwSoTransfer!I9,2)/VLOOKUP(ROUNDUP(LOG10(NwSoTransfer!I9),0),NwSoTransfer!$A$16:$B$29,2),\"\")","v":""},""]
[null,9,{"$f":"IFERROR(ROUND(VLOOKUP(ROUNDUP(LOG10(NwSoTransfer!B10),0),NwSoTransfer!$A$16:$B$29,2)*NwSoTransfer!B10,2)/VLOOKUP(ROUNDUP(LOG10(NwSoTransfer!B10),0),NwSoTransfer!$A$16:$B$29,2),\"\")","v":""},{"$f":"IFERROR(ROUND(VLOOKUP(ROUNDUP(LOG10(NwSoTransfer!C10),0),NwSoTransfer!$A$16:$B$29,2)*NwSoTransfer!C10,2)/VLOOKUP(ROUNDUP(LOG10(NwSoTransfer!C10),0),NwSoTransfer!$A$16:$B$29,2),\"\")","v":""},"",{"$f":"IFERROR(ROUND(VLOOKUP(ROUNDUP(LOG10(NwSoTransfer!E10),0),NwSoTransfer!$A$16:$B$29,2)*NwSoTransfer!E10,2)/VLOOKUP(ROUNDUP(LOG10(NwSoTransfer!E10),0),NwSoTransfer!$A$16:$B$29,2),\"\")","v":""},{"$f":"IFERROR(ROUND(VLOOKUP(ROUNDUP(LOG10(NwSoTransfer!F10),0),NwSoTransfer!$A$16:$B$29,2)*NwSoTransfer!F10,2)/VLOOKUP(ROUNDUP(LOG10(NwSoTransfer!F10),0),NwSoTransfer!$A$16:$B$29,2),\"\")","v":""},"",{"$f":"IFERROR(ROUND(VLOOKUP(ROUNDUP(LOG10(NwSoTransfer!H10),0),NwSoTransfer!$A$16:$B$29,2)*NwSoTransfer!H10,2)/VLOOKUP(ROUNDUP(LOG10(NwSoTransfer!H10),0),NwSoTransfer!$A$16:$B$29,2),\"\")","v":""},{"$f":"IFERROR(ROUND(VLOOKUP(ROUNDUP(LOG10(NwSoTransfer!I10),0),NwSoTransfer!$A$16:$B$29,2)*NwSoTransfer!I10,2)/VLOOKUP(ROUNDUP(LOG10(NwSoTransfer!I10),0),NwSoTransfer!$A$16:$B$29,2),\"\")","v":""},""]
[null,10,{"$f":"IFERROR(ROUND(VLOOKUP(ROUNDUP(LOG10(NwSoTransfer!B11),0),NwSoTransfer!$A$16:$B$29,2)*NwSoTransfer!B11,2)/VLOOKUP(ROUNDUP(LOG10(NwSoTransfer!B11),0),NwSoTransfer!$A$16:$B$29,2),\"\")","v":""},{"$f":"IFERROR(ROUND(VLOOKUP(ROUNDUP(LOG10(NwSoTransfer!C11),0),NwSoTransfer!$A$16:$B$29,2)*NwSoTransfer!C11,2)/VLOOKUP(ROUNDUP(LOG10(NwSoTransfer!C11),0),NwSoTransfer!$A$16:$B$29,2),\"\")","v":""},"",{"$f":"IFERROR(ROUND(VLOOKUP(ROUNDUP(LOG10(NwSoTransfer!E11),0),NwSoTransfer!$A$16:$B$29,2)*NwSoTransfer!E11,2)/VLOOKUP(ROUNDUP(LOG10(NwSoTransfer!E11),0),NwSoTransfer!$A$16:$B$29,2),\"\")","v":""},{"$f":"IFERROR(ROUND(VLOOKUP(ROUNDUP(LOG10(NwSoTransfer!F11),0),NwSoTransfer!$A$16:$B$29,2)*NwSoTransfer!F11,2)/VLOOKUP(ROUNDUP(LOG10(NwSoTransfer!F11),0),NwSoTransfer!$A$16:$B$29,2),\"\")","v":""},"",{"$f":"IFERROR(ROUND(VLOOKUP(ROUNDUP(LOG10(NwSoTransfer!H11),0),NwSoTransfer!$A$16:$B$29,2)*NwSoTransfer!H11,2)/VLOOKUP(ROUNDUP(LOG10(NwSoTransfer!H11),0),NwSoTransfer!$A$16:$B$29,2),\"\")","v":""},{"$f":"IFERROR(ROUND(VLOOKUP(ROUNDUP(LOG10(NwSoTransfer!I11),0),NwSoTransfer!$A$16:$B$29,2)*NwSoTransfer!I11,2)/VLOOKUP(ROUNDUP(LOG10(NwSoTransfer!I11),0),NwSoTransfer!$A$16:$B$29,2),\"\")","v":""},""]
[]
[null,null,null,null,"Monthly Compliance"]
[null,null,"BOD Monthly Average Load #/1000-#","BOD Monthly Average Limit #/100-#","Compliance                  YES /NO","TSS Total Load #/1000-#","TSS Monthly Average Limit #/1000-#","Compliance                 YES/ NO","O&G Monthly Average Load #/1000-#","O&G Monthly Average Limit #/1000-#","Compliance     YES / NO"]
[null,"Monthly Average",{"$f":"IFERROR(ROUND(VLOOKUP(ROUNDUP(LOG10(K301),0),NwSoTransfer!$A$16:$B$29,2)*K301,2)/VLOOKUP(ROUNDUP(LOG10(K301),0),NwSoTransfer!$A$16:$B$29,2),\"\")","v":""},{"$f":"IFERROR(ROUND(VLOOKUP(ROUNDUP(LOG10(L301),0),NwSoTransfer!$A$16:$B$29,2)*L301,2)/VLOOKUP(ROUNDUP(LOG10(L301),0),NwSoTransfer!$A$16:$B$29,2),\"\")","v":""},{"$f":"IF(C340=\"\", \"\", IF(C340=0, \"\", IF(D340=0, \"\", IF(D340<C340, \"NO\",\"YES\"))))","v":""},{"$f":"IFERROR(ROUND(VLOOKUP(ROUNDUP(LOG10(W301),0),NwSoTransfer!$A$16:$B$29,2)*W301,2)/VLOOKUP(ROUNDUP(LOG10(W301),0),NwSoTransfer!$A$16:$B$29,2),\"\")","v":""},{"$f":"IFERROR(ROUND(VLOOKUP(ROUNDUP(LOG10(X301),0),NwSoTransfer!$A$16:$B$29,2)*X301,2)/VLOOKUP(ROUNDUP(LOG10(X301),0),NwSoTransfer!$A$16:$B$29,2),\"\")","v":""},{"$f":"IF(F340=\"\", \"\", IF(F340=0, \"\", IF(G340=0, \"\", IF(G340<F340, \"NO\",\"YES\"))))","v":""},{"$f":"IFERROR(ROUND(VLOOKUP(ROUNDUP(LOG10(AI301),0),NwSoTransfer!$A$16:$B$29,2)*AI301,2)/VLOOKUP(ROUNDUP(LOG10(AI301),0),NwSoTransfer!$A$16:$B$29,2),\"\")","v":""},{"$f":"IFERROR(ROUND(VLOOKUP(ROUNDUP(LOG10(AJ301),0),NwSoTransfer!$A$16:$B$29,2)*AJ301,2)/VLOOKUP(ROUNDUP(LOG10(AJ301),0),NwSoTransfer!$A$16:$B$29,2),\"\")","v":""},{"$f":"IF(I340=\"\", \"\", IF(I340=0, \"\", IF(J340=0, \"\", IF(J340<I340, \"NO\",\"YES\"))))","v":""}]

{"sheet":"CALCULATOR EXISTING SOURCES","index":4,"n_rows":360,"n_cols":37,"rows_kept":360,"cut":false,"hidden":true,"merged":[[11,1,12,1],[13,1,14,1],[15,1,16,1],[17,1,18,1],[2,31,6,32],[9,1,10,1],[1,1,2,1],[1,2,1,3],[2,2,2,3],[7,1,8,1],[7,31,10,31],[7,32,10,32],[13,29,13,36],[14,30,14,36],[15,30,15,36],[16,30,16,36],[19,1,20,1],[21,1,22,1],[23,1,24,1],[25,1,26,1],[49,11,51,16],[31,2,31,7],[17,30,17,36],[18,30,18,36],[144,4,144,5],[167,4,167,5],[213,4,213,5],[190,4,190,5],[67,2,67,11],[121,4,121,5],[67,12,67,20],[74,25,74,36],[74,13,74,24],[74,2,74,12],[318,25,318,36],[259,4,259,5],[342,1,343,1],[236,4,236,5],[309,12,309,20],[318,13,318,24],[318,2,318,12],[282,4,282,5],[309,2,309,11],[342,2,342,19]]}
[1,"B","C","D","E","F","G","H","I","J","K","L","M","N","O","P","Q","R","S","T","U","V","W","X","Y","Z","AA","AB","AC","AD","AE","AF","AG","AH","AI","AJ"]
[2,1," Source Name",null,"Monitoring Month","Year","County","EPA ID","OREGON      Permit No.","DEQ File No.","New  or   Existing","Monitoring Tier","EPA ICIS  Source No."]
[3,null,{"$f":"'DATA ENTRY DASHBOARD'!C6:D6","v":0},null,{"$f":"'DATA ENTRY DASHBOARD'!E6","v":0},{"$f":"'DATA ENTRY DASHBOARD'!F6","v":0},{"$f":"'DATA ENTRY DASHBOARD'!G6","v":0},"ORG523508",{"$f":"'DATA ENTRY DASHBOARD'!I6","v":"900-J"},{"$f":"'DATA ENTRY DASHBOARD'!J6","v":0},{"$f":"'DATA ENTRY DASHBOARD'!K6","v":"Existing Source"},{"$f":"'DATA ENTRY DASHBOARD'!L6","v":"-"},{"$f":"IF('DATA ENTRY DASHBOARD'!M6=\"\",\"\",('DATA ENTRY DASHBOARD'!M6))","v":""},null,null,null,null,null,null,null,null,null,null,null,null,null,null,null,null,null,null,"Note: these two species/process types only pertain to Existing sources; not to NEW sources.                                        For Existing sources Fish Meal Subpart O comes as  \"WITH Solubles Plant\" or \"With NO Solubles Plant\".                                Canned Sardines Subpart AB comes as \"Dry Transport\" or as \"FLUMED\"."]
[4]
[5,"B","C","D","E","F","G","H","I","J","K","L","M","N","O","P","Q","R","S","T","U","V","W","X","Y","Z","AA","AB"]
[6]
[7,2,"DATE HERE","GALLONS discharged                    MGD","BOD5 RESULTS    mg/L","TSS RESULTS    mg/L","O &G RESULTS    mg/L","TOTAL POUNDS PROCESSED for the DAY                                Summed across Pounds Columns",null,"H                                             CRAB","K                                      N. SHRIMP","U                                  BFC                    BOTTOM FISH CONV","V                                           BFM                    BOTTOM FISH MECH","R                                     SALMON HB"," S                                    SALMON MECH","BPJ                                     WHOLE FROZEN RAW SHRIMP","AF                        HERRING  FILLET    (sardines steaked)","Y                                      OYSTER HAND SHUCK","O                            FISH MEAL                  WITH             SOLUBLES  PLANT","O                            FISH MEAL           NO               SOLUBLES  PLANT "," W                      CLAM                  HAND SHUCK","X                         CLAM                        MECH","M                                 BREADED SHRIMP CONTIGUOUS STATES","N                                  TUNA                  (canned)","AA                                      OYSTER  STEAMED & CANNED","AB                                  SARDINES                      (CANNED)                       DRY  TRANSPORT","AB                                  SARDINES                      (CANNED)                    FLUME","AD                             SCALLOP"]
[8,"Sample Day 1",{"$f":"'DATA ENTRY DASHBOARD'!$C$11","v":"00:00:00"},{"$f":"IF('DATA ENTRY DASHBOARD'!$D$11=\"\",\"\", ('DATA ENTRY DASHBOARD'!$D$11))","v":""},{"$f":"IF('DATA ENTRY DASHBOARD'!$E$11=\"\",\"\", ('DATA ENTRY DASHBOARD'!$E$11))","v":""},{"$f":"IF('DATA ENTRY DASHBOARD'!$F$11=\"\",\"\", ('DATA ENTRY DASHBOARD'!$F$11))","v":""},{"$f":"IF('DATA ENTRY DASHBOARD'!$G$11=\"\",\"\", ('DATA ENTRY DASHBOARD'!$G$11))","v":""},{"$f":"SUM(J8:AB8)","v":0},null,{"$f":"IF('DATA ENTRY DASHBOARD'!$J$11=\"\",0, ('DATA ENTRY DASHBOARD'!$J$11))","v":0},{"$f":"IF('DATA ENTRY DASHBOARD'!$K$11=\"\",0, ('DATA ENTRY DASHBOARD'!$K$11))","v":0},{"$f":"IF('DATA ENTRY DASHBOARD'!$L$11=\"\",0, ('DATA ENTRY DASHBOARD'!$L$11))","v":0},{"$f":"IF('DATA ENTRY DASHBOARD'!$M$11=\"\",0, ('DATA ENTRY DASHBOARD'!$M$11))","v":0},{"$f":"IF('DATA ENTRY DASHBOARD'!$N$11=\"\",0, ('DATA ENTRY DASHBOARD'!$N$11))","v":0},{"$f":"IF('DATA ENTRY DASHBOARD'!$O$11=\"\",0, ('DATA ENTRY DASHBOARD'!$O$11))","v":0},{"$f":"IF('DATA ENTRY DASHBOARD'!$P$11=\"\",0, ('DATA ENTRY DASHBOARD'!$P$11))","v":0},{"$f":"IF('DATA ENTRY DASHBOARD'!$Q$11=\"\",0, ('DATA ENTRY DASHBOARD'!$Q$11))","v":0},{"$f":"IF('DATA ENTRY DASHBOARD'!$R$11=\"\",0, ('DATA ENTRY DASHBOARD'!$R$11))","v":0},{"$f":"IF('DATA ENTRY DASHBOARD'!$S$11=\"\",0, ('DATA ENTRY DASHBOARD'!$S$11))","v":0},{"$f":"IF('DATA ENTRY DASHBOARD'!$AA$11=\"\",0, ('DATA ENTRY DASHBOARD'!$AA$11))","v":0},{"$f":"IF('DATA ENTRY DASHBOARD'!$T$11=\"\",0, ('DATA ENTRY DASHBOARD'!$T$11))","v":0},{"$f":"IF('DATA ENTRY DASHBOARD'!$U$11=\"\",0, ('DATA ENTRY DASHBOARD'!$U$11))","v":0},{"$f":"IF('DATA ENTRY DASHBOARD'!$V$11=\"\",0, ('DATA ENTRY DASHBOARD'!$V$11))","v":0},{"$f":"IF('DATA ENTRY DASHBOARD'!$W$11=\"\",0, ('DATA ENTRY DASHBOARD'!$W$11))","v":0},{"$f":"IF('DATA ENTRY DASHBOARD'!$X$11=\"\",0, ('DATA ENTRY DASHBOARD'!$X$11))","v":0},{"$f":"IF('DATA ENTRY DASHBOARD'!$Y$11=\"\",0, ('DATA ENTRY DASHBOARD'!$Y$11))","v":0},{"$f":"IF('DATA ENTRY DASHBOARD'!$AB$11=\"\",0, ('DATA ENTRY DASHBOARD'!$AB$11))","v":0},{"$f":"IF('DATA ENTRY DASHBOARD'!$Z$11=\"\",0, ('DATA ENTRY DASHBOARD'!$Z$11))","v":0},null,null,null,"O                            FISH MEAL           NO               SOLUBLES  PLANT ","AB                                  SARDINES                      (CANNED)                    FLUME"]
[9,null,null,null,null,null,null,null,null,{"$f":"IF(J8=\"\",\"\", J8/$H8)","v":{"$error":"#DIV/0!"}},{"$f":"IF(K8=\"\",\"\", K8/$H8)","v":{"$error":"#DIV/0!"}},{"$f":"IF(L8=\"\",\"\", L8/$H8)","v":{"$error":"#DIV/0!"}},{"$error":"#DIV/0!"},{"$error":"#DIV/0!"},{"$error":"#DIV/0!"},{"$error":"#DIV/0!"},{"$error":"#DIV/0!"},{"$error":"#DIV/0!"},{"$error":"#DIV/0!"},{"$f":"IF(T8=\"\",\"\", T8/$H8)","v":{"$error":"#DIV/0!"}},{"$f":"IF(U8=\"\",\"\", U8/$H8)","v":{"$error":"#DIV/0!"}},{"$error":"#DIV/0!"},{"$error":"#DIV/0!"},{"$error":"#DIV/0!"},{"$error":"#DIV/0!"},{"$error":"#DIV/0!"},{"$error":"#DIV/0!"},{"$error":"#DIV/0!"}]
[10,"Sample Day 2",{"$f":"'DATA ENTRY DASHBOARD'!$C$13","v":"00:00:00"},{"$f":"IF('DATA ENTRY DASHBOARD'!$D$13=\"\",\"\", ('DATA ENTRY DASHBOARD'!$D$13))","v":""},{"$f":"IF('DATA ENTRY DASHBOARD'!$E$13=\"\",\"\", ('DATA ENTRY DASHBOARD'!$E$13))","v":""},{"$f":"IF('DATA ENTRY DASHBOARD'!$F$13=\"\",\"\", ('DATA ENTRY DASHBOARD'!$F$13))","v":""},{"$f":"IF('DATA ENTRY DASHBOARD'!$G$13=\"\",\"\", ('DATA ENTRY DASHBOARD'!$G$13))","v":""},{"$f":"SUM(J10:AB10)","v":0},null,{"$f":"IF('DATA ENTRY DASHBOARD'!$J$13=\"\",0, ('DATA ENTRY DASHBOARD'!$J$13))","v":0},{"$f":"IF('DATA ENTRY DASHBOARD'!$K$13=\"\",0, ('DATA ENTRY DASHBOARD'!$K$13))","v":0},{"$f":"IF('DATA ENTRY DASHBOARD'!$L$13=\"\",0, ('DATA ENTRY DASHBOARD'!$L$13))","v":0},{"$f":"IF('DATA ENTRY DASHBOARD'!$M$13=\"\",0, ('DATA ENTRY DASHBOARD'!$M$13))","v":0},{"$f":"IF('DATA ENTRY DASHBOARD'!$N$13=\"\",0, ('DATA ENTRY DASHBOARD'!$N$13))","v":0},{"$f":"IF('DATA ENTRY DASHBOARD'!$O$13=\"\",0, ('DATA ENTRY DASHBOARD'!$O$13))","v":0},{"$f":"IF('DATA ENTRY DASHBOARD'!$P$13=\"\",0, ('DATA ENTRY DASHBOARD'!$P$13))","v":0},{"$f":"IF('DATA ENTRY DASHBOARD'!$Q$13=\"\",0, ('DATA ENTRY DASHBOARD'!$Q$13))","v":0},{"$f":"IF('DATA ENTRY DASHBOARD'!$R$13=\"\",0, ('DATA ENTRY DASHBOARD'!$R$13))","v":0},{"$f":"IF('DATA ENTRY DASHBOARD'!$S$13=\"\",0, ('DATA ENTRY DASHBOARD'!$S$13))","v":0},{"$f":"IF('DATA ENTRY DASHBOARD'!$AA$13=\"\",0, ('DATA ENTRY DASHBOARD'!$AA$13))","v":0},{"$f":"IF('DATA ENTRY DASHBOARD'!$T$13=\"\",0, ('DATA ENTRY DASHBOARD'!$T$13))","v":0},{"$f":"IF('DATA ENTRY DASHBOARD'!$U$13=\"\",0, ('DATA ENTRY DASHBOARD'!$U$13))","v":0},{"$f":"IF('DATA ENTRY DASHBOARD'!$V$13=\"\",0, ('DATA ENTRY DASHBOARD'!$V$13))","v":0},{"$f":"IF('DATA ENTRY DASHBOARD'!$W$13=\"\",0, ('DATA ENTRY DASHBOARD'!$W$13))","v":0},{"$f":"IF('DATA ENTRY DASHBOARD'!$X$13=\"\",0, ('DATA ENTRY DASHBOARD'!$X$13))","v":0},{"$f":"IF('DATA ENTRY DASHBOARD'!$Y$13=\"\",0, ('DATA ENTRY DASHBOARD'!$Y$13))","v":0},{"$f":"IF('DATA ENTRY DASHBOARD'!$AB$13=\"\",0, ('DATA ENTRY DASHBOARD'!$AB$13))","v":0},{"$f":"IF('DATA ENTRY DASHBOARD'!$Z$13=\"\",0, ('DATA ENTRY DASHBOARD'!$Z$13))","v":0}]
[11,null,null,null,null,null,null,null,null,{"$f":"IF(J10=\"\",\"\", J10/$H10)","v":{"$error":"#DIV/0!"}},{"$error":"#DIV/0!"},{"$error":"#DIV/0!"},{"$error":"#DIV/0!"},{"$error":"#DIV/0!"},{"$error":"#DIV/0!"},{"$error":"#DIV/0!"},{"$error":"#DIV/0!"},{"$error":"#DIV/0!"},{"$error":"#DIV/0!"},{"$f":"IF(T10=\"\",\"\", T10/$H10)","v":{"$error":"#DIV/0!"}},{"$f":"IF(U10=\"\",\"\", U10/$H10)","v":{"$error":"#DIV/0!"}},{"$error":"#DIV/0!"},{"$error":"#DIV/0!"},{"$error":"#DIV/0!"},{"$error":"#DIV/0!"},{"$error":"#DIV/0!"},{"$f":"IF(AA10=\"\",\"\", AA10/$H10)","v":{"$error":"#DIV/0!"}},{"$error":"#DIV/0!"}]
[12,"Sample Day 3",{"$f":"'DATA ENTRY DASHBOARD'!$C$15","v":"00:00:00"},{"$f":"IF('DATA ENTRY DASHBOARD'!$D$15=\"\",\"\", ('DATA ENTRY DASHBOARD'!$D$15))","v":""},{"$f":"IF('DATA ENTRY DASHBOARD'!$E$15=\"\",\"\", ('DATA ENTRY DASHBOARD'!$E$15))","v":""},{"$f":"IF('DATA ENTRY DASHBOARD'!$F$15=\"\",\"\", ('DATA ENTRY DASHBOARD'!$F$15))","v":""},{"$f":"IF('DATA ENTRY DASHBOARD'!$G$15=\"\",\"\", ('DATA ENTRY DASHBOARD'!$G$15))","v":""},{"$f":"SUM(J12:AB12)","v":0},null,{"$f":"IF('DATA ENTRY DASHBOARD'!$J$15=\"\",0, ('DATA ENTRY DASHBOARD'!$J$15))","v":0},{"$f":"IF('DATA ENTRY DASHBOARD'!$K$15=\"\",0, ('DATA ENTRY DASHBOARD'!$K$15))","v":0},{"$f":"IF('DATA ENTRY DASHBOARD'!$L$15=\"\",0, ('DATA ENTRY DASHBOARD'!$L$15))","v":0},{"$f":"IF('DATA ENTRY DASHBOARD'!$M$15=\"\",0, ('DATA ENTRY DASHBOARD'!$M$15))","v":0},{"$f":"IF('DATA ENTRY DASHBOARD'!$N$15=\"\",0, ('DATA ENTRY DASHBOARD'!$N$15))","v":0},{"$f":"IF('DATA ENTRY DASHBOARD'!$O$15=\"\",0, ('DATA ENTRY DASHBOARD'!$O$15))","v":0},{"$f":"IF('DATA ENTRY DASHBOARD'!$P$15=\"\",0, ('DATA ENTRY DASHBOARD'!$P$15))","v":0},{"$f":"IF('DATA ENTRY DASHBOARD'!$Q$15=\"\",0, ('DATA ENTRY DASHBOARD'!$Q$15))","v":0},{"$f":"IF('DATA ENTRY DASHBOARD'!$R$15=\"\",0, ('DATA ENTRY DASHBOARD'!$R$15))","v":0},{"$f":"IF('DATA ENTRY DASHBOARD'!$S$15=\"\",0, ('DATA ENTRY DASHBOARD'!$S$15))","v":0},{"$f":"IF('DATA ENTRY DASHBOARD'!$AA$15=\"\",0, ('DATA ENTRY DASHBOARD'!$AA$15))","v":0},{"$f":"IF('DATA ENTRY DASHBOARD'!$T$15=\"\",0, ('DATA ENTRY DASHBOARD'!$T$15))","v":0},{"$f":"IF('DATA ENTRY DASHBOARD'!$U$15=\"\",0, ('DATA ENTRY DASHBOARD'!$U$15))","v":0},{"$f":"IF('DATA ENTRY DASHBOARD'!$V$15=\"\",0, ('DATA ENTRY DASHBOARD'!$V$15))","v":0},{"$f":"IF('DATA ENTRY DASHBOARD'!$W$15=\"\",0, ('DATA ENTRY DASHBOARD'!$W$15))","v":0},{"$f":"IF('DATA ENTRY DASHBOARD'!$X$15=\"\",0, ('DATA ENTRY DASHBOARD'!$X$15))","v":0},{"$f":"IF('DATA ENTRY DASHBOARD'!$Y$15=\"\",0, ('DATA ENTRY DASHBOARD'!$Y$15))","v":0},{"$f":"IF('DATA ENTRY DASHBOARD'!$AB$15=\"\",0, ('DATA ENTRY DASHBOARD'!$AB$15))","v":0},{"$f":"IF('DATA ENTRY DASHBOARD'!$Z$15=\"\",0, ('DATA ENTRY DASHBOARD'!$Z$15))","v":0}]
[13,null,null,null,null,null,null,null,null,{"$f":"IF(J12=\"\",\"\", J12/$H12)","v":{"$error":"#DIV/0!"}},{"$error":"#DIV/0!"},{"$error":"#DIV/0!"},{"$error":"#DIV/0!"},{"$error":"#DIV/0!"},{"$error":"#DIV/0!"},{"$error":"#DIV/0!"},{"$error":"#DIV/0!"},{"$error":"#DIV/0!"},{"$error":"#DIV/0!"},{"$f":"IF(T12=\"\",\"\", T12/$H12)","v":{"$error":"#DIV/0!"}},{"$f":"IF(U12=\"\",\"\", U12/$H12)","v":{"$error":"#DIV/0!"}},{"$error":"#DIV/0!"},{"$error":"#DIV/0!"},{"$error":"#DIV/0!"},{"$error":"#DIV/0!"},{"$error":"#DIV/0!"},{"$error":"#DIV/0!"},{"$error":"#DIV/0!"}]
[14,"Sample Day 4",{"$f":"'DATA ENTRY DASHBOARD'!$C$17","v":"00:00:00"},{"$f":"IF('DATA ENTRY DASHBOARD'!$D$17=\"\",\"\", ('DATA ENTRY DASHBOARD'!$D$17))","v":""},{"$f":"IF('DATA ENTRY DASHBOARD'!$E$17=\"\",\"\", ('DATA ENTRY DASHBOARD'!$E$17))","v":""},{"$f":"IF('DATA ENTRY DASHBOARD'!$F$17=\"\",\"\", ('DATA ENTRY DASHBOARD'!$F$17))","v":""},{"$f":"IF('DATA ENTRY DASHBOARD'!$G$17=\"\",\"\", ('DATA ENTRY DASHBOARD'!$G$17))","v":""},{"$f":"SUM(J14:AB14)","v":0},null,{"$f":"IF('DATA ENTRY DASHBOARD'!$J$17=\"\",0, ('DATA ENTRY DASHBOARD'!$J$17))","v":0},{"$f":"IF('DATA ENTRY DASHBOARD'!$K$17=\"\",0, ('DATA ENTRY DASHBOARD'!$K$17))","v":0},{"$f":"IF('DATA ENTRY DASHBOARD'!$L$17=\"\",0, ('DATA ENTRY DASHBOARD'!$L$17))","v":0},{"$f":"IF('DATA ENTRY DASHBOARD'!$M$17=\"\",0, ('DATA ENTRY DASHBOARD'!$M$17))","v":0},{"$f":"IF('DATA ENTRY DASHBOARD'!$N$17=\"\",0, ('DATA ENTRY DASHBOARD'!$N$17))","v":0},{"$f":"IF('DATA ENTRY DASHBOARD'!$O$17=\"\",0, ('DATA ENTRY DASHBOARD'!$O$17))","v":0},{"$f":"IF('DATA ENTRY DASHBOARD'!$P$17=\"\",0, ('DATA ENTRY DASHBOARD'!$P$17))","v":0},{"$f":"IF('DATA ENTRY DASHBOARD'!$Q$17=\"\",0, ('DATA ENTRY DASHBOARD'!$Q$17))","v":0},{"$f":"IF('DATA ENTRY DASHBOARD'!$R$17=\"\",0, ('DATA ENTRY DASHBOARD'!$R$17))","v":0},{"$f":"IF('DATA ENTRY DASHBOARD'!$S$17=\"\",0, ('DATA ENTRY DASHBOARD'!$S$17))","v":0},{"$f":"IF('DATA ENTRY DASHBOARD'!$AA$17=\"\",0, ('DATA ENTRY DASHBOARD'!$AA$17))","v":0},{"$f":"IF('DATA ENTRY DASHBOARD'!$T$17=\"\",0, ('DATA ENTRY DASHBOARD'!$T$17))","v":0},{"$f":"IF('DATA ENTRY DASHBOARD'!$U$17=\"\",0, ('DATA ENTRY DASHBOARD'!$U$17))","v":0},{"$f":"IF('DATA ENTRY DASHBOARD'!$V$17=\"\",0, ('DATA ENTRY DASHBOARD'!$V$17))","v":0},{"$f":"IF('DATA ENTRY DASHBOARD'!$W$17=\"\",0, ('DATA ENTRY DASHBOARD'!$W$17))","v":0},{"$f":"IF('DATA ENTRY DASHBOARD'!$X$17=\"\",0, ('DATA ENTRY DASHBOARD'!$X$17))","v":0},{"$f":"IF('DATA ENTRY DASHBOARD'!$Y$17=\"\",0, ('DATA ENTRY DASHBOARD'!$Y$17))","v":0},{"$f":"IF('DATA ENTRY DASHBOARD'!$AB$17=\"\",0, ('DATA ENTRY DASHBOARD'!$AB$17))","v":0},{"$f":"IF('DATA ENTRY DASHBOARD'!$Z$17=\"\",0, ('DATA ENTRY DASHBOARD'!$Z$17))","v":0},null,"KEY TO COLOR CODE OF CELLS "]
[15,null,null,null,null,null,null,null,null,{"$f":"IF(J14=\"\",\"\", J14/$H14)","v":{"$error":"#DIV/0!"}},{"$error":"#DIV/0!"},{"$error":"#DIV/0!"},{"$error":"#DIV/0!"},{"$error":"#DIV/0!"},{"$error":"#DIV/0!"},{"$error":"#DIV/0!"},{"$error":"#DIV/0!"},{"$error":"#DIV/0!"},{"$error":"#DIV/0!"},{"$f":"IF(T14=\"\",\"\", T14/$H14)","v":{"$error":"#DIV/0!"}},{"$f":"IF(U14=\"\",\"\", U14/$H14)","v":{"$error":"#DIV/0!"}},{"$error":"#DIV/0!"},{"$error":"#DIV/0!"},{"$error":"#DIV/0!"},{"$error":"#DIV/0!"},{"$error":"#DIV/0!"},{"$error":"#DIV/0!"},{"$error":"#DIV/0!"},null,null,"WHITE SPACE IS FOR DATA ENTRY"]
[16,"Sample Day 5",{"$f":"'DATA ENTRY DASHBOARD'!$C$19","v":"00:00:00"},{"$f":"IF('DATA ENTRY DASHBOARD'!$D$19=\"\",\"\", ('DATA ENTRY DASHBOARD'!$D$19))","v":""},{"$f":"IF('DATA ENTRY DASHBOARD'!$E$19=\"\",\"\", ('DATA ENTRY DASHBOARD'!$E$19))","v":""},{"$f":"IF('DATA ENTRY DASHBOARD'!$F$19=\"\",\"\", ('DATA ENTRY DASHBOARD'!$F$19))","v":""},{"$f":"IF('DATA ENTRY DASHBOARD'!$G$19=\"\",\"\", ('DATA ENTRY DASHBOARD'!$G$19))","v":""},{"$f":"SUM(J16:AB16)","v":0},null,{"$f":"IF('DATA ENTRY DASHBOARD'!$J$19=\"\",0, ('DATA ENTRY DASHBOARD'!$J$19))","v":0},{"$f":"IF('DATA ENTRY DASHBOARD'!$K$19=\"\",0, ('DATA ENTRY DASHBOARD'!$K$19))","v":0},{"$f":"IF('DATA ENTRY DASHBOARD'!$L$19=\"\",0, ('DATA ENTRY DASHBOARD'!$L$19))","v":0},{"$f":"IF('DATA ENTRY DASHBOARD'!$M$19=\"\",0, ('DATA ENTRY DASHBOARD'!$M$19))","v":0},{"$f":"IF('DATA ENTRY DASHBOARD'!$N$19=\"\",0, ('DATA ENTRY DASHBOARD'!$N$19))","v":0},{"$f":"IF('DATA ENTRY DASHBOARD'!$O$19=\"\",0, ('DATA ENTRY DASHBOARD'!$O$19))","v":0},{"$f":"IF('DATA ENTRY DASHBOARD'!$P$19=\"\",0, ('DATA ENTRY DASHBOARD'!$P$19))","v":0},{"$f":"IF('DATA ENTRY DASHBOARD'!$Q$19=\"\",0, ('DATA ENTRY DASHBOARD'!$Q$19))","v":0},{"$f":"IF('DATA ENTRY DASHBOARD'!$R$19=\"\",0, ('DATA ENTRY DASHBOARD'!$R$19))","v":0},{"$f":"IF('DATA ENTRY DASHBOARD'!$S$19=\"\",0, ('DATA ENTRY DASHBOARD'!$S$19))","v":0},{"$f":"IF('DATA ENTRY DASHBOARD'!$AA$19=\"\",0, ('DATA ENTRY DASHBOARD'!$AA$19))","v":0},{"$f":"IF('DATA ENTRY DASHBOARD'!$T$19=\"\",0, ('DATA ENTRY DASHBOARD'!$T$19))","v":0},{"$f":"IF('DATA ENTRY DASHBOARD'!$U$19=\"\",0, ('DATA ENTRY DASHBOARD'!$U$19))","v":0},{"$f":"IF('DATA ENTRY DASHBOARD'!$V$19=\"\",0, ('DATA ENTRY DASHBOARD'!$V$19))","v":0},{"$f":"IF('DATA ENTRY DASHBOARD'!$W$19=\"\",0, ('DATA ENTRY DASHBOARD'!$W$19))","v":0},{"$f":"IF('DATA ENTRY DASHBOARD'!$X$19=\"\",0, ('DATA ENTRY DASHBOARD'!$X$19))","v":0},{"$f":"IF('DATA ENTRY DASHBOARD'!$Y$19=\"\",0, ('DATA ENTRY DASHBOARD'!$Y$19))","v":0},{"$f":"IF('DATA ENTRY DASHBOARD'!$AB$19=\"\",0, ('DATA ENTRY DASHBOARD'!$AB$19))","v":0},{"$f":"IF('DATA ENTRY DASHBOARD'!$Z$19=\"\",0, ('DATA ENTRY DASHBOARD'!$Z$19))","v":0},null,null,"PALE BLUE CONTAINS LABELS, INSTRUCTIONS OR COMMENTS, SOMETIMES BACKGROUND"]
[17,null,null,null,null,null,null,null,null,{"$f":"IF(J16=\"\",\"\", J16/$H16)","v":{"$error":"#DIV/0!"}},{"$error":"#DIV/0!"},{"$error":"#DIV/0!"},{"$error":"#DIV/0!"},{"$error":"#DIV/0!"},{"$error":"#DIV/0!"},{"$error":"#DIV/0!"},{"$error":"#DIV/0!"},{"$error":"#DIV/0!"},{"$error":"#DIV/0!"},{"$f":"IF(T16=\"\",\"\", T16/$H16)","v":{"$error":"#DIV/0!"}},{"$f":"IF(U16=\"\",\"\", U16/$H16)","v":{"$error":"#DIV/0!"}},{"$error":"#DIV/0!"},{"$error":"#DIV/0!"},{"$error":"#DIV/0!"},{"$error":"#DIV/0!"},{"$error":"#DIV/0!"},{"$error":"#DIV/0!"},{"$error":"#DIV/0!"},null,null,"MEDIUM BLUE CONTAINS OR REPEATS INFORMATION, MOST BACKGROUND"]
[18,"Sample Day 6",{"$f":"'DATA ENTRY DASHBOARD'!$C$21","v":"00:00:00"},{"$f":"IF('DATA ENTRY DASHBOARD'!$D$21=\"\",\"\", ('DATA ENTRY DASHBOARD'!$D$21))","v":""},{"$f":"IF('DATA ENTRY DASHBOARD'!$E$21=\"\",\"\", ('DATA ENTRY DASHBOARD'!$E$21))","v":""},{"$f":"IF('DATA ENTRY DASHBOARD'!$F$21=\"\",\"\", ('DATA ENTRY DASHBOARD'!$F$21))","v":""},{"$f":"IF('DATA ENTRY DASHBOARD'!$G$21=\"\",\"\", ('DATA ENTRY DASHBOARD'!$G$21))","v":""},{"$f":"SUM(J18:AB18)","v":0},null,{"$f":"IF('DATA ENTRY DASHBOARD'!$J$21=\"\",0, ('DATA ENTRY DASHBOARD'!$J$21))","v":0},{"$f":"IF('DATA ENTRY DASHBOARD'!$K$21=\"\",0, ('DATA ENTRY DASHBOARD'!$K$21))","v":0},{"$f":"IF('DATA ENTRY DASHBOARD'!$L$21=\"\",0, ('DATA ENTRY DASHBOARD'!$L$21))","v":0},{"$f":"IF('DATA ENTRY DASHBOARD'!$M$21=\"\",0, ('DATA ENTRY DASHBOARD'!$M$21))","v":0},{"$f":"IF('DATA ENTRY DASHBOARD'!$N$21=\"\",0, ('DATA ENTRY DASHBOARD'!$N$21))","v":0},{"$f":"IF('DATA ENTRY DASHBOARD'!$O$21=\"\",0, ('DATA ENTRY DASHBOARD'!$O$21))","v":0},{"$f":"IF('DATA ENTRY DASHBOARD'!$P$21=\"\",0, ('DATA ENTRY DASHBOARD'!$P$21))","v":0},{"$f":"IF('DATA ENTRY DASHBOARD'!$Q$21=\"\",0, ('DATA ENTRY DASHBOARD'!$Q$21))","v":0},{"$f":"IF('DATA ENTRY DASHBOARD'!$R$21=\"\",0, ('DATA ENTRY DASHBOARD'!$R$21))","v":0},{"$f":"IF('DATA ENTRY DASHBOARD'!$S$21=\"\",0, ('DATA ENTRY DASHBOARD'!$S$21))","v":0},{"$f":"IF('DATA ENTRY DASHBOARD'!$AA$21=\"\",0, ('DATA ENTRY DASHBOARD'!$AA$21))","v":0},{"$f":"IF('DATA ENTRY DASHBOARD'!$T$21=\"\",0, ('DATA ENTRY DASHBOARD'!$T$21))","v":0},{"$f":"IF('DATA ENTRY DASHBOARD'!$U$21=\"\",0, ('DATA ENTRY DASHBOARD'!$U$21))","v":0},{"$f":"IF('DATA ENTRY DASHBOARD'!$V$21=\"\",0, ('DATA ENTRY DASHBOARD'!$V$21))","v":0},{"$f":"IF('DATA ENTRY DASHBOARD'!$W$21=\"\",0, ('DATA ENTRY DASHBOARD'!$W$21))","v":0},{"$f":"IF('DATA ENTRY DASHBOARD'!$X$21=\"\",0, ('DATA ENTRY DASHBOARD'!$X$21))","v":0},{"$f":"IF('DATA ENTRY DASHBOARD'!$Y$21=\"\",0, ('DATA ENTRY DASHBOARD'!$Y$21))","v":0},{"$f":"IF('DATA ENTRY DASHBOARD'!$AB$21=\"\",0, ('DATA ENTRY DASHBOARD'!$AB$21))","v":0},{"$f":"IF('DATA ENTRY DASHBOARD'!$Z$21=\"\",0, ('DATA ENTRY DASHBOARD'!$Z$21))","v":0},null,null,"LIGHT PURPLE CONTAINS FORMULAS, PRESENTS RESULTS"]
[19,null,null,null,null,null,null,null,null,{"$f":"IF(J18=\"\",\"\", J18/$H18)","v":{"$error":"#DIV/0!"}},{"$error":"#DIV/0!"},{"$error":"#DIV/0!"},{"$error":"#DIV/0!"},{"$error":"#DIV/0!"},{"$error":"#DIV/0!"},{"$error":"#DIV/0!"},{"$error":"#DIV/0!"},{"$error":"#DIV/0!"},{"$error":"#DIV/0!"},{"$f":"IF(T18=\"\",\"\", T18/$H18)","v":{"$error":"#DIV/0!"}},{"$f":"IF(U18=\"\",\"\", U18/$H18)","v":{"$error":"#DIV/0!"}},{"$error":"#DIV/0!"},{"$error":"#DIV/0!"},{"$error":"#DIV/0!"},{"$error":"#DIV/0!"},{"$error":"#DIV/0!"},{"$error":"#DIV/0!"},{"$error":"#DIV/0!"},null,null,"YELLOW IS ALERT FOR A SPECIAL SITUATION"]
[20,"Sample Day 7",{"$f":"'DATA ENTRY DASHBOARD'!$C$23","v":"00:00:00"},{"$f":"IF('DATA ENTRY DASHBOARD'!$D$23=\"\",\"\", ('DATA ENTRY DASHBOARD'!$D$23))","v":""},{"$f":"IF('DATA ENTRY DASHBOARD'!$E$23=\"\",\"\", ('DATA ENTRY DASHBOARD'!$E$23))","v":""},{"$f":"IF('DATA ENTRY DASHBOARD'!$F$23=\"\",\"\", ('DATA ENTRY DASHBOARD'!$F$23))","v":""},{"$f":"IF('DATA ENTRY DASHBOARD'!$G$23=\"\",\"\", ('DATA ENTRY DASHBOARD'!$G$23))","v":""},{"$f":"SUM(J20:AB20)","v":0},null,{"$f":"IF('DATA ENTRY DASHBOARD'!$J$23=\"\",0, ('DATA ENTRY DASHBOARD'!$J$23))","v":0},{"$f":"IF('DATA ENTRY DASHBOARD'!$K$23=\"\",0, ('DATA ENTRY DASHBOARD'!$K$23))","v":0},{"$f":"IF('DATA ENTRY DASHBOARD'!$L$23=\"\",0, ('DATA ENTRY DASHBOARD'!$L$23))","v":0},{"$f":"IF('DATA ENTRY DASHBOARD'!$M$23=\"\",0, ('DATA ENTRY DASHBOARD'!$M$23))","v":0},{"$f":"IF('DATA ENTRY DASHBOARD'!$N$23=\"\",0, ('DATA ENTRY DASHBOARD'!$N$23))","v":0},{"$f":"IF('DATA ENTRY DASHBOARD'!$O$23=\"\",0, ('DATA ENTRY DASHBOARD'!$O$23))","v":0},{"$f":"IF('DATA ENTRY DASHBOARD'!$P$23=\"\",0, ('DATA ENTRY DASHBOARD'!$P$23))","v":0},{"$f":"IF('DATA ENTRY DASHBOARD'!$Q$23=\"\",0, ('DATA ENTRY DASHBOARD'!$Q$23))","v":0},{"$f":"IF('DATA ENTRY DASHBOARD'!$R$23=\"\",0, ('DATA ENTRY DASHBOARD'!$R$23))","v":0},{"$f":"IF('DATA ENTRY DASHBOARD'!$S$23=\"\",0, ('DATA ENTRY DASHBOARD'!$S$23))","v":0},{"$f":"IF('DATA ENTRY DASHBOARD'!$AA$23=\"\",0, ('DATA ENTRY DASHBOARD'!$AA$23))","v":0},{"$f":"IF('DATA ENTRY DASHBOARD'!$T$23=\"\",0, ('DATA ENTRY DASHBOARD'!$T$23))","v":0},{"$f":"IF('DATA ENTRY DASHBOARD'!$U$23=\"\",0, ('DATA ENTRY DASHBOARD'!$U$23))","v":0},{"$f":"IF('DATA ENTRY DASHBOARD'!$V$23=\"\",0, ('DATA ENTRY DASHBOARD'!$V$23))","v":0},{"$f":"IF('DATA ENTRY DASHBOARD'!$W$23=\"\",0, ('DATA ENTRY DASHBOARD'!$W$23))","v":0},{"$f":"IF('DATA ENTRY DASHBOARD'!$X$23=\"\",0, ('DATA ENTRY DASHBOARD'!$X$23))","v":0},{"$f":"IF('DATA ENTRY DASHBOARD'!$Y$23=\"\",0, ('DATA ENTRY DASHBOARD'!$Y$23))","v":0},{"$f":"IF('DATA ENTRY DASHBOARD'!$AB$23=\"\",0, ('DATA ENTRY DASHBOARD'!$AB$23))","v":0},{"$f":"IF('DATA ENTRY DASHBOARD'!$Z$23=\"\",0, ('DATA ENTRY DASHBOARD'!$Z$23))","v":0}]
[21,null,null,null,null,null,null,null,null,{"$f":"IF(J20=\"\",\"\", J20/$H20)","v":{"$error":"#DIV/0!"}},{"$error":"#DIV/0!"},{"$error":"#DIV/0!"},{"$error":"#DIV/0!"},{"$error":"#DIV/0!"},{"$error":"#DIV/0!"},{"$error":"#DIV/0!"},{"$error":"#DIV/0!"},{"$error":"#DIV/0!"},{"$error":"#DIV/0!"},{"$f":"IF(T20=\"\",\"\", T20/$H20)","v":{"$error":"#DIV/0!"}},{"$f":"IF(U20=\"\",\"\", U20/$H20)","v":{"$error":"#DIV/0!"}},{"$error":"#DIV/0!"},{"$error":"#DIV/0!"},{"$error":"#DIV/0!"},{"$error":"#DIV/0!"},{"$error":"#DIV/0!"},{"$error":"#DIV/0!"},{"$error":"#DIV/0!"}]
[22,"Sample Day 8",{"$f":"'DATA ENTRY DASHBOARD'!$C$25","v":"00:00:00"},{"$f":"IF('DATA ENTRY DASHBOARD'!$D$25=\"\",\"\", ('DATA ENTRY DASHBOARD'!$D$25))","v":""},{"$f":"IF('DATA ENTRY DASHBOARD'!$E$25=\"\",\"\", ('DATA ENTRY DASHBOARD'!$E$25))","v":""},{"$f":"IF('DATA ENTRY DASHBOARD'!$F$25=\"\",\"\", ('DATA ENTRY DASHBOARD'!$F$25))","v":""},{"$f":"IF('DATA ENTRY DASHBOARD'!$G$25=\"\",\"\", ('DATA ENTRY DASHBOARD'!$G$25))","v":""},{"$f":"SUM(J22:AB22)","v":0},null,{"$f":"IF('DATA ENTRY DASHBOARD'!$J$25=\"\",0, ('DATA ENTRY DASHBOARD'!$J$25))","v":0},{"$f":"IF('DATA ENTRY DASHBOARD'!$K$25=\"\",0, ('DATA ENTRY DASHBOARD'!$K$25))","v":0},{"$f":"IF('DATA ENTRY DASHBOARD'!$L$25=\"\",0, ('DATA ENTRY DASHBOARD'!$L$25))","v":0},{"$f":"IF('DATA ENTRY DASHBOARD'!$M$25=\"\",0, ('DATA ENTRY DASHBOARD'!$M$25))","v":0},{"$f":"IF('DATA ENTRY DASHBOARD'!$N$25=\"\",0, ('DATA ENTRY DASHBOARD'!$N$25))","v":0},{"$f":"IF('DATA ENTRY DASHBOARD'!$O$25=\"\",0, ('DATA ENTRY DASHBOARD'!$O$25))","v":0},{"$f":"IF('DATA ENTRY DASHBOARD'!$P$25=\"\",0, ('DATA ENTRY DASHBOARD'!$P$25))","v":0},{"$f":"IF('DATA ENTRY DASHBOARD'!$Q$25=\"\",0, ('DATA ENTRY DASHBOARD'!$Q$25))","v":0},{"$f":"IF('DATA ENTRY DASHBOARD'!$R$25=\"\",0, ('DATA ENTRY DASHBOARD'!$R$25))","v":0},{"$f":"IF('DATA ENTRY DASHBOARD'!$S$25=\"\",0, ('DATA ENTRY DASHBOARD'!$S$25))","v":0},{"$f":"IF('DATA ENTRY DASHBOARD'!$AA$25=\"\",0, ('DATA ENTRY DASHBOARD'!$AA$25))","v":0},{"$f":"IF('DATA ENTRY DASHBOARD'!$T$25=\"\",0, ('DATA ENTRY DASHBOARD'!$T$25))","v":0},{"$f":"IF('DATA ENTRY DASHBOARD'!$U$25=\"\",0, ('DATA ENTRY DASHBOARD'!$U$25))","v":0},{"$f":"IF('DATA ENTRY DASHBOARD'!$V$25=\"\",0, ('DATA ENTRY DASHBOARD'!$V$25))","v":0},{"$f":"IF('DATA ENTRY DASHBOARD'!$W$25=\"\",0, ('DATA ENTRY DASHBOARD'!$W$25))","v":0},{"$f":"IF('DATA ENTRY DASHBOARD'!$X$25=\"\",0, ('DATA ENTRY DASHBOARD'!$X$25))","v":0},{"$f":"IF('DATA ENTRY DASHBOARD'!$Y$25=\"\",0, ('DATA ENTRY DASHBOARD'!$Y$25))","v":0},{"$f":"IF('DATA ENTRY DASHBOARD'!$AB$25=\"\",0, ('DATA ENTRY DASHBOARD'!$AB$25))","v":0},{"$f":"IF('DATA ENTRY DASHBOARD'!$Z$25=\"\",0, ('DATA ENTRY DASHBOARD'!$Z$25))","v":0}]
[23,null,null,null,null,null,null,null,null,{"$f":"IF(J22=\"\",\"\", J22/$H22)","v":{"$error":"#DIV/0!"}},{"$error":"#DIV/0!"},{"$error":"#DIV/0!"},{"$error":"#DIV/0!"},{"$error":"#DIV/0!"},{"$error":"#DIV/0!"},{"$error":"#DIV/0!"},{"$error":"#DIV/0!"},{"$error":"#DIV/0!"},{"$error":"#DIV/0!"},{"$f":"IF(T22=\"\",\"\", T22/$H22)","v":{"$error":"#DIV/0!"}},{"$f":"IF(U22=\"\",\"\", U22/$H22)","v":{"$error":"#DIV/0!"}},{"$error":"#DIV/0!"},{"$error":"#DIV/0!"},{"$error":"#DIV/0!"},{"$error":"#DIV/0!"},{"$error":"#DIV/0!"},{"$error":"#DIV/0!"},{"$error":"#DIV/0!"}]
[24,"Sample Day 9",{"$f":"'DATA ENTRY DASHBOARD'!$C$27","v":"00:00:00"},{"$f":"IF('DATA ENTRY DASHBOARD'!$D$27=\"\",\"\", ('DATA ENTRY DASHBOARD'!$D$27))","v":""},{"$f":"IF('DATA ENTRY DASHBOARD'!$E$27=\"\",\"\", ('DATA ENTRY DASHBOARD'!$E$27))","v":""},{"$f":"IF('DATA ENTRY DASHBOARD'!$F$27=\"\",\"\", ('DATA ENTRY DASHBOARD'!$F$27))","v":""},{"$f":"IF('DATA ENTRY DASHBOARD'!$G$27=\"\",\"\", ('DATA ENTRY DASHBOARD'!$G$27))","v":""},{"$f":"SUM(J24:AB24)","v":0},null,{"$f":"IF('DATA ENTRY DASHBOARD'!$J$27=\"\",0, ('DATA ENTRY DASHBOARD'!$J$27))","v":0},{"$f":"IF('DATA ENTRY DASHBOARD'!$K$27=\"\",0, ('DATA ENTRY DASHBOARD'!$K$27))","v":0},{"$f":"IF('DATA ENTRY DASHBOARD'!$L$27=\"\",0, ('DATA ENTRY DASHBOARD'!$L$27))","v":0},{"$f":"IF('DATA ENTRY DASHBOARD'!$M$27=\"\",0, ('DATA ENTRY DASHBOARD'!$M$27))","v":0},{"$f":"IF('DATA ENTRY DASHBOARD'!$N$27=\"\",0, ('DATA ENTRY DASHBOARD'!$N$27))","v":0},{"$f":"IF('DATA ENTRY DASHBOARD'!$O$27=\"\",0, ('DATA ENTRY DASHBOARD'!$O$27))","v":0},{"$f":"IF('DATA ENTRY DASHBOARD'!$P$27=\"\",0, ('DATA ENTRY DASHBOARD'!$P$27))","v":0},{"$f":"IF('DATA ENTRY DASHBOARD'!$Q$27=\"\",0, ('DATA ENTRY DASHBOARD'!$Q$27))","v":0},{"$f":"IF('DATA ENTRY DASHBOARD'!$R$27=\"\",0, ('DATA ENTRY DASHBOARD'!$R$27))","v":0},{"$f":"IF('DATA ENTRY DASHBOARD'!$S$27=\"\",0, ('DATA ENTRY DASHBOARD'!$S$27))","v":0},{"$f":"IF('DATA ENTRY DASHBOARD'!$AA$27=\"\",0, ('DATA ENTRY DASHBOARD'!$AA$27))","v":0},{"$f":"IF('DATA ENTRY DASHBOARD'!$T$27=\"\",0, ('DATA ENTRY DASHBOARD'!$T$27))","v":0},{"$f":"IF('DATA ENTRY DASHBOARD'!$U$27=\"\",0, ('DATA ENTRY DASHBOARD'!$U$27))","v":0},{"$f":"IF('DATA ENTRY DASHBOARD'!$V$27=\"\",0, ('DATA ENTRY DASHBOARD'!$V$27))","v":0},{"$f":"IF('DATA ENTRY DASHBOARD'!$W$27=\"\",0, ('DATA ENTRY DASHBOARD'!$W$27))","v":0},{"$f":"IF('DATA ENTRY DASHBOARD'!$X$27=\"\",0, ('DATA ENTRY DASHBOARD'!$X$27))","v":0},{"$f":"IF('DATA ENTRY DASHBOARD'!$Y$27=\"\",0, ('DATA ENTRY DASHBOARD'!$Y$27))","v":0},{"$f":"IF('DATA ENTRY DASHBOARD'!$AB$27=\"\",0, ('DATA ENTRY DASHBOARD'!$AB$27))","v":0},{"$f":"IF('DATA ENTRY DASHBOARD'!$Z$27=\"\",0, ('DATA ENTRY DASHBOARD'!$Z$27))","v":0}]
[25,null,null,null,null,null,null,null,null,{"$f":"IF(J24=\"\",\"\", J24/$H24)","v":{"$error":"#DIV/0!"}},{"$error":"#DIV/0!"},{"$error":"#DIV/0!"},{"$error":"#DIV/0!"},{"$error":"#DIV/0!"},{"$error":"#DIV/0!"},{"$error":"#DIV/0!"},{"$error":"#DIV/0!"},{"$error":"#DIV/0!"},{"$error":"#DIV/0!"},{"$f":"IF(T24=\"\",\"\", T24/$H24)","v":{"$error":"#DIV/0!"}},{"$f":"IF(U24=\"\",\"\", U24/$H24)","v":{"$error":"#DIV/0!"}},{"$error":"#DIV/0!"},{"$error":"#DIV/0!"},{"$error":"#DIV/0!"},{"$error":"#DIV/0!"},{"$error":"#DIV/0!"},{"$error":"#DIV/0!"},{"$error":"#DIV/0!"}]
[26,"Sample Day 10",{"$f":"'DATA ENTRY DASHBOARD'!$C$29","v":"00:00:00"},{"$f":"IF('DATA ENTRY DASHBOARD'!$D$29=\"\",\"\", ('DATA ENTRY DASHBOARD'!$D$29))","v":""},{"$f":"IF('DATA ENTRY DASHBOARD'!$E$29=\"\",\"\", ('DATA ENTRY DASHBOARD'!$E$29))","v":""},{"$f":"IF('DATA ENTRY DASHBOARD'!$F$29=\"\",\"\", ('DATA ENTRY DASHBOARD'!$F$29))","v":""},{"$f":"IF('DATA ENTRY DASHBOARD'!$G$29=\"\",\"\", ('DATA ENTRY DASHBOARD'!$G$29))","v":""},{"$f":"SUM(J26:AB26)","v":0},null,{"$f":"IF('DATA ENTRY DASHBOARD'!$J$29=\"\",0, ('DATA ENTRY DASHBOARD'!$J$29))","v":0},{"$f":"IF('DATA ENTRY DASHBOARD'!$K$29=\"\",0, ('DATA ENTRY DASHBOARD'!$K$29))","v":0},{"$f":"IF('DATA ENTRY DASHBOARD'!$L$29=\"\",0, ('DATA ENTRY DASHBOARD'!$L$29))","v":0},{"$f":"IF('DATA ENTRY DASHBOARD'!$M$29=\"\",0, ('DATA ENTRY DASHBOARD'!$M$29))","v":0},{"$f":"IF('DATA ENTRY DASHBOARD'!$N$29=\"\",0, ('DATA ENTRY DASHBOARD'!$N$29))","v":0},{"$f":"IF('DATA ENTRY DASHBOARD'!$O$29=\"\",0, ('DATA ENTRY DASHBOARD'!$O$29))","v":0},{"$f":"IF('DATA ENTRY DASHBOARD'!$P$29=\"\",0, ('DATA ENTRY DASHBOARD'!$P$29))","v":0},{"$f":"IF('DATA ENTRY DASHBOARD'!$Q$29=\"\",0, ('DATA ENTRY DASHBOARD'!$Q$29))","v":0},{"$f":"IF('DATA ENTRY DASHBOARD'!$R$29=\"\",0, ('DATA ENTRY DASHBOARD'!$R$29))","v":0},{"$f":"IF('DATA ENTRY DASHBOARD'!$S$29=\"\",0, ('DATA ENTRY DASHBOARD'!$S$29))","v":0},{"$f":"IF('DATA ENTRY DASHBOARD'!$AA$29=\"\",0, ('DATA ENTRY DASHBOARD'!$AA$29))","v":0},{"$f":"IF('DATA ENTRY DASHBOARD'!$T$29=\"\",0, ('DATA ENTRY DASHBOARD'!$T$29))","v":0},{"$f":"IF('DATA ENTRY DASHBOARD'!$U$29=\"\",0, ('DATA ENTRY DASHBOARD'!$U$29))","v":0},{"$f":"IF('DATA ENTRY DASHBOARD'!$V$29=\"\",0, ('DATA ENTRY DASHBOARD'!$V$29))","v":0},{"$f":"IF('DATA ENTRY DASHBOARD'!$W$29=\"\",0, ('DATA ENTRY DASHBOARD'!$W$29))","v":0},{"$f":"IF('DATA ENTRY DASHBOARD'!$X$29=\"\",0, ('DATA ENTRY DASHBOARD'!$X$29))","v":0},{"$f":"IF('DATA ENTRY DASHBOARD'!$Y$29=\"\",0, ('DATA ENTRY DASHBOARD'!$Y$29))","v":0},{"$f":"IF('DATA ENTRY DASHBOARD'!$AB$29=\"\",0, ('DATA ENTRY DASHBOARD'!$AB$29))","v":0},{"$f":"IF('DATA ENTRY DASHBOARD'!$Z$29=\"\",0, ('DATA ENTRY DASHBOARD'!$Z$29))","v":0}]
[27,null,null,null,null,null,null,null,null,{"$f":"IF(J26=\"\",\"\", J26/$H26)","v":{"$error":"#DIV/0!"}},{"$error":"#DIV/0!"},{"$error":"#DIV/0!"},{"$error":"#DIV/0!"},{"$error":"#DIV/0!"},{"$error":"#DIV/0!"},{"$error":"#DIV/0!"},{"$error":"#DIV/0!"},{"$error":"#DIV/0!"},{"$error":"#DIV/0!"},{"$f":"IF(T26=\"\",\"\", T26/$H26)","v":{"$error":"#DIV/0!"}},{"$f":"IF(U26=\"\",\"\", U26/$H26)","v":{"$error":"#DIV/0!"}},{"$error":"#DIV/0!"},{"$error":"#DIV/0!"},{"$error":"#DIV/0!"},{"$error":"#DIV/0!"},{"$error":"#DIV/0!"},{"$error":"#DIV/0!"},{"$error":"#DIV/0!"}]
[28,null,null,null,null,null,null,{"$f":"SUM(H8+H10+H12+H14+H16+H18+H20+H22+H24+H26)","v":0},null,{"$f":"SUM(J8+J10+J12+J14+J16+J18+J20+J22+J24+J26)","v":0},{"$f":"SUM(K8+K10+K12+K14+K16+K18+K20+K22+K24+K26)","v":0},{"$f":"SUM(L8+L10+L12+L14+L16+L18+L20+L22+L24+L26)","v":0},0,0,{"$f":"SUM(O8+O10+O12+O14+O16+O18+O20+O22+O24+O26)","v":0},0,0,0,{"$f":"SUM(S8+S10+S12+S14+S16+S18+S20+S22+S24+S26)","v":0},0,0,0,0,0,0,0,0,0]
[29,null,null,null,null,null,null,"TOT #s / month↑",null,"TOT SP #s/MONTH↑"]
[30,null,null,null,null,null,null,null,null,{"$f":"IF($H28=0,0,J28/$H28)","v":0},{"$f":"IF($H28=0,0,K28/$H28)","v":0},0,0,0,0,0,0,0,0,0,0,0,0,0,0,0,0,0]
[31,"B","C","D","E","F","G",null,"# Days Processing",{"$f":"IF('DATA ENTRY DASHBOARD'!J$34=0,\"\", ('DATA ENTRY DASHBOARD'!J$34))","v":""},{"$f":"IF('DATA ENTRY DASHBOARD'!K$34=0,\"\", ('DATA ENTRY DASHBOARD'!K$34))","v":""},{"$f":"IF('DATA ENTRY DASHBOARD'!L$34=0,\"\", ('DATA ENTRY DASHBOARD'!L$34))","v":""},{"$f":"IF('DATA ENTRY DASHBOARD'!M$34=0,\"\", ('DATA ENTRY DASHBOARD'!M$34))","v":""},{"$f":"IF('DATA ENTRY DASHBOARD'!N$34=0,\"\", ('DATA ENTRY DASHBOARD'!N$34))","v":""},{"$f":"IF('DATA ENTRY DASHBOARD'!O$34=0,\"\", ('DATA ENTRY DASHBOARD'!O$34))","v":""},{"$f":"IF('DATA ENTRY DASHBOARD'!P$34=0,\"\", ('DATA ENTRY DASHBOARD'!P$34))","v":""},{"$f":"IF('DATA ENTRY DASHBOARD'!Q$34=0,\"\", ('DATA ENTRY DASHBOARD'!Q$34))","v":""},{"$f":"IF('DATA ENTRY DASHBOARD'!R$34=0,\"\", ('DATA ENTRY DASHBOARD'!R$34))","v":""},{"$f":"IF('DATA ENTRY DASHBOARD'!S$34=0,\"\", ('DATA ENTRY DASHBOARD'!S$34))","v":""},{"$f":"IF('DATA ENTRY DASHBOARD'!T$34=0,\"\", ('DATA ENTRY DASHBOARD'!T$34))","v":""},{"$f":"IF('DATA ENTRY DASHBOARD'!U$34=0,\"\", ('DATA ENTRY DASHBOARD'!U$34))","v":""},{"$f":"IF('DATA ENTRY DASHBOARD'!V$34=0,\"\", ('DATA ENTRY DASHBOARD'!V$34))","v":""},{"$f":"IF('DATA ENTRY DASHBOARD'!W$34=0,\"\", ('DATA ENTRY DASHBOARD'!W$34))","v":""},{"$f":"IF('DATA ENTRY DASHBOARD'!X$34=0,\"\", ('DATA ENTRY DASHBOARD'!X$34))","v":""},{"$f":"IF('DATA ENTRY DASHBOARD'!Y$34=0,\"\", ('DATA ENTRY DASHBOARD'!Y$34))","v":""},{"$f":"IF('DATA ENTRY DASHBOARD'!Z$34=0,\"\", ('DATA ENTRY DASHBOARD'!Z$34))","v":""},{"$f":"IF('DATA ENTRY DASHBOARD'!AA$34=0,\"\", ('DATA ENTRY DASHBOARD'!AA$34))","v":""},{"$f":"IF('DATA ENTRY DASHBOARD'!AB$34=0,\"\", ('DATA ENTRY DASHBOARD'!AB$34))","v":""}]
[32,3,"CALCULATIONS PERFORMED AUTOMATICALLY.  DO NOT ENTER ANYTHING HERE.                                                                   (Discharged Load in lbs pollutant / 1000-lbs total processing of the day) "]
[33,null,null,"Flow                          MGD","LAB RESULT  Concentration  mg/L","Conv Factor    8.34                          (WT WATER LB/GAL)","Pounds Pollutant Discharged Daily Values","1000-pounds' processed by sample day","Discharge Load #/1000-#"]
[34,"Sample Day 1","BOD RESULTS",{"$f":"$D$8","v":""},{"$f":"$E$8","v":""},8.34,{"$f":"IF(D34=\"\",0, IF(E34=\"\",0, D34*E34*F34))","v":0},{"$f":"$H$8/1000","v":0},{"$f":"IFERROR(G34/H34,0)","v":0},"BOD is the abbreviation for the pollutant Biochemical Oxygen Demand and refers to the 5-Day BOD analysed by an approved method from 40 CFR 136."]
[35,"Sample Day 2","BOD RESULTS",{"$f":"$D$10","v":""},{"$f":"$E$10","v":""},8.34,{"$f":"IF(D35=\"\",0, IF(E35=\"\",0, D35*E35*F35))","v":0},{"$f":"$H$10/1000","v":0},0]
[36,"Sample Day 3","BOD RESULTS",{"$f":"$D$12","v":""},{"$f":"$E$12","v":""},8.34,0,{"$f":"$H$12/1000","v":0},0]
[37,"Sample Day 4","BOD RESULTS",{"$f":"$D$14","v":""},{"$f":"$E$14","v":""},8.34,0,{"$f":"$H$14/1000","v":0},0]
[38,"Sample Day 5","BOD RESULTS",{"$f":"$D$16","v":""},{"$f":"$E$16","v":""},8.34,0,{"$f":"$H$16/1000","v":0},0]
[39,"Sample Day 6","BOD RESULTS",{"$f":"$D$18","v":""},{"$f":"$E$18","v":""},8.34,0,{"$f":"$H$18/1000","v":0},0]
[40,"Sample Day 7","BOD RESULTS",{"$f":"$D$20","v":""},{"$f":"$E$20","v":""},8.34,0,{"$f":"$H$20/1000","v":0},0]
[41,"Sample Day 8","BOD RESULTS",{"$f":"$D$22","v":""},{"$f":"$E$22","v":""},8.34,0,{"$f":"$H$22/1000","v":0},0]
[42,"Sample Day 9","BOD RESULTS",{"$f":"$D$24","v":""},{"$f":"$E$24","v":""},8.34,0,{"$f":"$H$24/1000","v":0},0]
[43,"Sample Day 10","BOD RESULTS",{"$f":"$D$26","v":""},{"$f":"$E$26","v":""},8.34,0,{"$f":"$H$26/1000","v":0},0]
[44,"Monthly TOTAL","BOD RESULTS","--","--","--",{"$f":"SUM(G34:G43)","v":0},{"$f":"SUM(H34:H43)","v":0},0]
[45,"Sample Day 1","TSS RESULTS",{"$f":"$D$8","v":""},{"$f":"$F$8","v":""},8.34,{"$f":"IF(D45=\"\",0, IF(E45=\"\",0, D45*E45*F45))","v":0},{"$f":"$H$8/1000","v":0},0,"TSS is the abbreviation for the pollutant Total Suspended Solids and refers to the TSS analysed by an approved method from 40 CFR 136."]
[46,"Sample Day 2","TSS RESULTS",{"$f":"$D$10","v":""},{"$f":"$F$10","v":""},8.34,0,{"$f":"$H$10/1000","v":0},0,"TSS is formally called Residue-non-filterable found at 40 CFR 136.3(a) Table 1B item 55."]
[47,"Sample Day 3","TSS RESULTS",{"$f":"$D$12","v":""},{"$f":"$F$12","v":""},8.34,0,{"$f":"$H$12/1000","v":0},0]
[48,"Sample Day 4","TSS RESULTS",{"$f":"$D$14","v":""},{"$f":"$F$14","v":""},8.34,0,{"$f":"$H$14/1000","v":0},0]
[49,"Sample Day 5","TSS RESULTS",{"$f":"$D$16","v":""},{"$f":"$F$16","v":""},8.34,0,{"$f":"$H$16/1000","v":0},0]
[50,"Sample Day 6","TSS RESULTS",{"$f":"$D$18","v":""},{"$f":"$F$18","v":""},8.34,0,{"$f":"$H$18/1000","v":0},0]
[51,"Sample Day 7","TSS RESULTS",{"$f":"$D$20","v":""},{"$f":"$F$20","v":""},8.34,0,{"$f":"$H$20/1000","v":0},0]
[52,"Sample Day 8","TSS RESULTS",{"$f":"$D$22","v":""},{"$f":"$F$22","v":""},8.34,0,{"$f":"$H$22/1000","v":0},0]
[53,"Sample Day 9","TSS RESULTS",{"$f":"$D$24","v":""},{"$f":"$F$24","v":""},8.34,0,{"$f":"$H$24/1000","v":0},0]
[54,"Sample Day 10","TSS RESULTS",{"$f":"$D$26","v":""},{"$f":"$F$26","v":""},8.34,0,{"$f":"$H$26/1000","v":0},0]
[55,"Monthly TOTAL","TSS RESULTS","--","--","--",{"$f":"SUM(G45:G54)","v":0},{"$f":"SUM(H45:H54)","v":0},0]
[56,"Sample Day 1","O &G RESULTS",{"$f":"$D$8","v":""},{"$f":"$G$8","v":""},8.34,{"$f":"IF(D56=\"\",0, IF(E56=\"\",0, D56*E56*F56))","v":0},{"$f":"$H$8/1000","v":0},0,"O&G is the abbreviation for the pollutant Oil and Grease and refers to O&G analysed by an approved method from 40 CFR 136."]
[57,"Sample Day 2","O &G RESULTS",{"$f":"$D$10","v":""},{"$f":"$G$10","v":""},8.34,0,{"$f":"$H$10/1000","v":0},0]
[58,"Sample Day 3","O &G RESULTS",{"$f":"$D$12","v":""},{"$f":"$G$12","v":""},8.34,0,{"$f":"$H$12/1000","v":0},0]
[59,"Sample Day 4","O &G RESULTS",{"$f":"$D$14","v":""},{"$f":"$G$14","v":""},8.34,0,{"$f":"$H$14/1000","v":0},0]
[60,"Sample Day 5","O &G RESULTS",{"$f":"$D$16","v":""},{"$f":"$G$16","v":""},8.34,0,{"$f":"$H$16/1000","v":0},0]
[61,"Sample Day 6","O &G RESULTS",{"$f":"$D$18","v":""},{"$f":"$G$18","v":""},8.34,0,{"$f":"$H$18/1000","v":0},0]
[62,"Sample Day 7","O &G RESULTS",{"$f":"$D$20","v":""},{"$f":"$G$20","v":""},8.34,0,{"$f":"$H$20/1000","v":0},0]
[63,"Sample Day 8","O &G RESULTS",{"$f":"$D$22","v":""},{"$f":"$G$22","v":""},8.34,0,{"$f":"$H$22/1000","v":0},0]
[64,"Sample Day 9","O &G RESULTS",{"$f":"$D$24","v":""},{"$f":"$G$24","v":""},8.34,0,{"$f":"$H$24/1000","v":0},0]
[65,"Sample Day 10","O &G RESULTS",{"$f":"$D$26","v":""},{"$f":"$G$26","v":""},8.34,0,{"$f":"$H$26/1000","v":0},0]
[66,"Monthly TOTAL","O &G RESULTS","--","--","--",{"$f":"SUM(G56:G65)","v":0},{"$f":"SUM(H56:H65)","v":0},0]
[67]
[68,4,"RECAP DAILY TBELS HERE (EXTG) BY PARAMETER & SPECIES/PROCESS-TYPE",null,null,null,null,null,null,null,null,null,"RECAP TBELS HERE BY PARAMETER & SPECIES/PROCESS-TYPE"]
[69,"B","C","D","E","F","G","H","I","J","K","L","M","N","O","P","Q","R","S","T","U"]
[70,"PARAMETER","CRAB"," N.SHRIMP","BFC        BOTTOM FISH CONV"," BFM      BOTTOM FISH MECH","SALMON HB"," SALMON MECH","BPJ           WHOLE FROZEN RAW SHRIMP"," HERRING  (Sardine Steaked)","OYSTER HAND SHUCK","FISH MEAL   WITH            Solubles Plant","FISH MEAL                  NO               Solubles Plant","CLAM HAND SHUCK","CLAM MECH","BREADED SHRIMP CONTIGUOUS STATES","TUNA                (canned)       ","OYSTER  STEAMED & CANNED","SARDINES CANNED              DRY                TRANSPORT","SARDINES CANNED      FLUMED","SCALLOP"]
[71,"BOD - Dly Mx",null,null,null,null,null,null,null,null,null,7,3.5]
[72,"TSS - Dly Mx",8.1,160,3.6,22,2.6,44,53,32,45,3.7,2.6,59,90,280,8.3000000000000007,270,36,48,5.7]
[73,"O&G Dly Mx",1.8,126,1,9.9,0.31,29,42,27,2.2000000000000002,1.4,3.2,0.6,4.2,36,2.1,2.2999999999999998,3.5,6.3,7.3]
[74]
[75,5,"CALCULATIONS PERFORMED AUTOMATICALLY.  DO NOT ENTER ANYTHING HERE.                                                                                                                                                              SPREADSHEET WILL ALLOCATE LOAD BY SPECIES AND SAMPLE DAY.       DIRECT COMPARE TO TBEL FOR COMPLIANCE",null,null,null,null,null,null,null,null,null,null,"CALCULATIONS PERFORMED AUTOMATICALLY.  DO NOT ENTER ANYTHING HERE.                                                                                                                                                                                                                    SPREADSHEET WILL ALLOCATE LOAD BY SPECIES AND SAMPLE DAY.       DIRECT COMPARE TO TBEL FOR COMPLIANCE",null,null,null,null,null,null,null,null,null,null,null,"CALCULATIONS PERFORMED AUTOMATICALLY.  DO NOT ENTER ANYTHING HERE.                                                                                                                                                                                               SPREADSHEET WILL ALLOCATE LOAD BY SPECIES AND SAMPLE DAY.       DIRECT COMPARE TO TBEL FOR COMPLIANCE"]
[76,"B","C","D","E","F","G","H","I","J","K","L","M","N","O","P","Q","R","S","T","U","V","W","X","Y","Z","AA","AB","AC","AD","AE","AF","AG","AH","AI","AJ","AK"]
[77,"Sample Day 1                                        BOD","BOD Daily Max TBEL             #/1000-#",null,"Production POUNDS","Pounds of pollutant allowed",null,null,null,null,"Total Load #/1000-#","BOD Daily Max TBEL                        #/1000-#","Compliance                  YES /NO","Sample Day 1                                        TSS","TSS Daily Max TBEL                        #/1000-#",null,"Production POUNDS","Pounds of pollutant allowed",null,null,null,null,"Total Load #/1000-#","TSS Daily Max TBEL                        #/1000-#","Compliance                 YES/ NO","Sample Day 1                                        O&G","O&G Daily Max TBEL                   #/1000-#",null,"Production POUNDS","Pounds of pollutant allowed",null,null,null,null,"Total Load #/1000-#","O&G Daily Max TBEL                        #/1000-#","Compliance     YES / NO"]
[78,"CRAB",{"$f":"IF($J$8=0, \"\", $C$71)","v":""},null,{"$f":"$J$8","v":0},{"$f":"IFERROR(C78*E78/1000,\"\")","v":""},null,null,null,null,{"$f":"IFERROR(I34,\"\")","v":0},{"$f":"IFERROR(F98/(E98/1000),\"\")","v":""},{"$f":"IF(L78=\"\", \"\", IF(L78=0, \"\", IF(K78=0, \"\", IF(K78<L78, \"YES\",\"NO\"))))","v":""},"CRAB",{"$f":"IF($J$8=0, \"\", $C$72)","v":""},null,{"$f":"$J$8","v":0},{"$f":"IFERROR(O78*Q78/1000,\"\")","v":""},null,null,null,null,{"$f":"IFERROR(I45,\"\")","v":0},{"$f":"IFERROR(R98/(Q98/1000),\"\")","v":""},{"$f":"IF(X78=\"\", \"\", IF(X78=0, \"\", IF(W78=0, \"\", IF(W78<X78, \"YES\",\"NO\"))))","v":""},"CRAB",{"$f":"IF($J$8=0, \"\", $C$73)","v":""},null,{"$f":"$J$8","v":0},{"$f":"IFERROR(AA78*AC78/1000,\"\")","v":""},null,null,null,null,{"$f":"IFERROR(I56,\"\")","v":0},{"$f":"IFERROR(AD98/(AC98/1000),\"\")","v":""},{"$f":"IF(AJ78=\"\", \"\", IF(AJ78=0, \"\", IF(AI78=0, \"\", IF(AI78<AJ78, \"YES\",\"NO\"))))","v":""}]
[79,"SHRIMP",{"$f":"IF($K$8=0, \"\", $D$71)","v":""},null,{"$f":"$K$8","v":0},{"$f":"IFERROR(C79*E79/1000,\"\")","v":""},null,null,null,null,null,null,{"$f":"IF(L79=\"\", \"\", IF(L79=0, \"\", IF(K79=0, \"\", IF(K79<L79, \"YES\",\"NO\"))))","v":""},"SHRIMP",{"$f":"IF($K$8=0, \"\", $D$72)","v":""},null,{"$f":"$K$8","v":0},{"$f":"IFERROR(O79*Q79/1000,\"\")","v":""},null,null,null,null,null,null,{"$f":"IF(X79=\"\", \"\", IF(X79=0, \"\", IF(W79=0, \"\", IF(W79<X79, \"YES\",\"NO\"))))","v":""},"SHRIMP",{"$f":"IF($K$8=0, \"\", $D$73)","v":""},null,{"$f":"$K$8","v":0},{"$f":"IFERROR(AA79*AC79/1000,\"\")","v":""},null,null,null,null,null,null,{"$f":"IF(AJ79=\"\", \"\", IF(AJ79=0, \"\", IF(AI79=0, \"\", IF(AI79<AJ79, \"YES\",\"NO\"))))","v":""}]
[80,"BF CONV",{"$f":"IF($L$8=0, \"\", $E$71)","v":""},null,{"$f":"$L$8","v":0},{"$f":"IFERROR(C80*E80/1000,\"\")","v":""},null,null,null,null,null,null,"","BF CONV",{"$f":"IF($L$8=0, \"\", $E$72)","v":""},null,{"$f":"$L$8","v":0},{"$f":"IFERROR(O80*Q80/1000,\"\")","v":""},null,null,null,null,null,null,"","BF CONV",{"$f":"IF($L$8=0, \"\", $E$73)","v":""},null,{"$f":"$L$8","v":0},{"$f":"IFERROR(AA80*AC80/1000,\"\")","v":""},null,null,null,null,null,null,""]
[81,"BF MECH",{"$f":"IF($M$8=0, \"\", $F$71)","v":""},null,{"$f":"$M$8","v":0},"",null,null,null,null,null,null,"","BF MECH",{"$f":"IF($M$8=0, \"\", $F$72)","v":""},null,{"$f":"$M$8","v":0},"",null,null,null,null,null,null,"","BF MECH",{"$f":"IF($M$8=0, \"\", $F$73)","v":""},null,{"$f":"$M$8","v":0},"",null,null,null,null,null,null,""]
[82,"SALMON HB",{"$f":"IF($N$8=0, \"\", $G$71)","v":""},null,{"$f":"$N$8","v":0},"",null,null,null,null,null,null,"","SALMON HB",{"$f":"IF($N$8=0, \"\", $G$72)","v":""},null,{"$f":"$N$8","v":0},"",null,null,null,null,null,null,"","SALMON HB",{"$f":"IF($N$8=0, \"\", $G$73)","v":""},null,{"$f":"$N$8","v":0},"",null,null,null,null,null,null,""]
[83,"SALMON MECH",{"$f":"IF($O$8=0, \"\", $H$71)","v":""},null,{"$f":"$O$8","v":0},"",null,null,null,null,null,null,"","SALMON MECH",{"$f":"IF($O$8=0, \"\", $H$72)","v":""},null,{"$f":"$O$8","v":0},"",null,null,null,null,null,null,"","SALMON MECH",{"$f":"IF($O$8=0, \"\", $H$73)","v":""},null,{"$f":"$O$8","v":0},"",null,null,null,null,null,null,""]
[84,"WHOLE FROZ RAW SHRIMP",{"$f":"IF($P$8=0, \"\", $I$71)","v":""},null,{"$f":" $P$8","v":0},"",null,null,null,null,null,null,"","WHOLE FROZ RAW SHRIMP",{"$f":"IF($P$8=0, \"\", $I$72)","v":""},null,{"$f":" $P$8","v":0},"",null,null,null,null,null,null,"","WHOLE FROZ RAW SHRIMP",{"$f":"IF($P$8=0, \"\", $I$73)","v":""},null,{"$f":" $P$8","v":0},"",null,null,null,null,null,null,""]
[85,"HERRING STEAKED (SARDINES)",{"$f":"IF($Q$8=0, \"\", $J$71)","v":""},null,{"$f":"$Q$8","v":0},"",null,null,null,null,null,null,"","HERRING STEAKED (SARDINES)",{"$f":"IF($Q$8=0, \"\", $J$72)","v":""},null,{"$f":"$Q$8","v":0},"",null,null,null,null,null,null,"","HERRING STEAKED (SARDINES)",{"$f":"IF($Q$8=0, \"\", $J$73)","v":""},null,{"$f":"$Q$8","v":0},"",null,null,null,null,null,null,""]
[86,"OYSTERS HS",{"$f":"IF($R$8=0, \"\", $K$71)","v":""},null,{"$f":"$R$8","v":0},"",null,null,null,null,null,null,"","OYSTERS HS",{"$f":"IF($R$8=0, \"\", $K$72)","v":""},null,{"$f":"$R$8","v":0},"",null,null,null,null,null,null,"","OYSTERS HS",{"$f":"IF($R$8=0, \"\", $K$73)","v":""},null,{"$f":"$R$8","v":0},"",null,null,null,null,null,null,""]
[87,"FISH MEAL w/ SOLUBLES PLANT",{"$f":"IF($S$8=0, \"\", $L$71)","v":""},null,{"$f":"$S$8","v":0},"",null,null,null,null,null,null,"","FISH MEAL w/ SOLUBLES PLANT",{"$f":"IF($S$8=0, \"\", $L$72)","v":""},null,{"$f":"$S$8","v":0},"",null,null,null,null,null,null,"","FISH MEAL w/ SOLUBLES PLANT",{"$f":"IF($S$8=0, \"\", $L$73)","v":""},null,{"$f":"$S$8","v":0},"",null,null,null,null,null,null,""]
[88,"FISH MEAL NO SOL",{"$f":"IF($T$8=0, \"\", $M$71)","v":""},null,{"$f":"$T$8","v":0},"",null,null,null,null,null,null,"","FISH MEAL NO SOL",{"$f":"IF($T$8=0, \"\", $M$72)","v":""},null,{"$f":"$T$8","v":0},"",null,null,null,null,null,null,"","FISH MEAL NO SOL",{"$f":"IF($T$8=0, \"\", $M$73)","v":""},null,{"$f":"$T$8","v":0},"",null,null,null,null,null,null,""]
[89,"CLAM HS",{"$f":"IF($U$8=0, \"\", $N$71)","v":""},null,{"$f":"$U$8","v":0},"",null,null,null,null,null,null,"","CLAM HS",{"$f":"IF($U$8=0, \"\", $N$72)","v":""},null,{"$f":"$U$8","v":0},"",null,null,null,null,null,null,"","CLAM HS",{"$f":"IF($U$8=0, \"\", $N$73)","v":""},null,{"$f":"$U$8","v":0},"",null,null,null,null,null,null,""]
[90,"CLAM MECH",{"$f":"IF($V$8=0, \"\", $O$71)","v":""},null,{"$f":"$V$8","v":0},"",null,null,null,null,null,null,"","CLAM MECH",{"$f":"IF($V$8=0, \"\", $O$72)","v":""},null,{"$f":"$V$8","v":0},"",null,null,null,null,null,null,"","CLAM MECH",{"$f":"IF($V$8=0, \"\", $O$73)","v":""},null,{"$f":"$V$8","v":0},"",null,null,null,null,null,null,""]
[91,"BREADED SHRIMP",{"$f":"IF($W$8=0, \"\", $P$71)","v":""},null,{"$f":"$W$8","v":0},"",null,null,null,null,null,null,"","BREADED SHRIMP",{"$f":"IF($W$8=0, \"\", $P$72)","v":""},null,{"$f":"$W$8","v":0},"",null,null,null,null,null,null,"","BREADED SHRIMP",{"$f":"IF($W$8=0, \"\", $P$73)","v":""},null,{"$f":"$W$8","v":0},"",null,null,null,null,null,null,""]
[92,"TUNA-CANNED",{"$f":"IF($X$8=0, \"\", $Q$71)","v":""},null,{"$f":"$X$8","v":0},"",null,null,null,null,null,null,"","TUNA-CANNED",{"$f":"IF($X$8=0, \"\", $Q$72)","v":""},null,{"$f":"$X$8","v":0},"",null,null,null,null,null,null,"","TUNA-CANNED",{"$f":"IF($X$8=0, \"\", $Q$73)","v":""},null,{"$f":"$X$8","v":0},"",null,null,null,null,null,null,""]
[93,"OYSTERS CANNED",{"$f":"IF($Y$8=0, \"\", $R$71)","v":""},null,{"$f":"$Y$8","v":0},"",null,null,null,null,null,null,"","OYSTERS CANNED",{"$f":"IF($Y$8=0, \"\", $R$72)","v":""},null,{"$f":"$Y$8","v":0},"",null,null,null,null,null,null,"","OYSTERS CANNED",{"$f":"IF($Y$8=0, \"\", $R$73)","v":""},null,{"$f":"$Y$8","v":0},"",null,null,null,null,null,null,""]
[94,"SARDINES CANNED DRY TRANSPORT",{"$f":"IF($Z$8=0, \"\", $S$71)","v":""},null,{"$f":"$Z$8","v":0},"",null,null,null,null,null,null,"","SARDINES CANNED DRY TRANSPORT",{"$f":"IF($Z$8=0, \"\", $S$72)","v":""},null,{"$f":"$Z$8","v":0},"",null,null,null,null,null,null,"","SARDINES CANNED DRY TRANSPORT",{"$f":"IF($Z$8=0, \"\", $S$73)","v":""},null,{"$f":"$Z$8","v":0},"",null,null,null,null,null,null,""]
[95,"SARDINES CANNED FLUMED",{"$f":"IF($AA$8=0, \"\", $T$71)","v":""},null,{"$f":"AA$8","v":0},"",null,null,null,null,null,null,"","SARDINES CANNED FLUMED",{"$f":"IF($AA$8=0, \"\", $T$72)","v":""},null,{"$f":"AA$8","v":0},"",null,null,null,null,null,null,"","SARDINES CANNED FLUMED",{"$f":"IF($AA$8=0, \"\", $T$73)","v":""},null,{"$f":"AA$8","v":0},"",null,null,null,null,null,null,""]
[96,"SCALLOPS",{"$f":"IF($AB$8=0, \"\", $U$71)","v":""},null,{"$f":"$AB$8","v":0},"",null,null,null,null,null,null,"","SCALLOPS",{"$f":"IF($AB$8=0, \"\", $U$72)","v":""},null,{"$f":"$AB$8","v":0},"",null,null,null,null,null,null,"","SCALLOPS",{"$f":"IF($AB$8=0, \"\", $U$73)","v":""},null,{"$f":"$AB$8","v":0},"",null,null,null,null,null,null,""]
[97]
[98,"Sum",{"$f":"SUM(C78:C96)","v":0},null,{"$f":"SUM(E78:E96)","v":0},0,null,null,null,null,null,null,null,"Sum",null,null,{"$f":"SUM(Q78:Q96)","v":0},0,null,null,null,null,null,null,null,"Sum",{"$f":"SUM(AA78:AA96)","v":0},null,{"$f":"SUM(AC78:AC96)","v":0},0]
[99]
[100,"Sample Day 2                                        BOD","BOD Daily Max TBEL             #/1000-#",null,"Production POUNDS","Pounds of pollutant allowed",null,null,null,null,"Total Load #/1000-#","BOD Daily Max TBEL                        #/1000-#","Compliance                         YES /NO","Sample Day 2                                        TSS","TSS Daily Max TBEL                        #/1000-#",null,"Production POUNDS","Pounds of pollutant allowed",null,null,null,null,"Total Load #/1000-#","TSS Daily Max TBEL                        #/1000-#","Compliance                 YES/ NO","Sample Day 2                                        O&G","O&G Daily Max TBEL                   #/1000-#",null,"Production POUNDS","Pounds of pollutant allowed",null,null,null,null,"Total Load #/1000-#","O&G Daily Max TBEL                        #/1000-#","Compliance     YES / NO"]
[101,"CRAB",{"$f":"IF($J$10=0, \"\", $C$71)","v":""},null,{"$f":"$J$10","v":0},{"$f":"IFERROR(C101*E101/1000,\"\")","v":""},null,null,null,null,{"$f":"IFERROR(I35,\"\")","v":0},{"$f":"IFERROR(F121/(E121/1000),\"\")","v":""},{"$f":"IF(L101=\"\", \"\", IF(L101=0, \"\", IF(K101=0, \"\", IF(K101<L101, \"YES\",\"NO\"))))","v":""},"CRAB",{"$f":"IF($J$10=0, \"\", $C$72)","v":""},null,{"$f":"$J$10","v":0},{"$f":"IFERROR(O101*Q101/1000,\"\")","v":""},null,null,null,null,{"$f":"IFERROR(I46,\"\")","v":0},{"$f":"IFERROR(R121/(Q121/1000),\"\")","v":""},{"$f":"IF(X101=\"\", \"\", IF(X101=0, \"\", IF(W101=0, \"\", IF(W101<X101, \"YES\",\"NO\"))))","v":""},"CRAB",{"$f":"IF($J$10=0, \"\", $C$73)","v":""},null,{"$f":"$J$10","v":0},{"$f":"IFERROR(AA101*AC101/1000,\"\")","v":""},null,null,null,null,{"$f":"IFERROR(I57,\"\")","v":0},{"$f":"IFERROR(AD121/(AC121/1000),\"\")","v":""},{"$f":"IF(AJ101=\"\", \"\", IF(AJ101=0, \"\", IF(AI101=0, \"\", IF(AI101<AJ101, \"YES\",\"NO\"))))","v":""}]
[102,"SHRIMP",{"$f":"IF($K$10=0, \"\", $D$71)","v":""},null,{"$f":"$K$10","v":0},{"$f":"IFERROR(C102*E102/1000,\"\")","v":""},null,null,null,null,null,null,"","SHRIMP",{"$f":"IF($K$10=0, \"\", $D$72)","v":""},null,{"$f":"$K$10","v":0},{"$f":"IFERROR(O102*Q102/1000,\"\")","v":""},null,null,null,null,null,null,"","SHRIMP",{"$f":"IF($K$10=0, \"\", $D$73)","v":""},null,{"$f":"$K$10","v":0},{"$f":"IFERROR(AA102*AC102/1000,\"\")","v":""},null,null,null,null,null,null,""]
[103,"BF CONV",{"$f":"IF($L$10=0, \"\", $E$71)","v":""},null,{"$f":"$L$10","v":0},{"$f":"IFERROR(C103*E103/1000,\"\")","v":""},null,null,null,null,null,null,"","BF CONV",{"$f":"IF($L$10=0, \"\", $E$72)","v":""},null,{"$f":"$L$10","v":0},{"$f":"IFERROR(O103*Q103/1000,\"\")","v":""},null,null,null,null,null,null,"","BF CONV",{"$f":"IF($L$10=0, \"\", $E$73)","v":""},null,{"$f":"$L$10","v":0},{"$f":"IFERROR(AA103*AC103/1000,\"\")","v":""},null,null,null,null,null,null,""]
[104,"BF MECH",{"$f":"IF($M$10=0, \"\", $F$71)","v":""},null,{"$f":"$M$10","v":0},"",null,null,null,null,null,null,"","BF MECH",{"$f":"IF($M$10=0, \"\", $F$72)","v":""},null,{"$f":"$M$10","v":0},"",null,null,null,null,null,null,"","BF MECH",{"$f":"IF($M$10=0, \"\", $F$73)","v":""},null,{"$f":"$M$10","v":0},"",null,null,null,null,null,null,""]
[105,"SALMON HB",{"$f":"IF($N$10=0, \"\", $G$71)","v":""},null,{"$f":"$N$10","v":0},"",null,null,null,null,null,null,"","SALMON HB",{"$f":"IF($N$10=0, \"\", $G$72)","v":""},null,{"$f":"$N$10","v":0},"",null,null,null,null,null,null,"","SALMON HB",{"$f":"IF($N$10=0, \"\", $G$73)","v":""},null,{"$f":"$N$10","v":0},"",null,null,null,null,null,null,""]
[106,"SALMON MECH",{"$f":"IF($O$10=0, \"\", $H$71)","v":""},null,{"$f":"$O$10","v":0},"",null,null,null,null,null,null,"","SALMON MECH",{"$f":"IF($O$10=0, \"\", $H$72)","v":""},null,{"$f":"$O$10","v":0},"",null,null,null,null,null,null,"","SALMON MECH",{"$f":"IF($O$10=0, \"\", $H$73)","v":""},null,{"$f":"$O$10","v":0},"",null,null,null,null,null,null,""]
[107,"WHOLE FROZ RAW SHRIMP",{"$f":"IF($P$10=0, \"\", $I$71)","v":""},null,{"$f":"$P$10","v":0},"",null,null,null,null,null,null,"","WHOLE FROZ RAW SHRIMP",{"$f":"IF($P$10=0, \"\", $I$72)","v":""},null,{"$f":"$P$10","v":0},"",null,null,null,null,null,null,"","WHOLE FROZ RAW SHRIMP",{"$f":"IF($P$10=0, \"\", $I$73)","v":""},null,{"$f":"$P$10","v":0},"",null,null,null,null,null,null,""]
[108,"HERRING STEAKED (SARDINES)",{"$f":"IF($Q$10=0, \"\", $J$71)","v":""},null,{"$f":"$Q$10","v":0},"",null,null,null,null,null,null,"","HERRING STEAKED (SARDINES)",{"$f":"IF($Q$10=0, \"\", $J$72)","v":""},null,{"$f":"$Q$10","v":0},"",null,null,null,null,null,null,"","HERRING STEAKED (SARDINES)",{"$f":"IF($Q$10=0, \"\", $J$73)","v":""},null,{"$f":"$Q$10","v":0},"",null,null,null,null,null,null,""]
[109,"OYSTERS HS",{"$f":"IF($R$10=0, \"\", $K$71)","v":""},null,{"$f":"$R$10","v":0},"",null,null,null,null,null,null,"","OYSTERS HS",{"$f":"IF($R$10=0, \"\", $K$72)","v":""},null,{"$f":"$R$10","v":0},"",null,null,null,null,null,null,"","OYSTERS HS",{"$f":"IF($R$10=0, \"\", $K$73)","v":""},null,{"$f":"$R$10","v":0},"",null,null,null,null,null,null,""]
[110,"FISH MEAL w/ SOLUBLES PLANT",{"$f":"IF($S$10=0, \"\", $L$71)","v":""},null,{"$f":"$S$10","v":0},"",null,null,null,null,null,null,"","FISH MEAL w/ SOLUBLES PLANT",{"$f":"IF($S$10=0, \"\", $L$72)","v":""},null,{"$f":"$S$10","v":0},"",null,null,null,null,null,null,"","FISH MEAL w/ SOLUBLES PLANT",{"$f":"IF($S$10=0, \"\", $L$73)","v":""},null,{"$f":"$S$10","v":0},"",null,null,null,null,null,null,""]
[111,"FISH MEAL NO SOL",{"$f":"IF($T$10=0, \"\", $M$71)","v":""},null,{"$f":"$T$10","v":0},"",null,null,null,null,null,null,"","FISH MEAL NO SOL",{"$f":"IF($T$10=0, \"\", $M$72)","v":""},null,{"$f":"$T$10","v":0},"",null,null,null,null,null,null,"","FISH MEAL NO SOL",{"$f":"IF($T$10=0, \"\", $M$73)","v":""},null,{"$f":"$T$10","v":0},"",null,null,null,null,null,null,""]
[112,"CLAM HS",{"$f":"IF($U$10=0, \"\", $N$71)","v":""},null,{"$f":"$U$10","v":0},"",null,null,null,null,null,null,"","CLAM HS",{"$f":"IF($U$10=0, \"\", $N$72)","v":""},null,{"$f":"$U$10","v":0},"",null,null,null,null,null,null,"","CLAM HS",{"$f":"IF($U$10=0, \"\", $N$73)","v":""},null,{"$f":"$U$10","v":0},"",null,null,null,null,null,null,""]
[113,"CLAM MECH",{"$f":"IF($V$10=0, \"\", $O$71)","v":""},null,{"$f":"$V$10","v":0},"",null,null,null,null,null,null,"","CLAM MECH",{"$f":"IF($V$10=0, \"\", $O$72)","v":""},null,{"$f":"$V$10","v":0},"",null,null,null,null,null,null,"","CLAM MECH",{"$f":"IF($V$10=0, \"\", $O$73)","v":""},null,{"$f":"$V$10","v":0},"",null,null,null,null,null,null,""]
[114,"BREADED SHRIMP",{"$f":"IF($W$10=0, \"\", $P$71)","v":""},null,{"$f":"$W$10","v":0},"",null,null,null,null,null,null,"","BREADED SHRIMP",{"$f":"IF($W$10=0, \"\", $P$72)","v":""},null,{"$f":"$W$10","v":0},"",null,null,null,null,null,null,"","BREADED SHRIMP",{"$f":"IF($W$10=0, \"\", $P$73)","v":""},null,{"$f":"$W$10","v":0},"",null,null,null,null,null,null,""]
[115,"TUNA-CANNED",{"$f":"IF($X$10=0, \"\", $Q$71)","v":""},null,{"$f":"$X$10","v":0},"",null,null,null,null,null,null,"","TUNA-CANNED",{"$f":"IF($X$10=0, \"\", $Q$72)","v":""},null,{"$f":"$X$10","v":0},"",null,null,null,null,null,null,"","TUNA-CANNED",{"$f":"IF($X$10=0, \"\", $Q$73)","v":""},null,{"$f":"$X$10","v":0},"",null,null,null,null,null,null,""]
[116,"OYSTERS CANNED",{"$f":"IF($Y$10=0, \"\", $R$71)","v":""},null,{"$f":"$Y$10","v":0},"",null,null,null,null,null,null,"","OYSTERS CANNED",{"$f":"IF($Y$10=0, \"\", $R$72)","v":""},null,{"$f":"$Y$10","v":0},"",null,null,null,null,null,null,"","OYSTERS CANNED",{"$f":"IF($Y$10=0, \"\", $R$73)","v":""},null,{"$f":"$Y$10","v":0},"",null,null,null,null,null,null,""]
[117,"SARDINES CANNED DRY TRANSPORT",{"$f":"IF($Z$10=0, \"\", $S$71)","v":""},null,{"$f":"$Z$10","v":0},"",null,null,null,null,null,null,"","SARDINES CANNED DRY TRANSPORT",{"$f":"IF($Z$10=0, \"\", $S$72)","v":""},null,{"$f":"$Z$10","v":0},"",null,null,null,null,null,null,"","SARDINES CANNED DRY TRANSPORT",{"$f":"IF($Z$10=0, \"\", $S$73)","v":""},null,{"$f":"$Z$10","v":0},"",null,null,null,null,null,null,""]
[118,"SARDINES CANNED FLUMED",{"$f":"IF($AA$10=0, \"\", $T$71)","v":""},null,{"$f":"$AA$10","v":0},"",null,null,null,null,null,null,"","SARDINES CANNED FLUMED",{"$f":"IF($AA$10=0, \"\", $T$72)","v":""},null,{"$f":"$AA$10","v":0},"",null,null,null,null,null,null,"","SARDINES CANNED FLUMED",{"$f":"IF($AA$10=0, \"\", $T$73)","v":""},null,{"$f":"$AA$10","v":0},"",null,null,null,null,null,null,""]
[119,"SCALLOPS",{"$f":"IF($AB$10=0, \"\", $U$71)","v":""},null,{"$f":"$AB$10","v":0},"",null,null,null,null,null,null,"","SCALLOPS",{"$f":"IF($AB$10=0, \"\", $U$72)","v":""},null,{"$f":"$AB$10","v":0},"",null,null,null,null,null,null,"","SCALLOPS",{"$f":"IF($AB$10=0, \"\", $U$73)","v":""},null,{"$f":"$AB$10","v":0},"",null,null,null,null,null,null,""]
[120]
[121,"Sum",{"$f":"SUM(C101:C119)","v":0},null,{"$f":"SUM(E101:E119)","v":0},0,null,null,null,null,null,null,null,"Sum",null,null,{"$f":"SUM(Q101:Q119)","v":0},0,null,null,null,null,null,null,null,"Sum",{"$f":"SUM(AA101:AA119)","v":0},null,{"$f":"SUM(AC101:AC119)","v":0},0]
[122]
[123,"Sample Day 3                                        BOD","BOD Daily Max TBEL             #/1000-#",null,"Production POUNDS","Pounds of pollutant allowed",null,null,null,null,"Total Load #/1000-#","BOD Daily Max TBEL                        #/1000-#","Compliance                    YES /NO","Sample Day 3                                       TSS","TSS Daily Max TBEL                        #/1000-#",null,"Production POUNDS","Pounds of pollutant allowed",null,null,null,null,"Total Load #/1000-#","TSS Daily Max TBEL                        #/1000-#","Compliance                       YES/ NO","Sample Day 3                                        O&G","O&G Daily Max TBEL                   #/1000-#",null,"Production POUNDS","Pounds of pollutant allowed",null,null,null,null,"Total Load #/1000-#","O&G Daily Max TBEL                        #/1000-#","Compliance     YES / NO"]
[124,"CRAB",{"$f":"IF($J$12=0, \"\", $C$71)","v":""},null,{"$f":"$J$12","v":0},{"$f":"IFERROR(C124*E124/1000,\"\")","v":""},null,null,null,null,{"$f":"IFERROR(I36,\"\")","v":0},{"$f":"IFERROR(F144/(E144/1000),\"\")","v":""},{"$f":"IF(L124=\"\", \"\", IF(L124=0, \"\", IF(K124=0, \"\", IF(K124<L124, \"YES\",\"NO\"))))","v":""},"CRAB",{"$f":"IF($J$12=0, \"\", $C$72)","v":""},null,{"$f":"$J$12","v":0},{"$f":"IFERROR(O124*Q124/1000,\"\")","v":""},null,null,null,null,{"$f":"IFERROR(I47,\"\")","v":0},{"$f":"IFERROR(R144/(Q144/1000),\"\")","v":""},{"$f":"IF(X124=\"\", \"\", IF(X124=0, \"\", IF(W124=0, \"\", IF(W124<X124, \"YES\",\"NO\"))))","v":""},"CRAB",{"$f":"IF($J$12=0, \"\", $C$73)","v":""},null,{"$f":"$J$12","v":0},{"$f":"IFERROR(AA124*AC124/1000,\"\")","v":""},null,null,null,null,{"$f":"IFERROR(I58,\"\")","v":0},{"$f":"IFERROR(AD144/(AC144/1000),\"\")","v":""},{"$f":"IF(AJ124=\"\", \"\", IF(AJ124=0, \"\", IF(AI124=0, \"\", IF(AI124<AJ124, \"YES\",\"NO\"))))","v":""}]
[125,"SHRIMP",{"$f":"IF($K$12=0, \"\", $D$71)","v":""},null,{"$f":"$K$12","v":0},{"$f":"IFERROR(C125*E125/1000,\"\")","v":""},null,null,null,null,null,null,"","SHRIMP",{"$f":"IF($K$12=0, \"\", $D$72)","v":""},null,{"$f":"$K$12","v":0},{"$f":"IFERROR(O125*Q125/1000,\"\")","v":""},null,null,null,null,null,null,"","SHRIMP",{"$f":"IF($K$12=0, \"\", $D$73)","v":""},null,{"$f":"$K$12","v":0},{"$f":"IFERROR(AA125*AC125/1000,\"\")","v":""},null,null,null,null,null,null,""]
[126,"BF CONV",{"$f":"IF($L$12=0, \"\", $E$71)","v":""},null,{"$f":"$L$12","v":0},{"$f":"IFERROR(C126*E126/1000,\"\")","v":""},null,null,null,null,null,null,"","BF CONV",{"$f":"IF($L$12=0, \"\", $E$72)","v":""},null,{"$f":"$L$12","v":0},{"$f":"IFERROR(O126*Q126/1000,\"\")","v":""},null,null,null,null,null,null,"","BF CONV",{"$f":"IF($L$12=0, \"\", $E$73)","v":""},null,{"$f":"$L$12","v":0},{"$f":"IFERROR(AA126*AC126/1000,\"\")","v":""},null,null,null,null,null,null,""]
[127,"BF MECH",{"$f":"IF($M$12=0, \"\", $F$71)","v":""},null,{"$f":"$M$12","v":0},"",null,null,null,null,null,null,"","BF MECH",{"$f":"IF($M$12=0, \"\", $F$72)","v":""},null,{"$f":"$M$12","v":0},"",null,null,null,null,null,null,"","BF MECH",{"$f":"IF($M$12=0, \"\", $F$73)","v":""},null,{"$f":"$M$12","v":0},"",null,null,null,null,null,null,""]
[128,"SALMON HB",{"$f":"IF($N$12=0, \"\", $G$71)","v":""},null,{"$f":"$N$12","v":0},"",null,null,null,null,null,null,"","SALMON HB",{"$f":"IF($N$12=0, \"\", $G$72)","v":""},null,{"$f":"$N$12","v":0},"",null,null,null,null,null,null,"","SALMON HB",{"$f":"IF($N$12=0, \"\", $G$73)","v":""},null,{"$f":"$N$12","v":0},"",null,null,null,null,null,null,""]
[129,"SALMON MECH",{"$f":"IF($O$12=0, \"\", $H$71)","v":""},null,{"$f":"$O$12","v":0},"",null,null,null,null,null,null,"","SALMON MECH",{"$f":"IF($O$12=0, \"\", $H$72)","v":""},null,{"$f":"$O$12","v":0},"",null,null,null,null,null,null,"","SALMON MECH",{"$f":"IF($O$12=0, \"\", $H$73)","v":""},null,{"$f":"$O$12","v":0},"",null,null,null,null,null,null,""]
[130,"WHOLE FROZ RAW SHRIMP",{"$f":"IF($P$12=0, \"\", $I$71)","v":""},null,{"$f":"$P$12","v":0},"",null,null,null,null,null,null,"","WHOLE FROZ RAW SHRIMP",{"$f":"IF($P$12=0, \"\", $I$72)","v":""},null,{"$f":"$P$12","v":0},"",null,null,null,null,null,null,"","WHOLE FROZ RAW SHRIMP",{"$f":"IF($P$12=0, \"\", $I$73)","v":""},null,{"$f":"$P$12","v":0},"",null,null,null,null,null,null,""]
[131,"HERRING STEAKED (SARDINES)",{"$f":"IF($Q$12=0, \"\", $J$71)","v":""},null,{"$f":"$Q$12","v":0},"",null,null,null,null,null,null,"","HERRING STEAKED (SARDINES)",{"$f":"IF($Q$12=0, \"\", $J$72)","v":""},null,{"$f":"$Q$12","v":0},"",null,null,null,null,null,null,"","HERRING STEAKED (SARDINES)",{"$f":"IF($Q$12=0, \"\", $J$73)","v":""},null,{"$f":"$Q$12","v":0},"",null,null,null,null,null,null,""]
[132,"OYSTERS HS",{"$f":"IF($R$12=0, \"\", $K$71)","v":""},null,{"$f":"$R$12","v":0},"",null,null,null,null,null,null,"","OYSTERS HS",{"$f":"IF($R$12=0, \"\", $K$72)","v":""},null,{"$f":"$R$12","v":0},"",null,null,null,null,null,null,"","OYSTERS HS",{"$f":"IF($R$12=0, \"\", $K$73)","v":""},null,{"$f":"$R$12","v":0},"",null,null,null,null,null,null,""]
[133,"FISH MEAL w/ SOLUBLES PLANT",{"$f":"IF($S$12=0, \"\", $L$71)","v":""},null,{"$f":"$S$12","v":0},"",null,null,null,null,null,null,"","FISH MEAL w/ SOLUBLES PLANT",{"$f":"IF($S$12=0, \"\", $L$72)","v":""},null,{"$f":"$S$12","v":0},"",null,null,null,null,null,null,"","FISH MEAL w/ SOLUBLES PLANT",{"$f":"IF($S$12=0, \"\", $L$73)","v":""},null,{"$f":"$S$12","v":0},"",null,null,null,null,null,null,""]
[134,"FISH MEAL NO SOL",{"$f":"IF($T$12=0, \"\", $M$71)","v":""},null,{"$f":"$T$12","v":0},"",null,null,null,null,null,null,"","FISH MEAL NO SOL",{"$f":"IF($T$12=0, \"\", $M$72)","v":""},null,{"$f":"$T$12","v":0},"",null,null,null,null,null,null,"","FISH MEAL NO SOL",{"$f":"IF($T$12=0, \"\", $M$73)","v":""},null,{"$f":"$T$12","v":0},"",null,null,null,null,null,null,""]
[135,"CLAM HS",{"$f":"IF($U$12=0, \"\", $N$71)","v":""},null,{"$f":"$U$12","v":0},"",null,null,null,null,null,null,"","CLAM HS",{"$f":"IF($U$12=0, \"\", $N$72)","v":""},null,{"$f":"$U$12","v":0},"",null,null,null,null,null,null,"","CLAM HS",{"$f":"IF($U$12=0, \"\", $N$73)","v":""},null,{"$f":"$U$12","v":0},"",null,null,null,null,null,null,""]
[136,"CLAM MECH",{"$f":"IF($V$12=0, \"\", $O$71)","v":""},null,{"$f":"$V$12","v":0},"",null,null,null,null,null,null,"","CLAM MECH",{"$f":"IF($V$12=0, \"\", $O$72)","v":""},null,{"$f":"$V$12","v":0},"",null,null,null,null,null,null,"","CLAM MECH",{"$f":"IF($V$12=0, \"\", $O$73)","v":""},null,{"$f":"$V$12","v":0},"",null,null,null,null,null,null,""]
[137,"BREADED SHRIMP",{"$f":"IF($W$12=0, \"\", $P$71)","v":""},null,{"$f":"$W$12","v":0},"",null,null,null,null,null,null,"","BREADED SHRIMP",{"$f":"IF($W$12=0, \"\", $P$72)","v":""},null,{"$f":"$W$12","v":0},"",null,null,null,null,null,null,"","BREADED SHRIMP",{"$f":"IF($W$12=0, \"\", $P$73)","v":""},null,{"$f":"$W$12","v":0},"",null,null,null,null,null,null,""]
[138,"TUNA-CANNED",{"$f":"IF($X$12=0, \"\", $Q$71)","v":""},null,{"$f":"$X$12","v":0},"",null,null,null,null,null,null,"","TUNA-CANNED",{"$f":"IF($X$12=0, \"\", $Q$72)","v":""},null,{"$f":"$X$12","v":0},"",null,null,null,null,null,null,"","TUNA-CANNED",{"$f":"IF($X$12=0, \"\", $Q$73)","v":""},null,{"$f":"$X$12","v":0},"",null,null,null,null,null,null,""]
[139,"OYSTERS CANNED",{"$f":"IF($Y$12=0, \"\", $R$71)","v":""},null,{"$f":"$Y$12","v":0},"",null,null,null,null,null,null,"","OYSTERS CANNED",{"$f":"IF($Y$12=0, \"\", $R$72)","v":""},null,{"$f":"$Y$12","v":0},"",null,null,null,null,null,null,"","OYSTERS CANNED",{"$f":"IF($Y$12=0, \"\", $R$73)","v":""},null,{"$f":"$Y$12","v":0},"",null,null,null,null,null,null,""]
[140,"SARDINES CANNED DRY TRANSPORT",{"$f":"IF($Z$12=0, \"\", $S$71)","v":""},null,{"$f":"$Z$12","v":0},"",null,null,null,null,null,null,"","SARDINES CANNED DRY TRANSPORT",{"$f":"IF($Z$12=0, \"\", $S$72)","v":""},null,{"$f":"$Z$12","v":0},"",null,null,null,null,null,null,"","SARDINES CANNED DRY TRANSPORT",{"$f":"IF($Z$12=0, \"\", $S$73)","v":""},null,{"$f":"$Z$12","v":0},"",null,null,null,null,null,null,""]
[141,"SARDINES CANNED FLUMED",{"$f":"IF($AA$12=0, \"\", $T$71)","v":""},null,{"$f":"$AA$12","v":0},"",null,null,null,null,null,null,"","SARDINES CANNED FLUMED",{"$f":"IF($AA$12=0, \"\", $T$72)","v":""},null,{"$f":"$AA$12","v":0},"",null,null,null,null,null,null,"","SARDINES CANNED FLUMED",{"$f":"IF($AA$12=0, \"\", $T$73)","v":""},null,{"$f":"$AA$12","v":0},"",null,null,null,null,null,null,""]
[142,"SCALLOPS",{"$f":"IF($AB$12=0, \"\", $U$71)","v":""},null,{"$f":"$AB$12","v":0},"",null,null,null,null,null,null,"","SCALLOPS",{"$f":"IF($AB$12=0, \"\", $U$72)","v":""},null,{"$f":"$AB$12","v":0},"",null,null,null,null,null,null,"","SCALLOPS",{"$f":"IF($AB$12=0, \"\", $U$73)","v":""},null,{"$f":"$AB$12","v":0},"",null,null,null,null,null,null,""]
[143]
[144,"Sum",{"$f":"SUM(C124:C142)","v":0},null,{"$f":"SUM(E124:E142)","v":0},0,null,null,null,null,null,null,null,"Sum",{"$f":"SUM(O124:O142)","v":0},null,{"$f":"SUM(Q124:Q142)","v":0},0,null,null,null,null,null,null,null,"Sum",{"$f":"SUM(AA124:AA142)","v":0},null,{"$f":"SUM(AC124:AC142)","v":0},0]
[145]
[146,"Sample Day 4                                       BOD","BOD Daily Max TBEL             #/1000-#",null,"Production POUNDS","Pounds of pollutant allowed",null,null,null,null,"Total Load #/1000-#","BOD Daily Max TBEL                        #/1000-#","Compliance                       YES /NO","Sample Day 4                                       TSS","TSS Daily Max TBEL                        #/1000-#",null,"Production POUNDS","Pounds of pollutant allowed",null,null,null,null,"Total Load #/1000-#","TSS Daily Max TBEL                        #/1000-#","Compliance                       YES/ NO","Sample Day 4                                        O&G","O&G Daily Max TBEL                   #/1000-#",null,"Production POUNDS","Pounds of pollutant allowed",null,null,null,null,"Total Load #/1000-#","O&G Daily Max TBEL                        #/1000-#","Compliance     YES / NO"]
[147,"CRAB",{"$f":"IF($J$14=0, \"\", $C$71)","v":""},null,{"$f":"$J$14","v":0},{"$f":"IFERROR(C147*E147/1000,\"\")","v":""},null,null,null,null,{"$f":"IFERROR(I37,\"\")","v":0},{"$f":"IFERROR(F167/(E167/1000),\"\")","v":""},{"$f":"IF(L147=\"\", \"\", IF(L147=0, \"\", IF(K147=0, \"\", IF(K147<L147, \"YES\",\"NO\"))))","v":""},"CRAB",{"$f":"IF($J$14=0, \"\", $C$72)","v":""},null,{"$f":"$J$14","v":0},{"$f":"IFERROR(O147*Q147/1000,\"\")","v":""},null,null,null,null,{"$f":"IFERROR(I48,\"\")","v":0},{"$f":"IFERROR(R167/(Q167/1000),\"\")","v":""},{"$f":"IF(X147=\"\", \"\", IF(X147=0, \"\", IF(W147=0, \"\", IF(W147<X147, \"YES\",\"NO\"))))","v":""},"CRAB",{"$f":"IF($J$14=0, \"\", $C$73)","v":""},null,{"$f":"$J$14","v":0},{"$f":"IFERROR(AA147*AC147/1000,\"\")","v":""},null,null,null,null,{"$f":"IFERROR(I59,\"\")","v":0},{"$f":"IFERROR(AD167/(AC167/1000),\"\")","v":""},{"$f":"IF(AJ147=\"\", \"\", IF(AJ147=0, \"\", IF(AI147=0, \"\", IF(AI147<AJ147, \"YES\",\"NO\"))))","v":""}]
[148,"SHRIMP",{"$f":"IF($K$14=0, \"\", $D$71)","v":""},null,{"$f":"$K$14","v":0},{"$f":"IFERROR(C148*E148/1000,\"\")","v":""},null,null,null,null,null,null,"","SHRIMP",{"$f":"IF($K$14=0, \"\", $D$72)","v":""},null,{"$f":"$K$14","v":0},{"$f":"IFERROR(O148*Q148/1000,\"\")","v":""},null,null,null,null,null,null,"","SHRIMP",{"$f":"IF($K$14=0, \"\", $D$73)","v":""},null,{"$f":"$K$14","v":0},{"$f":"IFERROR(AA148*AC148/1000,\"\")","v":""},null,null,null,null,null,null,""]
[149,"BF CONV",{"$f":"IF($L$14=0, \"\", $E$71)","v":""},null,{"$f":"$L$14","v":0},{"$f":"IFERROR(C149*E149/1000,\"\")","v":""},null,null,null,null,null,null,"","BF CONV",{"$f":"IF($L$14=0, \"\", $E$72)","v":""},null,{"$f":"$L$14","v":0},{"$f":"IFERROR(O149*Q149/1000,\"\")","v":""},null,null,null,null,null,null,"","BF CONV",{"$f":"IF($L$14=0, \"\", $E$73)","v":""},null,{"$f":"$L$14","v":0},{"$f":"IFERROR(AA149*AC149/1000,\"\")","v":""},null,null,null,null,null,null,""]
[150,"BF MECH",{"$f":"IF($M$14=0, \"\", $F$71)","v":""},null,{"$f":"$M$14","v":0},"",null,null,null,null,null,null,"","BF MECH",{"$f":"IF($M$14=0, \"\", $F$72)","v":""},null,{"$f":"$M$14","v":0},"",null,null,null,null,null,null,"","BF MECH",{"$f":"IF($M$14=0, \"\", $F$73)","v":""},null,{"$f":"$M$14","v":0},"",null,null,null,null,null,null,""]
[151,"SALMON HB",{"$f":"IF($N$14=0, \"\", $G$71)","v":""},null,{"$f":"$N$14","v":0},"",null,null,null,null,null,null,"","SALMON HB",{"$f":"IF($N$14=0, \"\", $G$72)","v":""},null,{"$f":"$N$14","v":0},"",null,null,null,null,null,null,"","SALMON HB",{"$f":"IF($N$14=0, \"\", $G$73)","v":""},null,{"$f":"$N$14","v":0},"",null,null,null,null,null,null,""]
[152,"SALMON MECH",{"$f":"IF($O$14=0, \"\", $H$71)","v":""},null,{"$f":"$O$14","v":0},"",null,null,null,null,null,null,"","SALMON MECH",{"$f":"IF($O$14=0, \"\", $H$72)","v":""},null,{"$f":"$O$14","v":0},"",null,null,null,null,null,null,"","SALMON MECH",{"$f":"IF($O$14=0, \"\", $H$73)","v":""},null,{"$f":"$O$14","v":0},"",null,null,null,null,null,null,""]
[153,"WHOLE FROZ RAW SHRIMP",{"$f":"IF($P$14=0, \"\", $I$71)","v":""},null,{"$f":"$P$14","v":0},"",null,null,null,null,null,null,"","WHOLE FROZ RAW SHRIMP",{"$f":"IF($P$14=0, \"\", $I$72)","v":""},null,{"$f":"$P$14","v":0},"",null,null,null,null,null,null,"","WHOLE FROZ RAW SHRIMP",{"$f":"IF($P$14=0, \"\", $I$73)","v":""},null,{"$f":"$P$14","v":0},"",null,null,null,null,null,null,""]
[154,"HERRING STEAKED (SARDINES)",{"$f":"IF($Q$14=0, \"\", $J$71)","v":""},null,{"$f":"$Q$14","v":0},"",null,null,null,null,null,null,"","HERRING STEAKED (SARDINES)",{"$f":"IF($Q$14=0, \"\", $J$72)","v":""},null,{"$f":"$Q$14","v":0},"",null,null,null,null,null,null,"","HERRING STEAKED (SARDINES)",{"$f":"IF($Q$14=0, \"\", $J$73)","v":""},null,{"$f":"$Q$14","v":0},"",null,null,null,null,null,null,""]
[155,"OYSTERS HS",{"$f":"IF($R$14=0, \"\", $K$71)","v":""},null,{"$f":"$R$14","v":0},"",null,null,null,null,null,null,"","OYSTERS HS",{"$f":"IF($R$14=0, \"\", $K$72)","v":""},null,{"$f":"$R$14","v":0},"",null,null,null,null,null,null,"","OYSTERS HS",{"$f":"IF($R$14=0, \"\", $K$73)","v":""},null,{"$f":"$R$14","v":0},"",null,null,null,null,null,null,""]
[156,"FISH MEAL w/ SOLUBLES PLANT",{"$f":"IF($S$14=0, \"\", $L$71)","v":""},null,{"$f":"$S$14","v":0},"",null,null,null,null,null,null,"","FISH MEAL w/ SOLUBLES PLANT",{"$f":"IF($S$14=0, \"\", $L$72)","v":""},null,{"$f":"$S$14","v":0},"",null,null,null,null,null,null,"","FISH MEAL w/ SOLUBLES PLANT",{"$f":"IF($S$14=0, \"\", $L$73)","v":""},null,{"$f":"$S$14","v":0},"",null,null,null,null,null,null,""]
[157,"FISH MEAL NO SOL",{"$f":"IF($T$14=0, \"\", $M$71)","v":""},null,{"$f":"$T$14","v":0},"",null,null,null,null,null,null,"","FISH MEAL NO SOL",{"$f":"IF($T$14=0, \"\", $M$72)","v":""},null,{"$f":"$T$14","v":0},"",null,null,null,null,null,null,"","FISH MEAL NO SOL",{"$f":"IF($T$14=0, \"\", $M$73)","v":""},null,{"$f":"$T$14","v":0},"",null,null,null,null,null,null,""]
[158,"CLAM HS",{"$f":"IF($U$14=0, \"\", $N$71)","v":""},null,{"$f":"$U$14","v":0},"",null,null,null,null,null,null,"","CLAM HS",{"$f":"IF($U$14=0, \"\", $N$72)","v":""},null,{"$f":"$U$14","v":0},"",null,null,null,null,null,null,"","CLAM HS",{"$f":"IF($U$14=0, \"\", $N$73)","v":""},null,{"$f":"$U$14","v":0},"",null,null,null,null,null,null,""]
[159,"CLAM MECH",{"$f":"IF($V$14=0, \"\", $O$71)","v":""},null,{"$f":"$V$14","v":0},"",null,null,null,null,null,null,"","CLAM MECH",{"$f":"IF($V$14=0, \"\", $O$72)","v":""},null,{"$f":"$V$14","v":0},"",null,null,null,null,null,null,"","CLAM MECH",{"$f":"IF($V$14=0, \"\", $O$73)","v":""},null,{"$f":"$V$14","v":0},"",null,null,null,null,null,null,""]
[160,"BREADED SHRIMP",{"$f":"IF($W$14=0, \"\", $P$71)","v":""},null,{"$f":"$W$14","v":0},"",null,null,null,null,null,null,"","BREADED SHRIMP",{"$f":"IF($W$14=0, \"\", $P$72)","v":""},null,{"$f":"$W$14","v":0},"",null,null,null,null,null,null,"","BREADED SHRIMP",{"$f":"IF($W$14=0, \"\", $P$73)","v":""},null,{"$f":"$W$14","v":0},"",null,null,null,null,null,null,""]
[161,"TUNA-CANNED",{"$f":"IF($X$14=0, \"\", $Q$71)","v":""},null,{"$f":"$X$14","v":0},"",null,null,null,null,null,null,"","TUNA-CANNED",{"$f":"IF($X$14=0, \"\", $Q$72)","v":""},null,{"$f":"$X$14","v":0},"",null,null,null,null,null,null,"","TUNA-CANNED",{"$f":"IF($X$14=0, \"\", $Q$73)","v":""},null,{"$f":"$X$14","v":0},"",null,null,null,null,null,null,""]
[162,"OYSTERS CANNED",{"$f":"IF($Y$14=0, \"\", $R$71)","v":""},null,{"$f":"$Y$14","v":0},"",null,null,null,null,null,null,"","OYSTERS CANNED",{"$f":"IF($Y$14=0, \"\", $R$72)","v":""},null,{"$f":"$Y$14","v":0},"",null,null,null,null,null,null,"","OYSTERS CANNED",{"$f":"IF($Y$14=0, \"\", $R$73)","v":""},null,{"$f":"$Y$14","v":0},"",null,null,null,null,null,null,""]
[163,"SARDINES CANNED DRY TRANSPORT",{"$f":"IF($Z$14=0, \"\", $S$71)","v":""},null,{"$f":"$Z$14","v":0},"",null,null,null,null,null,null,"","SARDINES CANNED DRY TRANSPORT",{"$f":"IF($Z$14=0, \"\", $S$72)","v":""},null,{"$f":"$Z$14","v":0},"",null,null,null,null,null,null,"","SARDINES CANNED DRY TRANSPORT",{"$f":"IF($Z$14=0, \"\", $S$73)","v":""},null,{"$f":"$Z$14","v":0},"",null,null,null,null,null,null,""]
[164,"SARDINES CANNED FLUMED",{"$f":"IF($AA$14=0, \"\", $T$71)","v":""},null,{"$f":"$AA$14","v":0},"",null,null,null,null,null,null,"","SARDINES CANNED FLUMED",{"$f":"IF($AA$14=0, \"\", $T$72)","v":""},null,{"$f":"$AA$14","v":0},"",null,null,null,null,null,null,"","SARDINES CANNED FLUMED",{"$f":"IF($AA$14=0, \"\", $T$73)","v":""},null,{"$f":"$AA$14","v":0},"",null,null,null,null,null,null,""]
[165,"SCALLOPS",{"$f":"IF($AB$14=0, \"\", $U$71)","v":""},null,{"$f":"$AB$14","v":0},"",null,null,null,null,null,null,"","SCALLOPS",{"$f":"IF($AB$14=0, \"\", $U$72)","v":""},null,{"$f":"$AB$14","v":0},"",null,null,null,null,null,null,"","SCALLOPS",{"$f":"IF($AB$14=0, \"\", $U$73)","v":""},null,{"$f":"$AB$14","v":0},"",null,null,null,null,null,null,""]
[166]
[167,"Sum",{"$f":"SUM(C147:C165)","v":0},null,{"$f":"SUM(E147:E165)","v":0},0,null,null,null,null,null,null,null,"Sum",{"$f":"SUM(O147:O165)","v":0},null,{"$f":"SUM(Q147:Q165)","v":0},0,null,null,null,null,null,null,null,"Sum",{"$f":"SUM(AA147:AA165)","v":0},null,{"$f":"SUM(AC147:AC165)","v":0},0]
[168]
[169,"Sample Day 5                                       BOD","BOD Daily Max TBEL             #/1000-#",null,"Production POUNDS","Pounds of pollutant allowed",null,null,null,null,"Total Load #/1000-#","BOD Daily Max TBEL                        #/1000-#","Compliance              YES /NO","Sample Day 5                                       TSS","TSS Daily Max TBEL                        #/1000-#",null,"Production POUNDS","Pounds of pollutant allowed",null,null,null,null,"Total Load #/1000-#","TSS Daily Max TBEL                        #/1000-#","Compliance                       YES/ NO","Sample Day 5                                        O&G","O&G Daily Max TBEL                   #/1000-#",null,"Production POUNDS","Pounds of pollutant allowed",null,null,null,null,"Total Load #/1000-#","O&G Daily Max TBEL                        #/1000-#","Compliance     YES / NO"]
[170,"CRAB",{"$f":"IF($J$16=0, \"\", $C$71)","v":""},null,{"$f":"$J$16","v":0},{"$f":"IFERROR(C170*E170/1000,\"\")","v":""},null,null,null,null,{"$f":"IFERROR(I38,\"\")","v":0},{"$f":"IFERROR(F190/(E190/1000),\"\")","v":""},{"$f":"IF(L170=\"\", \"\", IF(L170=0, \"\", IF(K170=0, \"\", IF(K170<L170, \"YES\",\"NO\"))))","v":""},"CRAB",{"$f":"IF($J$16=0, \"\", $C$72)","v":""},null,{"$f":"$J$16","v":0},{"$f":"IFERROR(O170*Q170/1000,\"\")","v":""},null,null,null,null,{"$f":"IFERROR(I49,\"\")","v":0},{"$f":"IFERROR(R190/(Q190/1000),\"\")","v":""},{"$f":"IF(X170=\"\", \"\", IF(X170=0, \"\", IF(W170=0, \"\", IF(W170<X170, \"YES\",\"NO\"))))","v":""},"CRAB",{"$f":"IF($J$16=0, \"\", $C$73)","v":""},null,{"$f":"$J$16","v":0},{"$f":"IFERROR(AA170*AC170/1000,\"\")","v":""},null,null,null,null,{"$f":"IFERROR(I60,\"\")","v":0},{"$f":"IFERROR(AD190/(AC190/1000),\"\")","v":""},{"$f":"IF(AJ170=\"\", \"\", IF(AJ170=0, \"\", IF(AI170=0, \"\", IF(AI170<AJ170, \"YES\",\"NO\"))))","v":""}]
[171,"SHRIMP",{"$f":"IF($K$16=0, \"\", $D$71)","v":""},null,{"$f":"$K$16","v":0},{"$f":"IFERROR(C171*E171/1000,\"\")","v":""},null,null,null,null,null,null,"","SHRIMP",{"$f":"IF($K$16=0, \"\", $D$72)","v":""},null,{"$f":"$K$16","v":0},{"$f":"IFERROR(O171*Q171/1000,\"\")","v":""},null,null,null,null,null,null,"","SHRIMP",{"$f":"IF($K$16=0, \"\", $D$73)","v":""},null,{"$f":"$K$16","v":0},{"$f":"IFERROR(AA171*AC171/1000,\"\")","v":""},null,null,null,null,null,null,""]
[172,"BF CONV",{"$f":"IF($L$16=0, \"\", $E$71)","v":""},null,{"$f":"$L$16","v":0},{"$f":"IFERROR(C172*E172/1000,\"\")","v":""},null,null,null,null,null,null,"","BF CONV",{"$f":"IF($L$16=0, \"\", $E$72)","v":""},null,{"$f":"$L$16","v":0},{"$f":"IFERROR(O172*Q172/1000,\"\")","v":""},null,null,null,null,null,null,"","BF CONV",{"$f":"IF($L$16=0, \"\", $E$73)","v":""},null,{"$f":"$L$16","v":0},{"$f":"IFERROR(AA172*AC172/1000,\"\")","v":""},null,null,null,null,null,null,""]
[173,"BF MECH",{"$f":"IF($M$16=0, \"\", $F$71)","v":""},null,{"$f":"$M$16","v":0},"",null,null,null,null,null,null,"","BF MECH",{"$f":"IF($M$16=0, \"\", $F$72)","v":""},null,{"$f":"$M$16","v":0},"",null,null,null,null,null,null,"","BF MECH",{"$f":"IF($M$16=0, \"\", $F$73)","v":""},null,{"$f":"$M$16","v":0},"",null,null,null,null,null,null,""]
[174,"SALMON HB",{"$f":"IF($N$16=0, \"\", $G$71)","v":""},null,{"$f":"$N$16","v":0},"",null,null,null,null,null,null,"","SALMON HB",{"$f":"IF($N$16=0, \"\", $G$72)","v":""},null,{"$f":"$N$16","v":0},"",null,null,null,null,null,null,"","SALMON HB",{"$f":"IF($N$16=0, \"\", $G$73)","v":""},null,{"$f":"$N$16","v":0},"",null,null,null,null,null,null,""]
[175,"SALMON MECH",{"$f":"IF($O$16=0, \"\", $H$71)","v":""},null,{"$f":"$O$16","v":0},"",null,null,null,null,null,null,"","SALMON MECH",{"$f":"IF($O$16=0, \"\", $H$72)","v":""},null,{"$f":"$O$16","v":0},"",null,null,null,null,null,null,"","SALMON MECH",{"$f":"IF($O$16=0, \"\", $H$73)","v":""},null,{"$f":"$O$16","v":0},"",null,null,null,null,null,null,""]
[176,"WHOLE FROZ RAW SHRIMP",{"$f":"IF($P$16=0, \"\", $I$71)","v":""},null,{"$f":"$P$16","v":0},"",null,null,null,null,null,null,"","WHOLE FROZ RAW SHRIMP",{"$f":"IF($P$16=0, \"\", $I$72)","v":""},null,{"$f":"$P$16","v":0},"",null,null,null,null,null,null,"","WHOLE FROZ RAW SHRIMP",{"$f":"IF($P$16=0, \"\", $I$73)","v":""},null,{"$f":"$P$16","v":0},"",null,null,null,null,null,null,""]
[177,"HERRING STEAKED (SARDINES)",{"$f":"IF($Q$16=0, \"\", $J$71)","v":""},null,{"$f":"$Q$16","v":0},"",null,null,null,null,null,null,"","HERRING STEAKED (SARDINES)",{"$f":"IF($Q$16=0, \"\", $J$72)","v":""},null,{"$f":"$Q$16","v":0},"",null,null,null,null,null,null,"","HERRING STEAKED (SARDINES)",{"$f":"IF($Q$16=0, \"\", $J$73)","v":""},null,{"$f":"$Q$16","v":0},"",null,null,null,null,null,null,""]
[178,"OYSTERS HS",{"$f":"IF($R$16=0, \"\", $K$71)","v":""},null,{"$f":"$R$16","v":0},"",null,null,null,null,null,null,"","OYSTERS HS",{"$f":"IF($R$16=0, \"\", $K$72)","v":""},null,{"$f":"$R$16","v":0},"",null,null,null,null,null,null,"","OYSTERS HS",{"$f":"IF($R$16=0, \"\", $K$73)","v":""},null,{"$f":"$R$16","v":0},"",null,null,null,null,null,null,""]
[179,"FISH MEAL w/ SOLUBLES PLANT",{"$f":"IF($S$16=0, \"\", $L$71)","v":""},null,{"$f":"$S$16","v":0},"",null,null,null,null,null,null,"","FISH MEAL w/ SOLUBLES PLANT",{"$f":"IF($S$16=0, \"\", $L$72)","v":""},null,{"$f":"$S$16","v":0},"",null,null,null,null,null,null,"","FISH MEAL w/ SOLUBLES PLANT",{"$f":"IF($S$16=0, \"\", $L$73)","v":""},null,{"$f":"$S$16","v":0},"",null,null,null,null,null,null,""]
[180,"FISH MEAL NO SOL",{"$f":"IF($T$16=0, \"\", $M$71)","v":""},null,{"$f":"$T$16","v":0},"",null,null,null,null,null,null,"","FISH MEAL NO SOL",{"$f":"IF($T$16=0, \"\", $M$72)","v":""},null,{"$f":"$T$16","v":0},"",null,null,null,null,null,null,"","FISH MEAL NO SOL",{"$f":"IF($T$16=0, \"\", $M$73)","v":""},null,{"$f":"$T$16","v":0},"",null,null,null,null,null,null,""]
[181,"CLAM HS",{"$f":"IF($U$16=0, \"\", $N$71)","v":""},null,{"$f":"$U$16","v":0},"",null,null,null,null,null,null,"","CLAM HS",{"$f":"IF($U$16=0, \"\", $N$72)","v":""},null,{"$f":"$U$16","v":0},"",null,null,null,null,null,null,"","CLAM HS",{"$f":"IF($U$16=0, \"\", $N$73)","v":""},null,{"$f":"$U$16","v":0},"",null,null,null,null,null,null,""]
[182,"CLAM MECH",{"$f":"IF($V$16=0, \"\", $O$71)","v":""},null,{"$f":"$V$16","v":0},"",null,null,null,null,null,null,"","CLAM MECH",{"$f":"IF($V$16=0, \"\", $O$72)","v":""},null,{"$f":"$V$16","v":0},"",null,null,null,null,null,null,"","CLAM MECH",{"$f":"IF($V$16=0, \"\", $O$73)","v":""},null,{"$f":"$V$16","v":0},"",null,null,null,null,null,null,""]
[183,"BREADED SHRIMP",{"$f":"IF($W$16=0, \"\", $P$71)","v":""},null,{"$f":"$W$16","v":0},"",null,null,null,null,null,null,"","BREADED SHRIMP",{"$f":"IF($W$16=0, \"\", $P$72)","v":""},null,{"$f":"$W$16","v":0},"",null,null,null,null,null,null,"","BREADED SHRIMP",{"$f":"IF($W$16=0, \"\", $P$73)","v":""},null,{"$f":"$W$16","v":0},"",null,null,null,null,null,null,""]
[184,"TUNA-CANNED",{"$f":"IF($X$16=0, \"\", $Q$71)","v":""},null,{"$f":"$X$16","v":0},"",null,null,null,null,null,null,"","TUNA-CANNED",{"$f":"IF($X$16=0, \"\", $Q$72)","v":""},null,{"$f":"$X$16","v":0},"",null,null,null,null,null,null,"","TUNA-CANNED",{"$f":"IF($X$16=0, \"\", $Q$73)","v":""},null,{"$f":"$X$16","v":0},"",null,null,null,null,null,null,""]
[185,"OYSTERS CANNED",{"$f":"IF($Y$16=0, \"\", $R$71)","v":""},null,{"$f":"$Y$16","v":0},"",null,null,null,null,null,null,"","OYSTERS CANNED",{"$f":"IF($Y$16=0, \"\", $R$72)","v":""},null,{"$f":"$Y$16","v":0},"",null,null,null,null,null,null,"","OYSTERS CANNED",{"$f":"IF($Y$16=0, \"\", $R$73)","v":""},null,{"$f":"$Y$16","v":0},"",null,null,null,null,null,null,""]
[186,"SARDINES CANNED DRY TRANSPORT",{"$f":"IF($Z$16=0, \"\", $S$71)","v":""},null,{"$f":"$Z$16","v":0},"",null,null,null,null,null,null,"","SARDINES CANNED DRY TRANSPORT",{"$f":"IF($Z$16=0, \"\", $S$72)","v":""},null,{"$f":"$Z$16","v":0},"",null,null,null,null,null,null,"","SARDINES CANNED DRY TRANSPORT",{"$f":"IF($Z$16=0, \"\", $S$73)","v":""},null,{"$f":"$Z$16","v":0},"",null,null,null,null,null,null,""]
[187,"SARDINES CANNED FLUMED",{"$f":"IF($AA$16=0, \"\", $T$71)","v":""},null,{"$f":"$AA$16","v":0},"",null,null,null,null,null,null,"","SARDINES CANNED FLUMED",{"$f":"IF($AA$16=0, \"\", $T$72)","v":""},null,{"$f":"$AA$16","v":0},"",null,null,null,null,null,null,"","SARDINES CANNED FLUMED",{"$f":"IF($AA$16=0, \"\", $T$73)","v":""},null,{"$f":"$AA$16","v":0},"",null,null,null,null,null,null,""]
[188,"SCALLOPS",{"$f":"IF($AB$16=0, \"\", $U$71)","v":""},null,{"$f":"$AB$16","v":0},"",null,null,null,null,null,null,"","SCALLOPS",{"$f":"IF($AB$16=0, \"\", $U$72)","v":""},null,{"$f":"$AB$16","v":0},"",null,null,null,null,null,null,"","SCALLOPS",{"$f":"IF($AB$16=0, \"\", $U$73)","v":""},null,{"$f":"$AB$16","v":0},"",null,null,null,null,null,null,""]
[189]
[190,"Sum",{"$f":"SUM(C170:C188)","v":0},null,{"$f":"SUM(E170:E188)","v":0},0,null,null,null,null,null,null,null,"Sum",{"$f":"SUM(O170:O188)","v":0},null,{"$f":"SUM(Q170:Q188)","v":0},0,null,null,null,null,null,null,null,"Sum",{"$f":"SUM(AA170:AA188)","v":0},null,{"$f":"SUM(AC170:AC188)","v":0},0]
[191]
[192,"Sample Day 6                                       BOD","BOD Daily Max TBEL             #/1000-#",null,"Production POUNDS","Pounds of pollutant allowed",null,null,null,null,"Total Load #/1000-#","BOD Daily Max TBEL                        #/1000-#","Compliance                  YES /NO","Sample Day 6                                       TSS","TSS Daily Max TBEL                        #/1000-#",null,"Production POUNDS","Pounds of pollutant allowed",null,null,null,null,"Total Load #/1000-#","TSS Daily Max TBEL                        #/1000-#","Compliance                   YES/ NO","Sample Day 6                                        O&G","O&G Daily Max TBEL                   #/1000-#",null,"Production POUNDS","Pounds of pollutant allowed",null,null,null,null,"Total Load #/1000-#","O&G Daily Max TBEL                        #/1000-#","Compliance     YES / NO"]
[193,"CRAB",{"$f":"IF($J$18=0, \"\", $C$71)","v":""},null,{"$f":"$J$18","v":0},{"$f":"IFERROR(C193*E193/1000,\"\")","v":""},null,null,null,null,{"$f":"IFERROR(I39,\"\")","v":0},{"$f":"IFERROR(F213/(E213/1000),\"\")","v":""},{"$f":"IF(L193=\"\", \"\", IF(L193=0, \"\", IF(K193=0, \"\", IF(K193<L193, \"YES\",\"NO\"))))","v":""},"CRAB",{"$f":"IF($J$18=0, \"\", $C$72)","v":""},null,{"$f":"$J$18","v":0},{"$f":"IFERROR(O193*Q193/1000,\"\")","v":""},null,null,null,null,{"$f":"IFERROR(I50,\"\")","v":0},{"$f":"IFERROR(R213/(Q213/1000),\"\")","v":""},{"$f":"IF(X193=\"\", \"\", IF(X193=0, \"\", IF(W193=0, \"\", IF(W193<X193, \"YES\",\"NO\"))))","v":""},"CRAB",{"$f":"IF($J$18=0, \"\", $C$73)","v":""},null,{"$f":"$J$18","v":0},{"$f":"IFERROR(AA193*AC193/1000,\"\")","v":""},null,null,null,null,{"$f":"IFERROR(I61,\"\")","v":0},{"$f":"IFERROR(AD213/(AC213/1000),\"\")","v":""},{"$f":"IF(AJ193=\"\", \"\", IF(AJ193=0, \"\", IF(AI193=0, \"\", IF(AI193<AJ193, \"YES\",\"NO\"))))","v":""}]
[194,"SHRIMP",{"$f":"IF($K$18=0, \"\", $D$71)","v":""},null,{"$f":"$K$18","v":0},{"$f":"IFERROR(C194*E194/1000,\"\")","v":""},null,null,null,null,null,null,"","SHRIMP",{"$f":"IF($K$18=0, \"\", $D$72)","v":""},null,{"$f":"$K$18","v":0},{"$f":"IFERROR(O194*Q194/1000,\"\")","v":""},null,null,null,null,null,null,"","SHRIMP",{"$f":"IF($K$18=0, \"\", $D$73)","v":""},null,{"$f":"$K$18","v":0},{"$f":"IFERROR(AA194*AC194/1000,\"\")","v":""},null,null,null,null,null,null,""]
[195,"BF CONV",{"$f":"IF($L$18=0, \"\", $E$71)","v":""},null,{"$f":"$L$18","v":0},{"$f":"IFERROR(C195*E195/1000,\"\")","v":""},null,null,null,null,null,null,"","BF CONV",{"$f":"IF($L$18=0, \"\", $E$72)","v":""},null,{"$f":"$L$18","v":0},{"$f":"IFERROR(O195*Q195/1000,\"\")","v":""},null,null,null,null,null,null,"","BF CONV",{"$f":"IF($L$18=0, \"\", $E$73)","v":""},null,{"$f":"$L$18","v":0},{"$f":"IFERROR(AA195*AC195/1000,\"\")","v":""},null,null,null,null,null,null,""]
[196,"BF MECH",{"$f":"IF($M$18=0, \"\", $F$71)","v":""},null,{"$f":"$M$18","v":0},"",null,null,null,null,null,null,"","BF MECH",{"$f":"IF($M$18=0, \"\", $F$72)","v":""},null,{"$f":"$M$18","v":0},"",null,null,null,null,null,null,"","BF MECH",{"$f":"IF($M$18=0, \"\", $F$73)","v":""},null,{"$f":"$M$18","v":0},"",null,null,null,null,null,null,""]
[197,"SALMON HB",{"$f":"IF($N$18=0, \"\", $G$71)","v":""},null,{"$f":"$N$18","v":0},"",null,null,null,null,null,null,"","SALMON HB",{"$f":"IF($N$18=0, \"\", $G$72)","v":""},null,{"$f":"$N$18","v":0},"",null,null,null,null,null,null,"","SALMON HB",{"$f":"IF($N$18=0, \"\", $G$73)","v":""},null,{"$f":"$N$18","v":0},"",null,null,null,null,null,null,""]
[198,"SALMON MECH",{"$f":"IF($O$18=0, \"\", $H$71)","v":""},null,{"$f":"$O$18","v":0},"",null,null,null,null,null,null,"","SALMON MECH",{"$f":"IF($O$18=0, \"\", $H$72)","v":""},null,{"$f":"$O$18","v":0},"",null,null,null,null,null,null,"","SALMON MECH",{"$f":"IF($O$18=0, \"\", $H$73)","v":""},null,{"$f":"$O$18","v":0},"",null,null,null,null,null,null,""]
[199,"WHOLE FROZ RAW SHRIMP",{"$f":"IF($P$18=0, \"\", $I$71)","v":""},null,{"$f":"$P$18","v":0},"",null,null,null,null,null,null,"","WHOLE FROZ RAW SHRIMP",{"$f":"IF($P$18=0, \"\", $I$72)","v":""},null,{"$f":"$P$18","v":0},"",null,null,null,null,null,null,"","WHOLE FROZ RAW SHRIMP",{"$f":"IF($P$18=0, \"\", $I$73)","v":""},null,{"$f":"$P$18","v":0},"",null,null,null,null,null,null,""]
[200,"HERRING STEAKED (SARDINES)",{"$f":"IF($Q$18=0, \"\", $J$71)","v":""},null,{"$f":"$Q$18","v":0},"",null,null,null,null,null,null,"","HERRING STEAKED (SARDINES)",{"$f":"IF($Q$18=0, \"\", $J$72)","v":""},null,{"$f":"$Q$18","v":0},"",null,null,null,null,null,null,"","HERRING STEAKED (SARDINES)",{"$f":"IF($Q$18=0, \"\", $J$73)","v":""},null,{"$f":"$Q$18","v":0},"",null,null,null,null,null,null,""]
[201,"OYSTERS HS",{"$f":"IF($R$18=0, \"\", $K$71)","v":""},null,{"$f":"$R$18","v":0},"",null,null,null,null,null,null,"","OYSTERS HS",{"$f":"IF($R$18=0, \"\", $K$72)","v":""},null,{"$f":"$R$18","v":0},"",null,null,null,null,null,null,"","OYSTERS HS",{"$f":"IF($R$18=0, \"\", $K$73)","v":""},null,{"$f":"$R$18","v":0},"",null,null,null,null,null,null,""]
[202,"FISH MEAL w/ SOLUBLES PLANT",{"$f":"IF($S$18=0, \"\", $L$71)","v":""},null,{"$f":"$S$18","v":0},"",null,null,null,null,null,null,"","FISH MEAL w/ SOLUBLES PLANT",{"$f":"IF($S$18=0, \"\", $L$72)","v":""},null,{"$f":"$S$18","v":0},"",null,null,null,null,null,null,"","FISH MEAL w/ SOLUBLES PLANT",{"$f":"IF($S$18=0, \"\", $L$73)","v":""},null,{"$f":"$S$18","v":0},"",null,null,null,null,null,null,""]
[203,"FISH MEAL NO SOL",{"$f":"IF($T$18=0, \"\", $M$71)","v":""},null,{"$f":"$T$18","v":0},"",null,null,null,null,null,null,"","FISH MEAL NO SOL",{"$f":"IF($T$18=0, \"\", $M$72)","v":""},null,{"$f":"$T$18","v":0},"",null,null,null,null,null,null,"","FISH MEAL NO SOL",{"$f":"IF($T$18=0, \"\", $M$73)","v":""},null,{"$f":"$T$18","v":0},"",null,null,null,null,null,null,""]
[204,"CLAM HS",{"$f":"IF($U$18=0, \"\", $N$71)","v":""},null,{"$f":"$U$18","v":0},"",null,null,null,null,null,null,"","CLAM HS",{"$f":"IF($U$18=0, \"\", $N$72)","v":""},null,{"$f":"$U$18","v":0},"",null,null,null,null,null,null,"","CLAM HS",{"$f":"IF($U$18=0, \"\", $N$73)","v":""},null,{"$f":"$U$18","v":0},"",null,null,null,null,null,null,""]
[205,"CLAM MECH",{"$f":"IF($V$18=0, \"\", $O$71)","v":""},null,{"$f":"$V$18","v":0},"",null,null,null,null,null,null,"","CLAM MECH",{"$f":"IF($V$18=0, \"\", $O$72)","v":""},null,{"$f":"$V$18","v":0},"",null,null,null,null,null,null,"","CLAM MECH",{"$f":"IF($V$18=0, \"\", $O$73)","v":""},null,{"$f":"$V$18","v":0},"",null,null,null,null,null,null,""]
[206,"BREADED SHRIMP",{"$f":"IF($W$18=0, \"\", $P$71)","v":""},null,{"$f":"$W$18","v":0},"",null,null,null,null,null,null,"","BREADED SHRIMP",{"$f":"IF($W$18=0, \"\", $P$72)","v":""},null,{"$f":"$W$18","v":0},"",null,null,null,null,null,null,"","BREADED SHRIMP",{"$f":"IF($W$18=0, \"\", $P$73)","v":""},null,{"$f":"$W$18","v":0},"",null,null,null,null,null,null,""]
[207,"TUNA-CANNED",{"$f":"IF($X$18=0, \"\", $Q$71)","v":""},null,{"$f":"$X$18","v":0},"",null,null,null,null,null,null,"","TUNA-CANNED",{"$f":"IF($X$18=0, \"\", $Q$72)","v":""},null,{"$f":"$X$18","v":0},"",null,null,null,null,null,null,"","TUNA-CANNED",{"$f":"IF($X$18=0, \"\", $Q$73)","v":""},null,{"$f":"$X$18","v":0},"",null,null,null,null,null,null,""]
[208,"OYSTERS CANNED",{"$f":"IF($Y$18=0, \"\", $R$71)","v":""},null,{"$f":"$Y$18","v":0},"",null,null,null,null,null,null,"","OYSTERS CANNED",{"$f":"IF($Y$18=0, \"\", $R$72)","v":""},null,{"$f":"$Y$18","v":0},"",null,null,null,null,null,null,"","OYSTERS CANNED",{"$f":"IF($Y$18=0, \"\", $R$73)","v":""},null,{"$f":"$Y$18","v":0},"",null,null,null,null,null,null,""]
[209,"SARDINES CANNED DRY TRANSPORT",{"$f":"IF($Z$18=0, \"\", $S$71)","v":""},null,{"$f":"$Z$18","v":0},"",null,null,null,null,null,null,"","SARDINES CANNED DRY TRANSPORT",{"$f":"IF($Z$18=0, \"\", $S$72)","v":""},null,{"$f":"$Z$18","v":0},"",null,null,null,null,null,null,"","SARDINES CANNED DRY TRANSPORT",{"$f":"IF($Z$18=0, \"\", $S$73)","v":""},null,{"$f":"$Z$18","v":0},"",null,null,null,null,null,null,""]
[210,"SARDINES CANNED FLUMED",{"$f":"IF($AA$18=0, \"\", $T$71)","v":""},null,{"$f":"$AA$18","v":0},"",null,null,null,null,null,null,"","SARDINES CANNED FLUMED",{"$f":"IF($AA$18=0, \"\", $T$72)","v":""},null,{"$f":"$AA$18","v":0},"",null,null,null,null,null,null,"","SARDINES CANNED FLUMED",{"$f":"IF($AA$18=0, \"\", $T$73)","v":""},null,{"$f":"$AA$18","v":0},"",null,null,null,null,null,null,""]
[211,"SCALLOPS",{"$f":"IF($AB$18=0, \"\", $U$71)","v":""},null,{"$f":"$AB$18","v":0},"",null,null,null,null,null,null,"","SCALLOPS",{"$f":"IF($AB$18=0, \"\", $U$72)","v":""},null,{"$f":"$AB$18","v":0},"",null,null,null,null,null,null,"","SCALLOPS",{"$f":"IF($AB$18=0, \"\", $U$73)","v":""},null,{"$f":"$AB$18","v":0},"",null,null,null,null,null,null,""]
[212]
[213,"Sum",{"$f":"SUM(C193:C211)","v":0},null,{"$f":"SUM(E193:E211)","v":0},0,null,null,null,null,null,null,null,"Sum",{"$f":"SUM(O193:O211)","v":0},null,{"$f":"SUM(Q193:Q211)","v":0},0,null,null,null,null,null,null,null,"Sum",{"$f":"SUM(AA193:AA211)","v":0},null,{"$f":"SUM(AC193:AC211)","v":0},0]
[214]
[215,"Sample Day 7                                       BOD","BOD Daily Max TBEL             #/1000-#",null,"Production POUNDS","Pounds of pollutant allowed",null,null,null,null,"Total Load #/1000-#","BOD Daily Max TBEL                        #/1000-#","Compliance                   YES /NO","Sample Day 7                                       TSS","TSS Daily Max TBEL                        #/1000-#",null,"Production POUNDS","Pounds of pollutant allowed",null,null,null,null,"Total Load #/1000-#","TSS Daily Max TBEL                        #/1000-#","Compliance                          YES/ NO","Sample Day 7                                        O&G","O&G Daily Max TBEL                   #/1000-#",null,"Production POUNDS","Pounds of pollutant allowed",null,null,null,null,"Total Load #/1000-#","O&G Daily Max TBEL                        #/1000-#","Compliance     YES / NO"]
[216,"CRAB",{"$f":"IF($J$20=0, \"\", $C$71)","v":""},null,{"$f":"$J$20","v":0},{"$f":"IFERROR(C216*E216/1000,\"\")","v":""},null,null,null,null,{"$f":"IFERROR(I40,\"\")","v":0},{"$f":"IFERROR(F236/(E236/1000),\"\")","v":""},{"$f":"IF(L216=\"\", \"\", IF(L216=0, \"\", IF(K216=0, \"\", IF(K216<L216, \"YES\",\"NO\"))))","v":""},"CRAB",{"$f":"IF($J$20=0, \"\", $C$72)","v":""},null,{"$f":"$J$20","v":0},{"$f":"IFERROR(O216*Q216/1000,\"\")","v":""},null,null,null,null,{"$f":"IFERROR(I51,\"\")","v":0},{"$f":"IFERROR(R236/(Q236/1000),\"\")","v":""},{"$f":"IF(X216=\"\", \"\", IF(X216=0, \"\", IF(W216=0, \"\", IF(W216<X216, \"YES\",\"NO\"))))","v":""},"CRAB",{"$f":"IF($J$20=0, \"\", $C$73)","v":""},null,{"$f":"$J$20","v":0},{"$f":"IFERROR(AA216*AC216/1000,\"\")","v":""},null,null,null,null,{"$f":"IFERROR(I62,\"\")","v":0},{"$f":"IFERROR(AD236/(AC236/1000),\"\")","v":""},{"$f":"IF(AJ216=\"\", \"\", IF(AJ216=0, \"\", IF(AI216=0, \"\", IF(AI216<AJ216, \"YES\",\"NO\"))))","v":""}]
[217,"SHRIMP",{"$f":"IF($K$20=0, \"\", $D$71)","v":""},null,{"$f":"$K$20","v":0},{"$f":"IFERROR(C217*E217/1000,\"\")","v":""},null,null,null,null,null,null,"","SHRIMP",{"$f":"IF($K$20=0, \"\", $D$72)","v":""},null,{"$f":"$K$20","v":0},{"$f":"IFERROR(O217*Q217/1000,\"\")","v":""},null,null,null,null,null,null,"","SHRIMP",{"$f":"IF($K$20=0, \"\", $D$73)","v":""},null,{"$f":"$K$20","v":0},{"$f":"IFERROR(AA217*AC217/1000,\"\")","v":""},null,null,null,null,null,null,""]
[218,"BF CONV",{"$f":"IF($L$20=0, \"\", $E$71)","v":""},null,{"$f":"$L$20","v":0},{"$f":"IFERROR(C218*E218/1000,\"\")","v":""},null,null,null,null,null,null,"","BF CONV",{"$f":"IF($L$20=0, \"\", $E$72)","v":""},null,{"$f":"$L$20","v":0},{"$f":"IFERROR(O218*Q218/1000,\"\")","v":""},null,null,null,null,null,null,"","BF CONV",{"$f":"IF($L$20=0, \"\", $E$73)","v":""},null,{"$f":"$L$20","v":0},{"$f":"IFERROR(AA218*AC218/1000,\"\")","v":""},null,null,null,null,null,null,""]
[219,"BF MECH",{"$f":"IF($M$20=0, \"\", $F$71)","v":""},null,{"$f":"$M$20","v":0},"",null,null,null,null,null,null,"","BF MECH",{"$f":"IF($M$20=0, \"\", $F$72)","v":""},null,{"$f":"$M$20","v":0},"",null,null,null,null,null,null,"","BF MECH",{"$f":"IF($M$20=0, \"\", $F$73)","v":""},null,{"$f":"$M$20","v":0},"",null,null,null,null,null,null,""]
[220,"SALMON HB",{"$f":"IF($N$20=0, \"\", $G$71)","v":""},null,{"$f":"$N$20","v":0},"",null,null,null,null,null,null,"","SALMON HB",{"$f":"IF($N$20=0, \"\", $G$72)","v":""},null,{"$f":"$N$20","v":0},"",null,null,null,null,null,null,"","SALMON HB",{"$f":"IF($N$20=0, \"\", $G$73)","v":""},null,{"$f":"$N$20","v":0},"",null,null,null,null,null,null,""]
[221,"SALMON MECH",{"$f":"IF($O$20=0, \"\", $H$71)","v":""},null,{"$f":"$O$20","v":0},"",null,null,null,null,null,null,"","SALMON MECH",{"$f":"IF($O$20=0, \"\", $H$72)","v":""},null,{"$f":"$O$20","v":0},"",null,null,null,null,null,null,"","SALMON MECH",{"$f":"IF($O$20=0, \"\", $H$73)","v":""},null,{"$f":"$O$20","v":0},"",null,null,null,null,null,null,""]
[222,"WHOLE FROZ RAW SHRIMP",{"$f":"IF($P$20=0, \"\", $I$71)","v":""},null,{"$f":"$P$20","v":0},"",null,null,null,null,null,null,"","WHOLE FROZ RAW SHRIMP",{"$f":"IF($P$20=0, \"\", $I$72)","v":""},null,{"$f":"$P$20","v":0},"",null,null,null,null,null,null,"","WHOLE FROZ RAW SHRIMP",{"$f":"IF($P$20=0, \"\", $I$73)","v":""},null,{"$f":"$P$20","v":0},"",null,null,null,null,null,null,""]
[223,"HERRING STEAKED (SARDINES)",{"$f":"IF($Q$20=0, \"\", $J$71)","v":""},null,{"$f":"$Q$20","v":0},"",null,null,null,null,null,null,"","HERRING STEAKED (SARDINES)",{"$f":"IF($Q$20=0, \"\", $J$72)","v":""},null,{"$f":"$Q$20","v":0},"",null,null,null,null,null,null,"","HERRING STEAKED (SARDINES)",{"$f":"IF($Q$20=0, \"\", $J$73)","v":""},null,{"$f":"$Q$20","v":0},"",null,null,null,null,null,null,""]
[224,"OYSTERS HS",{"$f":"IF($R$20=0, \"\", $K$71)","v":""},null,{"$f":"$R$20","v":0},"",null,null,null,null,null,null,"","OYSTERS HS",{"$f":"IF($R$20=0, \"\", $K$72)","v":""},null,{"$f":"$R$20","v":0},"",null,null,null,null,null,null,"","OYSTERS HS",{"$f":"IF($R$20=0, \"\", $K$73)","v":""},null,{"$f":"$R$20","v":0},"",null,null,null,null,null,null,""]
[225,"FISH MEAL w/ SOLUBLES PLANT",{"$f":"IF($S$20=0, \"\", $L$71)","v":""},null,{"$f":"$S$20","v":0},"",null,null,null,null,null,null,"","FISH MEAL w/ SOLUBLES PLANT",{"$f":"IF($S$20=0, \"\", $L$72)","v":""},null,{"$f":"$S$20","v":0},"",null,null,null,null,null,null,"","FISH MEAL w/ SOLUBLES PLANT",{"$f":"IF($S$20=0, \"\", $L$73)","v":""},null,{"$f":"$S$20","v":0},"",null,null,null,null,null,null,""]
[226,"FISH MEAL NO SOL",{"$f":"IF($T$20=0, \"\", $M$71)","v":""},null,{"$f":"$T$20","v":0},"",null,null,null,null,null,null,"","FISH MEAL NO SOL",{"$f":"IF($T$20=0, \"\", $M$72)","v":""},null,{"$f":"$T$20","v":0},"",null,null,null,null,null,null,"","FISH MEAL NO SOL",{"$f":"IF($T$20=0, \"\", $M$73)","v":""},null,{"$f":"$T$20","v":0},"",null,null,null,null,null,null,""]
[227,"CLAM HS",{"$f":"IF($U$20=0, \"\", $N$71)","v":""},null,{"$f":"$U$20","v":0},"",null,null,null,null,null,null,"","CLAM HS",{"$f":"IF($U$20=0, \"\", $N$72)","v":""},null,{"$f":"$U$20","v":0},"",null,null,null,null,null,null,"","CLAM HS",{"$f":"IF($U$20=0, \"\", $N$73)","v":""},null,{"$f":"$U$20","v":0},"",null,null,null,null,null,null,""]
[228,"CLAM MECH",{"$f":"IF($V$20=0, \"\", $O$71)","v":""},null,{"$f":"$V$20","v":0},"",null,null,null,null,null,null,"","CLAM MECH",{"$f":"IF($V$20=0, \"\", $O$72)","v":""},null,{"$f":"$V$20","v":0},"",null,null,null,null,null,null,"","CLAM MECH",{"$f":"IF($V$20=0, \"\", $O$73)","v":""},null,{"$f":"$V$20","v":0},"",null,null,null,null,null,null,""]
[229,"BREADED SHRIMP",{"$f":"IF($W$20=0, \"\", $P$71)","v":""},null,{"$f":"$W$20","v":0},"",null,null,null,null,null,null,"","BREADED SHRIMP",{"$f":"IF($W$20=0, \"\", $P$72)","v":""},null,{"$f":"$W$20","v":0},"",null,null,null,null,null,null,"","BREADED SHRIMP",{"$f":"IF($W$20=0, \"\", $P$73)","v":""},null,{"$f":"$W$20","v":0},"",null,null,null,null,null,null,""]
[230,"TUNA-CANNED",{"$f":"IF($X$20=0, \"\", $Q$71)","v":""},null,{"$f":"$X$20","v":0},"",null,null,null,null,null,null,"","TUNA-CANNED",{"$f":"IF($X$20=0, \"\", $Q$72)","v":""},null,{"$f":"$X$20","v":0},"",null,null,null,null,null,null,"","TUNA-CANNED",{"$f":"IF($X$20=0, \"\", $Q$73)","v":""},null,{"$f":"$X$20","v":0},"",null,null,null,null,null,null,""]
[231,"OYSTERS CANNED",{"$f":"IF($Y$20=0, \"\", $R$71)","v":""},null,{"$f":"$Y$20","v":0},"",null,null,null,null,null,null,"","OYSTERS CANNED",{"$f":"IF($Y$20=0, \"\", $R$72)","v":""},null,{"$f":"$Y$20","v":0},"",null,null,null,null,null,null,"","OYSTERS CANNED",{"$f":"IF($Y$20=0, \"\", $R$73)","v":""},null,{"$f":"$Y$20","v":0},"",null,null,null,null,null,null,""]
[232,"SARDINES CANNED DRY TRANSPORT",{"$f":"IF($Z$20=0, \"\", $S$71)","v":""},null,{"$f":"$Z$20","v":0},"",null,null,null,null,null,null,"","SARDINES CANNED DRY TRANSPORT",{"$f":"IF($Z$20=0, \"\", $S$72)","v":""},null,{"$f":"$Z$20","v":0},"",null,null,null,null,null,null,"","SARDINES CANNED DRY TRANSPORT",{"$f":"IF($Z$20=0, \"\", $S$73)","v":""},null,{"$f":"$Z$20","v":0},"",null,null,null,null,null,null,""]
[233,"SARDINES CANNED FLUMED",{"$f":"IF($AA$20=0, \"\", $T$71)","v":""},null,{"$f":"$AA$20","v":0},"",null,null,null,null,null,null,"","SARDINES CANNED FLUMED",{"$f":"IF($AA$20=0, \"\", $T$72)","v":""},null,{"$f":"$AA$20","v":0},"",null,null,null,null,null,null,"","SARDINES CANNED FLUMED",{"$f":"IF($AA$20=0, \"\", $T$73)","v":""},null,{"$f":"$AA$20","v":0},"",null,null,null,null,null,null,""]
[234,"SCALLOPS",{"$f":"IF($AB$20=0, \"\", $U$71)","v":""},null,{"$f":"$AB$20","v":0},"",null,null,null,null,null,null,"","SCALLOPS",{"$f":"IF($AB$20=0, \"\", $U$72)","v":""},null,{"$f":"$AB$20","v":0},"",null,null,null,null,null,null,"","SCALLOPS",{"$f":"IF($AB$20=0, \"\", $U$73)","v":""},null,{"$f":"$AB$20","v":0},"",null,null,null,null,null,null,""]
[235]
[236,"Sum",{"$f":"SUM(C216:C234)","v":0},null,{"$f":"SUM(E216:E234)","v":0},0,null,null,null,null,null,null,null,"Sum",{"$f":"SUM(O216:O234)","v":0},null,{"$f":"SUM(Q216:Q234)","v":0},0,null,null,null,null,null,null,null,"Sum",{"$f":"SUM(AA216:AA234)","v":0},null,{"$f":"SUM(AC216:AC234)","v":0},0]
[237]
[238,"Sample Day 8                                       BOD","BOD Daily Max TBEL             #/1000-#",null,"Production POUNDS","Pounds of pollutant allowed",null,null,null,null,"Total Load #/1000-#","BOD Daily Max TBEL                        #/1000-#","Compliance                    YES /NO","Sample Day 8                                       TSS","TSS Daily Max TBEL                        #/1000-#",null,"Production POUNDS","Pounds of pollutant allowed",null,null,null,null,"Total Load #/1000-#","TSS Daily Max TBEL                        #/1000-#","Compliance                          YES/ NO","Sample Day 8                                        O&G","O&G Daily Max TBEL                   #/1000-#",null,"Production POUNDS","Pounds of pollutant allowed",null,null,null,null,"Total Load #/1000-#","O&G Daily Max TBEL                        #/1000-#","Compliance     YES / NO"]
[239,"CRAB",{"$f":"IF($J$22=0, \"\", $C$71)","v":""},null,{"$f":"$J$22","v":0},{"$f":"IFERROR(C239*E239/1000,\"\")","v":""},null,null,null,null,{"$f":"IFERROR(I41,\"\")","v":0},{"$f":"IFERROR(F259/(E259/1000),\"\")","v":""},{"$f":"IF(L239=\"\", \"\", IF(L239=0, \"\", IF(K239=0, \"\", IF(K239<L239, \"YES\",\"NO\"))))","v":""},"CRAB",{"$f":"IF($J$22=0, \"\", $C$72)","v":""},null,{"$f":"$J$22","v":0},{"$f":"IFERROR(O239*Q239/1000,\"\")","v":""},null,null,null,null,{"$f":"IFERROR(I52,\"\")","v":0},{"$f":"IFERROR(R259/(Q259/1000),\"\")","v":""},{"$f":"IF(X239=\"\", \"\", IF(X239=0, \"\", IF(W239=0, \"\", IF(W239<X239, \"YES\",\"NO\"))))","v":""},"CRAB",{"$f":"IF($J$22=0, \"\", $C$73)","v":""},null,{"$f":"$J$22","v":0},{"$f":"IFERROR(AA239*AC239/1000,\"\")","v":""},null,null,null,null,{"$f":"IFERROR(I63,\"\")","v":0},{"$f":"IFERROR(AD259/(AC259/1000),\"\")","v":""},{"$f":"IF(AJ239=\"\", \"\", IF(AJ239=0, \"\", IF(AI239=0, \"\", IF(AI239<AJ239, \"YES\",\"NO\"))))","v":""}]
[240,"SHRIMP",{"$f":"IF($K$22=0, \"\", $D$71)","v":""},null,{"$f":"$K$22","v":0},{"$f":"IFERROR(C240*E240/1000,\"\")","v":""},null,null,null,null,null,null,"","SHRIMP",{"$f":"IF($K$22=0, \"\", $D$72)","v":""},null,{"$f":"$K$22","v":0},{"$f":"IFERROR(O240*Q240/1000,\"\")","v":""},null,null,null,null,null,null,"","SHRIMP",{"$f":"IF($K$22=0, \"\", $D$73)","v":""},null,{"$f":"$K$22","v":0},{"$f":"IFERROR(AA240*AC240/1000,\"\")","v":""},null,null,null,null,null,null,""]
[241,"BF CONV",{"$f":"IF($L$22=0, \"\", $E$71)","v":""},null,{"$f":"$L$22","v":0},{"$f":"IFERROR(C241*E241/1000,\"\")","v":""},null,null,null,null,null,null,"","BF CONV",{"$f":"IF($L$22=0, \"\", $E$72)","v":""},null,{"$f":"$L$22","v":0},{"$f":"IFERROR(O241*Q241/1000,\"\")","v":""},null,null,null,null,null,null,"","BF CONV",{"$f":"IF($L$22=0, \"\", $E$73)","v":""},null,{"$f":"$L$22","v":0},{"$f":"IFERROR(AA241*AC241/1000,\"\")","v":""},null,null,null,null,null,null,""]
[242,"BF MECH",{"$f":"IF($M$22=0, \"\", $F$71)","v":""},null,{"$f":"$M$22","v":0},"",null,null,null,null,null,null,"","BF MECH",{"$f":"IF($M$22=0, \"\", $F$72)","v":""},null,{"$f":"$M$22","v":0},"",null,null,null,null,null,null,"","BF MECH",{"$f":"IF($M$22=0, \"\", $F$73)","v":""},null,{"$f":"$M$22","v":0},"",null,null,null,null,null,null,""]
[243,"SALMON HB",{"$f":"IF($N$22=0, \"\", $G$71)","v":""},null,{"$f":"$N$22","v":0},"",null,null,null,null,null,null,"","SALMON HB",{"$f":"IF($N$22=0, \"\", $G$72)","v":""},null,{"$f":"$N$22","v":0},"",null,null,null,null,null,null,{"$f":"IF(X243=\"\", \"\", IF(X243=0, \"\", IF(W243=0, \"\", IF(W243<X243, \"YES\",\"NO\"))))","v":""},"SALMON HB",{"$f":"IF($N$22=0, \"\", $G$73)","v":""},null,{"$f":"$N$22","v":0},"",null,null,null,null,null,null,""]
[244,"SALMON MECH",{"$f":"IF($O$22=0, \"\", $H$71)","v":""},null,{"$f":"$O$22","v":0},"",null,null,null,null,null,null,"","SALMON MECH",{"$f":"IF($O$22=0, \"\", $H$72)","v":""},null,{"$f":"$O$22","v":0},"",null,null,null,null,null,null,"","SALMON MECH",{"$f":"IF($O$22=0, \"\", $H$73)","v":""},null,{"$f":"$O$22","v":0},"",null,null,null,null,null,null,""]
[245,"WHOLE FROZ RAW SHRIMP",{"$f":"IF($P$22=0, \"\", $I$71)","v":""},null,{"$f":"$P$22","v":0},"",null,null,null,null,null,null,"","WHOLE FROZ RAW SHRIMP",{"$f":"IF($P$22=0, \"\", $I$72)","v":""},null,{"$f":"$P$22","v":0},"",null,null,null,null,null,null,"","WHOLE FROZ RAW SHRIMP",{"$f":"IF($P$22=0, \"\", $I$73)","v":""},null,{"$f":"$P$22","v":0},"",null,null,null,null,null,null,""]
[246,"HERRING STEAKED (SARDINES)",{"$f":"IF($Q$22=0, \"\", $J$71)","v":""},null,{"$f":"$Q$22","v":0},"",null,null,null,null,null,null,"","HERRING STEAKED (SARDINES)",{"$f":"IF($Q$22=0, \"\", $J$72)","v":""},null,{"$f":"$Q$22","v":0},"",null,null,null,null,null,null,"","HERRING STEAKED (SARDINES)",{"$f":"IF($Q$22=0, \"\", $J$73)","v":""},null,{"$f":"$Q$22","v":0},"",null,null,null,null,null,null,""]
[247,"OYSTERS HS",{"$f":"IF($R$22=0, \"\", $K$71)","v":""},null,{"$f":"$R$22","v":0},"",null,null,null,null,null,null,"","OYSTERS HS",{"$f":"IF($R$22=0, \"\", $K$72)","v":""},null,{"$f":"$R$22","v":0},"",null,null,null,null,null,null,"","OYSTERS HS",{"$f":"IF($R$22=0, \"\", $K$73)","v":""},null,{"$f":"$R$22","v":0},"",null,null,null,null,null,null,""]
[248,"FISH MEAL w/ SOLUBLES PLANT",{"$f":"IF($S$22=0, \"\", $L$71)","v":""},null,{"$f":"$S$22","v":0},"",null,null,null,null,null,null,"","FISH MEAL w/ SOLUBLES PLANT",{"$f":"IF($S$22=0, \"\", $L$72)","v":""},null,{"$f":"$S$22","v":0},"",null,null,null,null,null,null,"","FISH MEAL w/ SOLUBLES PLANT",{"$f":"IF($S$22=0, \"\", $L$73)","v":""},null,{"$f":"$S$22","v":0},"",null,null,null,null,null,null,""]
[249,"FISH MEAL NO SOL",{"$f":"IF($T$22=0, \"\", $M$71)","v":""},null,{"$f":"$T$22","v":0},"",null,null,null,null,null,null,"","FISH MEAL NO SOL",{"$f":"IF($T$22=0, \"\", $M$72)","v":""},null,{"$f":"$T$22","v":0},"",null,null,null,null,null,null,"","FISH MEAL NO SOL",{"$f":"IF($T$22=0, \"\", $M$73)","v":""},null,{"$f":"$T$22","v":0},"",null,null,null,null,null,null,""]
[250,"CLAM HS",{"$f":"IF($U$22=0, \"\", $N$71)","v":""},null,{"$f":"$U$22","v":0},"",null,null,null,null,null,null,"","CLAM HS",{"$f":"IF($U$22=0, \"\", $N$72)","v":""},null,{"$f":"$U$22","v":0},"",null,null,null,null,null,null,"","CLAM HS",{"$f":"IF($U$22=0, \"\", $N$73)","v":""},null,{"$f":"$U$22","v":0},"",null,null,null,null,null,null,""]
[251,"CLAM MECH",{"$f":"IF($V$22=0, \"\", $O$71)","v":""},null,{"$f":"$V$22","v":0},"",null,null,null,null,null,null,"","CLAM MECH",{"$f":"IF($V$22=0, \"\", $O$72)","v":""},null,{"$f":"$V$22","v":0},"",null,null,null,null,null,null,"","CLAM MECH",{"$f":"IF($V$22=0, \"\", $O$73)","v":""},null,{"$f":"$V$22","v":0},"",null,null,null,null,null,null,""]
[252,"BREADED SHRIMP",{"$f":"IF($W$22=0, \"\", $P$71)","v":""},null,{"$f":"$W$22","v":0},"",null,null,null,null,null,null,"","BREADED SHRIMP",{"$f":"IF($W$22=0, \"\", $P$72)","v":""},null,{"$f":"$W$22","v":0},"",null,null,null,null,null,null,"","BREADED SHRIMP",{"$f":"IF($W$22=0, \"\", $P$73)","v":""},null,{"$f":"$W$22","v":0},"",null,null,null,null,null,null,""]
[253,"TUNA-CANNED",{"$f":"IF($X$22=0, \"\", $Q$71)","v":""},null,{"$f":"$X$22","v":0},"",null,null,null,null,null,null,"","TUNA-CANNED",{"$f":"IF($X$22=0, \"\", $Q$72)","v":""},null,{"$f":"$X$22","v":0},"",null,null,null,null,null,null,"","TUNA-CANNED",{"$f":"IF($X$22=0, \"\", $Q$73)","v":""},null,{"$f":"$X$22","v":0},"",null,null,null,null,null,null,""]
[254,"OYSTERS CANNED",{"$f":"IF($Y$22=0, \"\", $R$71)","v":""},null,{"$f":"$Y$22","v":0},"",null,null,null,null,null,null,"","OYSTERS CANNED",{"$f":"IF($Y$22=0, \"\", $R$72)","v":""},null,{"$f":"$Y$22","v":0},"",null,null,null,null,null,null,"","OYSTERS CANNED",{"$f":"IF($Y$22=0, \"\", $R$73)","v":""},null,{"$f":"$Y$22","v":0},"",null,null,null,null,null,null,""]
[255,"SARDINES CANNED DRY TRANSPORT",{"$f":"IF($Z$22=0, \"\", $S$71)","v":""},null,{"$f":"$Z$22","v":0},"",null,null,null,null,null,null,"","SARDINES CANNED DRY TRANSPORT",{"$f":"IF($Z$22=0, \"\", $S$72)","v":""},null,{"$f":"$Z$22","v":0},"",null,null,null,null,null,null,"","SARDINES CANNED DRY TRANSPORT",{"$f":"IF($Z$22=0, \"\", $S$73)","v":""},null,{"$f":"$Z$22","v":0},"",null,null,null,null,null,null,""]
[256,"SARDINES CANNED FLUMED",{"$f":"IF($AA$22=0, \"\", $T$71)","v":""},null,{"$f":"$AA$22","v":0},"",null,null,null,null,null,null,"","SARDINES CANNED FLUMED",{"$f":"IF($AA$22=0, \"\", $T$72)","v":""},null,{"$f":"$AA$22","v":0},"",null,null,null,null,null,null,"","SARDINES CANNED FLUMED",{"$f":"IF($AA$22=0, \"\", $T$73)","v":""},null,{"$f":"$AA$22","v":0},"",null,null,null,null,null,null,""]
[257,"SCALLOPS",{"$f":"IF($AB$22=0, \"\", $U$71)","v":""},null,{"$f":"$AB$22","v":0},"",null,null,null,null,null,null,"","SCALLOPS",{"$f":"IF($AB$22=0, \"\", $U$72)","v":""},null,{"$f":"$AB$22","v":0},"",null,null,null,null,null,null,"","SCALLOPS",{"$f":"IF($AB$22=0, \"\", $U$73)","v":""},null,{"$f":"$AB$22","v":0},"",null,null,null,null,null,null,""]
[258]
[259,"Sum",{"$f":"SUM(C239:C257)","v":0},null,{"$f":"SUM(E239:E257)","v":0},0,null,null,null,null,null,null,null,"Sum",{"$f":"SUM(O239:O257)","v":0},null,{"$f":"SUM(Q239:Q257)","v":0},0,null,null,null,null,null,null,null,"Sum",{"$f":"SUM(AA239:AA257)","v":0},null,{"$f":"SUM(AC239:AC257)","v":0},0]
[260]
[261,"Sample Day 9                                       BOD","BOD Daily Max TBEL             #/1000-#",null,"Production POUNDS","Pounds of pollutant allowed",null,null,null,null,"Total Load #/1000-#","BOD Daily Max TBEL                        #/1000-#","Compliance                       YES /NO","Sample Day 9                                       TSS","TSS Daily Max TBEL                        #/1000-#",null,"Production POUNDS","Pounds of pollutant allowed",null,null,null,null,"Total Load #/1000-#","TSS Daily Max TBEL                        #/1000-#","Compliance                     YES/ NO","Sample Day 9                                      O&G","O&G Daily Max TBEL                   #/1000-#",null,"Production POUNDS","Pounds of pollutant allowed",null,null,null,null,"Total Load #/1000-#","O&G Daily Max TBEL                        #/1000-#","Compliance     YES / NO"]
[262,"CRAB",{"$f":"IF($J$24=0, \"\", $C$71)","v":""},null,{"$f":"$J$24","v":0},{"$f":"IFERROR(C262*E262/1000,\"\")","v":""},null,null,null,null,{"$f":"IFERROR(I42,\"\")","v":0},{"$f":"IFERROR(F282/(E282/1000),\"\")","v":""},{"$f":"IF(L262=\"\", \"\", IF(L262=0, \"\", IF(K262=0, \"\", IF(K262<L262, \"YES\",\"NO\"))))","v":""},"CRAB",{"$f":"IF($J$24=0, \"\", $C$72)","v":""},null,{"$f":"$J$24","v":0},{"$f":"IFERROR(O262*Q262/1000,\"\")","v":""},null,null,null,null,{"$f":"IFERROR(I53,\"\")","v":0},{"$f":"IFERROR(R282/(Q282/1000),\"\")","v":""},{"$f":"IF(X262=\"\", \"\", IF(X262=0, \"\", IF(W262=0, \"\", IF(W262<X262, \"YES\",\"NO\"))))","v":""},"CRAB",{"$f":"IF($J$24=0, \"\", $C$73)","v":""},null,{"$f":"$J$24","v":0},{"$f":"IFERROR(AA262*AC262/1000,\"\")","v":""},null,null,null,null,{"$f":"IFERROR(I64,\"\")","v":0},{"$f":"IFERROR(AD282/(AC282/1000),\"\")","v":""},{"$f":"IF(AJ262=\"\", \"\", IF(AJ262=0, \"\", IF(AI262=0, \"\", IF(AI262<AJ262, \"YES\",\"NO\"))))","v":""}]
[263,"SHRIMP",{"$f":"IF($K$24=0, \"\", $D$71)","v":""},null,{"$f":"$K$24","v":0},{"$f":"IFERROR(C263*E263/1000,\"\")","v":""},null,null,null,null,null,null,"","SHRIMP",{"$f":"IF($K$24=0, \"\", $D$72)","v":""},null,{"$f":"$K$24","v":0},{"$f":"IFERROR(O263*Q263/1000,\"\")","v":""},null,null,null,null,null,null,"","SHRIMP",{"$f":"IF($K$24=0, \"\", $D$73)","v":""},null,{"$f":"$K$24","v":0},{"$f":"IFERROR(AA263*AC263/1000,\"\")","v":""},null,null,null,null,null,null,""]
[264,"BF CONV",{"$f":"IF($L$24=0, \"\", $E$71)","v":""},null,{"$f":"$L$24","v":0},{"$f":"IFERROR(C264*E264/1000,\"\")","v":""},null,null,null,null,null,null,"","BF CONV",{"$f":"IF($L$24=0, \"\", $E$72)","v":""},null,{"$f":"$L$24","v":0},{"$f":"IFERROR(O264*Q264/1000,\"\")","v":""},null,null,null,null,null,null,"","BF CONV",{"$f":"IF($L$24=0, \"\", $E$73)","v":""},null,{"$f":"$L$24","v":0},{"$f":"IFERROR(AA264*AC264/1000,\"\")","v":""},null,null,null,null,null,null,""]
[265,"BF MECH",{"$f":"IF($M$24=0, \"\", $F$71)","v":""},null,{"$f":"$M$24","v":0},"",null,null,null,null,null,null,"","BF MECH",{"$f":"IF($M$24=0, \"\", $F$72)","v":""},null,{"$f":"$M$24","v":0},"",null,null,null,null,null,null,"","BF MECH",{"$f":"IF($M$24=0, \"\", $F$73)","v":""},null,{"$f":"$M$24","v":0},"",null,null,null,null,null,null,""]
[266,"SALMON HB",{"$f":"IF($N$24=0, \"\", $G$71)","v":""},null,{"$f":"$N$24","v":0},"",null,null,null,null,null,null,"","SALMON HB",{"$f":"IF($N$24=0, \"\", $G$72)","v":""},null,{"$f":"$N$24","v":0},"",null,null,null,null,null,null,"","SALMON HB",{"$f":"IF($N$24=0, \"\", $G$73)","v":""},null,{"$f":"$N$24","v":0},"",null,null,null,null,null,null,""]
[267,"SALMON MECH",{"$f":"IF($O$24=0, \"\", $H$71)","v":""},null,{"$f":"$O$24","v":0},"",null,null,null,null,null,null,"","SALMON MECH",{"$f":"IF($O$24=0, \"\", $H$72)","v":""},null,{"$f":"$O$24","v":0},"",null,null,null,null,null,null,"","SALMON MECH",{"$f":"IF($O$24=0, \"\", $H$73)","v":""},null,{"$f":"$O$24","v":0},"",null,null,null,null,null,null,""]
[268,"WHOLE FROZ RAW SHRIMP",{"$f":"IF($P$24=0, \"\", $I$71)","v":""},null,{"$f":"$P$24","v":0},"",null,null,null,null,null,null,"","WHOLE FROZ RAW SHRIMP",{"$f":"IF($P$24=0, \"\", $I$72)","v":""},null,{"$f":"$P$24","v":0},"",null,null,null,null,null,null,"","WHOLE FROZ RAW SHRIMP",{"$f":"IF($P$24=0, \"\", $I$73)","v":""},null,{"$f":"$P$24","v":0},"",null,null,null,null,null,null,""]
[269,"HERRING STEAKED (SARDINES)",{"$f":"IF($Q$24=0, \"\", $J$71)","v":""},null,{"$f":"$Q$24","v":0},"",null,null,null,null,null,null,"","HERRING STEAKED (SARDINES)",{"$f":"IF($Q$24=0, \"\", $J$72)","v":""},null,{"$f":"$Q$24","v":0},"",null,null,null,null,null,null,"","HERRING STEAKED (SARDINES)",{"$f":"IF($Q$24=0, \"\", $J$73)","v":""},null,{"$f":"$Q$24","v":0},"",null,null,null,null,null,null,""]
[270,"OYSTERS HS",{"$f":"IF($R$24=0, \"\", $K$71)","v":""},null,{"$f":"$R$24","v":0},"",null,null,null,null,null,null,"","OYSTERS HS",{"$f":"IF($R$24=0, \"\", $K$72)","v":""},null,{"$f":"$R$24","v":0},"",null,null,null,null,null,null,"","OYSTERS HS",{"$f":"IF($R$24=0, \"\", $K$73)","v":""},null,{"$f":"$R$24","v":0},"",null,null,null,null,null,null,""]
[271,"FISH MEAL w/ SOLUBLES PLANT",{"$f":"IF($S$24=0, \"\", $L$71)","v":""},null,{"$f":"$S$24","v":0},"",null,null,null,null,null,null,"","FISH MEAL w/ SOLUBLES PLANT",{"$f":"IF($S$24=0, \"\", $L$72)","v":""},null,{"$f":"$S$24","v":0},"",null,null,null,null,null,null,"","FISH MEAL w/ SOLUBLES PLANT",{"$f":"IF($S$24=0, \"\", $L$73)","v":""},null,{"$f":"$S$24","v":0},"",null,null,null,null,null,null,""]
[272,"FISH MEAL NO SOL",{"$f":"IF($T$24=0, \"\", $M$71)","v":""},null,{"$f":"$T$24","v":0},"",null,null,null,null,null,null,"","FISH MEAL NO SOL",{"$f":"IF($T$24=0, \"\", $M$72)","v":""},null,{"$f":"$T$24","v":0},"",null,null,null,null,null,null,"","FISH MEAL NO SOL",{"$f":"IF($T$24=0, \"\", $M$73)","v":""},null,{"$f":"$T$24","v":0},"",null,null,null,null,null,null,""]
[273,"CLAM HS",{"$f":"IF($U$24=0, \"\", $N$71)","v":""},null,{"$f":"$U$24","v":0},"",null,null,null,null,null,null,"","CLAM HS",{"$f":"IF($U$24=0, \"\", $N$72)","v":""},null,{"$f":"$U$24","v":0},"",null,null,null,null,null,null,"","CLAM HS",{"$f":"IF($U$24=0, \"\", $N$73)","v":""},null,{"$f":"$U$24","v":0},"",null,null,null,null,null,null,""]
[274,"CLAM MECH",{"$f":"IF($V$24=0, \"\", $O$71)","v":""},null,{"$f":"$V$24","v":0},"",null,null,null,null,null,null,"","CLAM MECH",{"$f":"IF($V$24=0, \"\", $O$72)","v":""},null,{"$f":"$V$24","v":0},"",null,null,null,null,null,null,"","CLAM MECH",{"$f":"IF($V$24=0, \"\", $O$73)","v":""},null,{"$f":"$V$24","v":0},"",null,null,null,null,null,null,""]
[275,"BREADED SHRIMP",{"$f":"IF($W$24=0, \"\", $P$71)","v":""},null,{"$f":"$W$24","v":0},"",null,null,null,null,null,null,"","BREADED SHRIMP",{"$f":"IF($W$24=0, \"\", $P$72)","v":""},null,{"$f":"$W$24","v":0},"",null,null,null,null,null,null,"","BREADED SHRIMP",{"$f":"IF($W$24=0, \"\", $P$73)","v":""},null,{"$f":"$W$24","v":0},"",null,null,null,null,null,null,""]
[276,"TUNA-CANNED",{"$f":"IF($X$24=0, \"\", $Q$71)","v":""},null,{"$f":"$X$24","v":0},"",null,null,null,null,null,null,"","TUNA-CANNED",{"$f":"IF($X$24=0, \"\", $Q$72)","v":""},null,{"$f":"$X$24","v":0},"",null,null,null,null,null,null,"","TUNA-CANNED",{"$f":"IF($X$24=0, \"\", $Q$73)","v":""},null,{"$f":"$X$24","v":0},"",null,null,null,null,null,null,""]
[277,"OYSTERS CANNED",{"$f":"IF($Y$24=0, \"\", $R$71)","v":""},null,{"$f":"$Y$24","v":0},"",null,null,null,null,null,null,"","OYSTERS CANNED",{"$f":"IF($Y$24=0, \"\", $R$72)","v":""},null,{"$f":"$Y$24","v":0},"",null,null,null,null,null,null,"","OYSTERS CANNED",{"$f":"IF($Y$24=0, \"\", $R$73)","v":""},null,{"$f":"$Y$24","v":0},"",null,null,null,null,null,null,""]
[278,"SARDINES CANNED DRY TRANSPORT",{"$f":"IF($Z$24=0, \"\", $S$71)","v":""},null,{"$f":"$Z$24","v":0},"",null,null,null,null,null,null,"","SARDINES CANNED DRY TRANSPORT",{"$f":"IF($Z$24=0, \"\", $S$72)","v":""},null,{"$f":"$Z$24","v":0},"",null,null,null,null,null,null,"","SARDINES CANNED DRY TRANSPORT",{"$f":"IF($Z$24=0, \"\", $S$73)","v":""},null,{"$f":"$Z$24","v":0},"",null,null,null,null,null,null,""]
[279,"SARDINES CANNED FLUMED",{"$f":"IF($AA$24=0, \"\", $T$71)","v":""},null,{"$f":"$AA$24","v":0},"",null,null,null,null,null,null,"","SARDINES CANNED FLUMED",{"$f":"IF($AA$24=0, \"\", $T$72)","v":""},null,{"$f":"$AA$24","v":0},"",null,null,null,null,null,null,"","SARDINES CANNED FLUMED",{"$f":"IF($AA$24=0, \"\", $T$73)","v":""},null,{"$f":"$AA$24","v":0},"",null,null,null,null,null,null,""]
[280,"SCALLOPS",{"$f":"IF($AB$24=0, \"\", $U$71)","v":""},null,{"$f":"$AB$24","v":0},"",null,null,null,null,null,null,"","SCALLOPS",{"$f":"IF($AB$24=0, \"\", $U$72)","v":""},null,{"$f":"$AB$24","v":0},"",null,null,null,null,null,null,"","SCALLOPS",{"$f":"IF($AB$24=0, \"\", $U$73)","v":""},null,{"$f":"$AB$24","v":0},"",null,null,null,null,null,null,""]
[281]
[282,"Sum",{"$f":"SUM(C262:C280)","v":0},null,{"$f":"SUM(E262:E280)","v":0},0,null,null,null,null,null,null,null,"Sum",{"$f":"SUM(O262:O280)","v":0},null,{"$f":"SUM(Q262:Q280)","v":0},0,null,null,null,null,null,null,null,"Sum",{"$f":"SUM(AA262:AA280)","v":0},null,{"$f":"SUM(AC262:AC280)","v":0},0]
[283]
[284,"Sample Day 10                                      BOD","BOD Daily Max TBEL             #/1000-#",null,"Production POUNDS","Pounds of pollutant allowed",null,null,null,null,"Total Load #/1000-#","BOD Daily Max TBEL                        #/1000-#","Compliance                       YES /NO","Sample Day 10                                       TSS","TSS Daily Max TBEL                        #/1000-#",null,"Production POUNDS","Pounds of pollutant allowed",null,null,null,null,"Total Load #/1000-#","TSS Daily Max TBEL                        #/1000-#","Compliance                       YES/ NO","Sample Day 10                                       O&G","O&G Daily Max TBEL                   #/1000-#",null,"Production POUNDS","Pounds of pollutant allowed",null,null,null,null,"Total Load #/1000-#","O&G Daily Max TBEL                        #/1000-#","Compliance     YES / NO"]
[285,"CRAB",{"$f":"IF($J$26=0, \"\", $C$71)","v":""},null,{"$f":"$J$26","v":0},{"$f":"IFERROR(C285*E285/1000,\"\")","v":""},null,null,null,null,{"$f":"IFERROR(I43,\"\")","v":0},{"$f":"IFERROR(F305/(E305/1000),\"\")","v":""},{"$f":"IF(L285=\"\", \"\", IF(L285=0, \"\", IF(K285=0, \"\", IF(K285<L285, \"YES\",\"NO\"))))","v":""},"CRAB",{"$f":"IF($J$26=0, \"\", $C$72)","v":""},null,{"$f":"$J$26","v":0},{"$f":"IFERROR(O285*Q285/1000,\"\")","v":""},null,null,null,null,{"$f":"IFERROR(I54,\"\")","v":0},{"$f":"IFERROR(R305/(Q305/1000),\"\")","v":""},{"$f":"IF(X285=\"\", \"\", IF(X285=0, \"\", IF(W285=0, \"\", IF(W285<X285, \"YES\",\"NO\"))))","v":""},"CRAB",{"$f":"IF($J$26=0, \"\", $C$73)","v":""},null,{"$f":"$J$26","v":0},{"$f":"IFERROR(AA285*AC285/1000,\"\")","v":""},null,null,null,null,{"$f":"IFERROR(I65,\"\")","v":0},{"$f":"IFERROR(AD305/(AC305/1000),\"\")","v":""},{"$f":"IF(AJ285=\"\", \"\", IF(AJ285=0, \"\", IF(AI285=0, \"\", IF(AI285<AJ285, \"YES\",\"NO\"))))","v":""}]
[286,"SHRIMP",{"$f":"IF($K$26=0, \"\", $D$71)","v":""},null,{"$f":"$K$26","v":0},{"$f":"IFERROR(C286*E286/1000,\"\")","v":""},null,null,null,null,null,null,"","SHRIMP",{"$f":"IF($K$26=0, \"\", $D$72)","v":""},null,{"$f":"$K$26","v":0},{"$f":"IFERROR(O286*Q286/1000,\"\")","v":""},null,null,null,null,null,null,"","SHRIMP",{"$f":"IF($K$26=0, \"\", $D$73)","v":""},null,{"$f":"$K$26","v":0},{"$f":"IFERROR(AA286*AC286/1000,\"\")","v":""},null,null,null,null,null,null,""]
[287,"BF CONV",{"$f":"IF($L$26=0, \"\", $E$71)","v":""},null,{"$f":"$L$26","v":0},{"$f":"IFERROR(C287*E287/1000,\"\")","v":""},null,null,null,null,null,null,"","BF CONV",{"$f":"IF($L$26=0, \"\", $E$72)","v":""},null,{"$f":"$L$26","v":0},{"$f":"IFERROR(O287*Q287/1000,\"\")","v":""},null,null,null,null,null,null,"","BF CONV",{"$f":"IF($L$26=0, \"\", $E$73)","v":""},null,{"$f":"$L$26","v":0},{"$f":"IFERROR(AA287*AC287/1000,\"\")","v":""},null,null,null,null,null,null,""]
[288,"BF MECH",{"$f":"IF($M$26=0, \"\", $F$71)","v":""},null,{"$f":"$M$26","v":0},"",null,null,null,null,null,null,"","BF MECH",{"$f":"IF($M$26=0, \"\", $F$72)","v":""},null,{"$f":"$M$26","v":0},"",null,null,null,null,null,null,"","BF MECH",{"$f":"IF($M$26=0, \"\", $F$73)","v":""},null,{"$f":"$M$26","v":0},"",null,null,null,null,null,null,""]
[289,"SALMON HB",{"$f":"IF($N$26=0, \"\", $G$71)","v":""},null,{"$f":"$N$26","v":0},"",null,null,null,null,null,null,"","SALMON HB",{"$f":"IF($N$26=0, \"\", $G$72)","v":""},null,{"$f":"$N$26","v":0},"",null,null,null,null,null,null,"","SALMON HB",{"$f":"IF($N$26=0, \"\", $G$73)","v":""},null,{"$f":"$N$26","v":0},"",null,null,null,null,null,null,""]
[290,"SALMON MECH",{"$f":"IF($O$26=0, \"\", $H$71)","v":""},null,{"$f":"$O$26","v":0},"",null,null,null,null,null,null,"","SALMON MECH",{"$f":"IF($O$26=0, \"\", $H$72)","v":""},null,{"$f":"$O$26","v":0},"",null,null,null,null,null,null,"","SALMON MECH",{"$f":"IF($O$26=0, \"\", $H$73)","v":""},null,{"$f":"$O$26","v":0},"",null,null,null,null,null,null,""]
[291,"WHOLE FROZ RAW SHRIMP",{"$f":"IF($P$26=0, \"\", $I$71)","v":""},null,{"$f":"$P$26","v":0},"",null,null,null,null,null,null,"","WHOLE FROZ RAW SHRIMP",{"$f":"IF($P$26=0, \"\", $I$72)","v":""},null,{"$f":"$P$26","v":0},"",null,null,null,null,null,null,"","WHOLE FROZ RAW SHRIMP",{"$f":"IF($P$26=0, \"\", $I$73)","v":""},null,{"$f":"$P$26","v":0},"",null,null,null,null,null,null,""]
[292,"HERRING STEAKED (SARDINES)",{"$f":"IF($Q$26=0, \"\", $J$71)","v":""},null,{"$f":"$Q$26","v":0},"",null,null,null,null,null,null,"","HERRING STEAKED (SARDINES)",{"$f":"IF($Q$26=0, \"\", $J$72)","v":""},null,{"$f":"$Q$26","v":0},"",null,null,null,null,null,null,"","HERRING STEAKED (SARDINES)",{"$f":"IF($Q$26=0, \"\", $J$73)","v":""},null,{"$f":"$Q$26","v":0},"",null,null,null,null,null,null,""]
[293,"OYSTERS HS",{"$f":"IF($R$26=0, \"\", $K$71)","v":""},null,{"$f":"$R$26","v":0},"",null,null,null,null,null,null,"","OYSTERS HS",{"$f":"IF($R$26=0, \"\", $K$72)","v":""},null,{"$f":"$R$26","v":0},"",null,null,null,null,null,null,"","OYSTERS HS",{"$f":"IF($R$26=0, \"\", $K$73)","v":""},null,{"$f":"$R$26","v":0},"",null,null,null,null,null,null,""]
[294,"FISH MEAL w/ SOLUBLES PLANT",{"$f":"IF($S$26=0, \"\", $L$71)","v":""},null,{"$f":"$S$26","v":0},"",null,null,null,null,null,null,"","FISH MEAL w/ SOLUBLES PLANT",{"$f":"IF($S$26=0, \"\", $L$72)","v":""},null,{"$f":"$S$26","v":0},"",null,null,null,null,null,null,"","FISH MEAL w/ SOLUBLES PLANT",{"$f":"IF($S$26=0, \"\", $L$73)","v":""},null,{"$f":"$S$26","v":0},"",null,null,null,null,null,null,""]
[295,"FISH MEAL NO SOL",{"$f":"IF($T$26=0, \"\", $M$71)","v":""},null,{"$f":"$T$26","v":0},"",null,null,null,null,null,null,"","FISH MEAL NO SOL",{"$f":"IF($T$26=0, \"\", $M$72)","v":""},null,{"$f":"$T$26","v":0},"",null,null,null,null,null,null,"","FISH MEAL NO SOL",{"$f":"IF($T$26=0, \"\", $M$73)","v":""},null,{"$f":"$T$26","v":0},"",null,null,null,null,null,null,""]
[296,"CLAM HS",{"$f":"IF($U$26=0, \"\", $N$71)","v":""},null,{"$f":"$U$26","v":0},"",null,null,null,null,null,null,"","CLAM HS",{"$f":"IF($U$26=0, \"\", $N$72)","v":""},null,{"$f":"$U$26","v":0},"",null,null,null,null,null,null,"","CLAM HS",{"$f":"IF($U$26=0, \"\", $N$73)","v":""},null,{"$f":"$U$26","v":0},"",null,null,null,null,null,null,""]
[297,"CLAM MECH",{"$f":"IF($V$26=0, \"\", $O$71)","v":""},null,{"$f":"$V$26","v":0},"",null,null,null,null,null,null,"","CLAM MECH",{"$f":"IF($V$26=0, \"\", $O$72)","v":""},null,{"$f":"$V$26","v":0},"",null,null,null,null,null,null,"","CLAM MECH",{"$f":"IF($V$26=0, \"\", $O$73)","v":""},null,{"$f":"$V$26","v":0},"",null,null,null,null,null,null,""]
[298,"BREADED SHRIMP",{"$f":"IF($W$26=0, \"\", $P$71)","v":""},null,{"$f":"$W$26","v":0},"",null,null,null,null,null,null,"","BREADED SHRIMP",{"$f":"IF($W$26=0, \"\", $P$72)","v":""},null,{"$f":"$W$26","v":0},"",null,null,null,null,null,null,"","BREADED SHRIMP",{"$f":"IF($W$26=0, \"\", $P$73)","v":""},null,{"$f":"$W$26","v":0},"",null,null,null,null,null,null,""]
[299,"TUNA-CANNED",{"$f":"IF($X$26=0, \"\", $Q$71)","v":""},null,{"$f":"$X$26","v":0},"",null,null,null,null,null,null,"","TUNA-CANNED",{"$f":"IF($X$26=0, \"\", $Q$72)","v":""},null,{"$f":"$X$26","v":0},"",null,null,null,null,null,null,"","TUNA-CANNED",{"$f":"IF($X$26=0, \"\", $Q$73)","v":""},null,{"$f":"$X$26","v":0},"",null,null,null,null,null,null,""]
[300,"OYSTERS CANNED",{"$f":"IF($Y$26=0, \"\", $R$71)","v":""},null,{"$f":"$Y$26","v":0},"",null,null,null,null,null,null,"","OYSTERS CANNED",{"$f":"IF($Y$26=0, \"\", $R$72)","v":""},null,{"$f":"$Y$26","v":0},"",null,null,null,null,null,null,"","OYSTERS CANNED",{"$f":"IF($Y$26=0, \"\", $R$73)","v":""},null,{"$f":"$Y$26","v":0},"",null,null,null,null,null,null,""]
[301,"SARDINES CANNED DRY TRANSPORT",{"$f":"IF($Z$26=0, \"\", $S$71)","v":""},null,{"$f":"$Z$26","v":0},"",null,null,null,null,null,null,"","SARDINES CANNED DRY TRANSPORT",{"$f":"IF($Z$26=0, \"\", $S$72)","v":""},null,{"$f":"$Z$26","v":0},"",null,null,null,null,null,null,"","SARDINES CANNED DRY TRANSPORT",{"$f":"IF($Z$26=0, \"\", $S$73)","v":""},null,{"$f":"$Z$26","v":0},"",null,null,null,null,null,null,""]
[302,"SARDINES CANNED FLUMED",{"$f":"IF($AA$26=0, \"\", $T$71)","v":""},null,{"$f":"$AA$26","v":0},"",null,null,null,null,null,null,"","SARDINES CANNED FLUMED",{"$f":"IF($AA$26=0, \"\", $T$72)","v":""},null,{"$f":"$AA$26","v":0},"",null,null,null,null,null,null,"","SARDINES CANNED FLUMED",{"$f":"IF($AA$26=0, \"\", $T$73)","v":""},null,{"$f":"$AA$26","v":0},"",null,null,null,null,null,null,""]
[303,"SCALLOPS",{"$f":"IF($AB$26=0, \"\", $U$71)","v":""},null,{"$f":"$AB$26","v":0},"",null,null,null,null,null,null,"","SCALLOPS",{"$f":"IF($AB$26=0, \"\", $U$72)","v":""},null,{"$f":"$AB$26","v":0},"",null,null,null,null,null,null,"","SCALLOPS",{"$f":"IF($AB$26=0, \"\", $U$73)","v":""},null,{"$f":"$AB$26","v":0},"",null,null,null,null,null,null,""]
[304]
[305,"Sum",{"$f":"SUM(C285:C303)","v":0},null,{"$f":"SUM(E285:E303)","v":0},0,null,null,null,null,null,null,null,"Sum",{"$f":"SUM(O285:O303)","v":0},null,{"$f":"SUM(Q285:Q303)","v":0},0,null,null,null,null,null,null,null,"Sum",{"$f":"SUM(AA285:AA303)","v":0},null,{"$f":"SUM(AC285:AC303)","v":0},0]
[306]
[307]
[308]
[309]
[310,6,"RECAP MO-AVG TBELS HERE (EXTG) BY PARAMETER & SPECIES/PROCESS-TYPE",null,null,null,null,null,null,null,null,null,"RECAP TBELS HERE BY PARAMETER & SPECIES/PROCESS-TYPE"]
[311,"B","C","D","E","F","G","H","I","J","K","L","M","N","O","P","Q","R","S","T","U",null,{"$f":"COUNTIF(W78:W285,\">0\")","v":0}]
[312,"PARAMETER","CRAB"," N.SHRIMP","BFC        BOTTOM FISH CONV"," BFM      BOTTOM FISH MECH","SALMON HB"," SALMON MECH","BPJ           WHOLE FROZEN RAW SHRIMP"," HERRING  (Sardine Steaked)","OYSTER HAND SHUCKED   (BCT)","FISH MEAL     (WITH Solubles plant)","FISH MEAL      (NO Solubles plant)","CLAM HAND SHUCKED","CLAM MECHANICAL","BREADED SHRIMP CONTIGUOUS STATES","TUNA     CANNED","OYSTER  STEAMED & CANNED","SARDINES CANNED  DRY TRANSPORT"," SARDINES CANNED   FLUMED","SCALLOP       (BCT)",{"$f":"W78+W101+W124+W147+W170+W193+W216+W239+W262+W285","v":0},{"$f":"COUNT(W78,W101,W124,W147,W170,W193,W216,W239,W262,W285)","v":10}]
[313,"BOD - Mo Avg",null,null,null,null,null,null,null,null,null,3.9,2.8,null,null,null,null,null,null,null,null,31.24481195144724]
[314,"TSS - Mo Avg",2.7,54,2,12,1.6,26,16,24,36,1.5,1.7,18,15,93,3.3,190,10,16,1.4]
[315,"O&G Mo Avg",0.61,42,0.55000000000000004,3.9,0.19,11,12,10,1.7,0.76,1.4,0.23,0.97,12,0.84,1.7,1.4,2.8,0.23]
[316]
[317]
[318,"B","C","D","E","F","G","H","I","J","K","L","M","N","O","P","Q","R","S","T","U","V","W","X","Y","Z","AA","AB","AC","AD","AE","AF","AG","AH","AI","AJ","AK"]
[319,7,"CALCULATIONS PERFORMED AUTOMATICALLY.  DO NOT ENTER ANYTHING HERE.                                                                                                                                                                              SPREADSHEET WILL ALLOCATE LOAD BY SPECIES AND TOTAL POUNDS/MONTH,  MONTHLY AVERAGE TBEL.                                                                                                                                        DIRECT COMPARE TO TBEL FOR COMPLIANCE",null,null,null,null,null,null,null,null,null,null,"CALCULATIONS PERFORMED AUTOMATICALLY.  DO NOT ENTER ANYTHING HERE.                                                                                                                                                                                                     SPREADSHEET WILL ALLOCATE LOAD BY SPECIES AND TOTAL POUNDS/MONTH,  MONTHLY AVERAGE TBEL.                                                                                                                                                                                DIRECT COMPARE TO TBEL FOR COMPLIANCE",null,null,null,null,null,null,null,null,null,null,null,"CALCULATIONS PERFORMED AUTOMATICALLY.  DO NOT ENTER ANYTHING HERE.                                                                                                                                               SPREADSHEET WILL ALLOCATE LOAD BY SPECIES AND TOTAL POUNDS/MONTH,  MONTHLY AVERAGE TBEL.                                                                                                                                                  DIRECT COMPARE TO TBEL FOR COMPLIANCE"]
[320,"MONTHLY AVERAGE                                     BOD","BOD                            MO AVG TBEL                  # /1000-#",null,"Total Production per Species (1000-#)","Allowed mass per species",null,null,null,null,"Monthly Average Load per Day","Monthly TBEL                    #/ 1000-#","Compliance                                YES /NO","MONTHLY AVERAGE                                   TSS","TSS MO AVG TBEL                     # /1000-#",null,"Total Production per Species (#)","Allowed mass per species",null,null,null,null,"Monthly Average Load per Day","Monthly TBEL                    #/ 1000-#","Compliance                         YES/ NO","MONTHLY AVERAGE                                  O&G","O&G MO AVG TBEL                                       # /1000-#",null,"Total Production per Species (1000-#)","Allowed mass per species",null,null,null,null,"Monthly Average Load per Day","Monthly TBEL                    #/ 1000-#","Compliance     YES / NO"]
[321,"CRAB",{"$f":"IF($J$28=\"\", \"\",IF($J$28=0,\"\", $C$313))","v":""},null,{"$f":"E78+E101+E124+E147+E170+E193+E216+E239+E262+E285","v":0},{"$f":"IFERROR(C321*E321/1000,\"\")","v":""},null,null,null,null,{"$f":"IFERROR((K78+K101+K124+K147+K170+K193+K216+K239+K262+K285)/COUNTIF(K78:K285,\">0\"),\"\")","v":""},{"$f":"IFERROR(F341/(E341/1000),\"\")","v":""},{"$f":"IF(L321=\"\", \"\",IF(L321=0,\"\",IF(K321=0,\"\", IF(K321<L321, \"YES\",\"NO\"))))","v":""},"CRAB",{"$f":"IF($J$28=\"\", \"\",IF($J$28=0,\"\", $C$314))","v":""},null,{"$f":"Q78+Q101+Q124+Q147+Q170+Q193+Q216+Q239+Q262+Q285","v":0},{"$f":"IFERROR(O321*Q321/1000,\"\")","v":""},null,null,null,null,{"$f":"IFERROR((W78+W101+W124+W147+W170+W193+W216+W239+W262+W285)/COUNTIF(W78:W285,\">0\"),\"\")","v":""},{"$f":"IFERROR(R341/(Q341/1000),\"\")","v":""},{"$f":"IF(X321=\"\", \"\",IF(X321=0,\"\",IF(W321=0,\"\", IF(W321<X321, \"YES\",\"NO\"))))","v":""},"CRAB",{"$f":"IF($J$28=\"\", \"\",IF($J$28=0,\"\", $C$315))","v":""},null,{"$f":"AC78+AC101+AC124+AC147+AC170+AC193+AC216+AC239+AC262+AC285","v":0},{"$f":"IFERROR(AA321*AC321/1000,\"\")","v":""},null,null,null,null,{"$f":"IFERROR((AI78+AI101+AI124+AI147+AI170+AI193+AI216+AI239+AI262+AI285)/COUNTIF(AI78:AI285,\">0\"),\"\")","v":""},{"$f":"IFERROR(AD341/(AC341/1000),\"\")","v":""},{"$f":"IF(AJ321=\"\", \"\",IF(AJ321=0,\"\",IF(AI321=0,\"\", IF(AI321<AJ321, \"YES\",\"NO\"))))","v":""}]
[322,"SHRIMP",{"$f":"IF($K$28=\"\", \"\",IF($K$28=0,\"\", $D$313))","v":""},null,{"$f":"E79+E102+E125+E148+E171+E194+E217+E240+E263+E286","v":0},{"$f":"IFERROR(C322*E322/1000,\"\")","v":""},null,null,null,null,null,null,{"$f":"IF(L322=\"\", \"\",IF(L322=0,\"\",IF(K322=0,\"\", IF(K322<L322, \"YES\",\"NO\"))))","v":""},"SHRIMP",{"$f":"IF($K$28=\"\", \"\",IF($K$28=0,\"\", $D$314))","v":""},null,{"$f":"Q79+Q102+Q125+Q148+Q171+Q194+Q217+Q240+Q263+Q286","v":0},{"$f":"IFERROR(O322*Q322/1000,\"\")","v":""},null,null,null,null,null,null,"","SHRIMP",{"$f":"IF($K$28=\"\", \"\",IF($K$28=0,\"\", $D$315))","v":""},null,{"$f":"AC79+AC102+AC125+AC148+AC171+AC194+AC217+AC240+AC263+AC286","v":0},{"$f":"IFERROR(AA322*AC322/1000,\"\")","v":""},null,null,null,null,null,null,""]
[323,"BF CONV",{"$f":"IF($L$28=\"\", \"\",IF($L$28=0,\"\", $E$313))","v":""},null,0,"",null,null,null,null,null,null,"","BF CONV",{"$f":"IF($L$28=\"\", \"\",IF($L$28=0,\"\", $E$314))","v":""},null,0,"",null,null,null,null,null,null,"","BF CONV",{"$f":"IF($L$28=\"\", \"\",IF($L$28=0,\"\", $E$315))","v":""},null,0,"",null,null,null,null,null,null,""]
[324,"BF MECH",{"$f":"IF($M$28=\"\", \"\",IF($M$28=0,\"\", $F$313))","v":""},null,0,"",null,null,null,null,null,null,"","BF MECH",{"$f":"IF($M$28=\"\", \"\",IF($M$28=0,\"\", $F$314))","v":""},null,0,"",null,null,null,null,null,null,"","BF MECH",{"$f":"IF($M$28=\"\", \"\",IF($M$28=0,\"\", $F$315))","v":""},null,0,"",null,null,null,null,null,null,""]
[325,"SALMON HB",{"$f":"IF($N$28=\"\", \"\",IF($N$28=0,\"\", $G$313))","v":""},null,0,"",null,null,null,null,null,null,"","SALMON HB",{"$f":"IF($N$28=\"\", \"\",IF($N$28=0,\"\", $G$314))","v":""},null,0,"",null,null,null,null,null,null,"","SALMON HB",{"$f":"IF($N$28=\"\", \"\",IF($N$28=0,\"\", $G$315))","v":""},null,0,"",null,null,null,null,null,null,""]
[326,"SALMON MECH",{"$f":"IF($O$28=\"\", \"\",IF($O$28=0,\"\", $H$313))","v":""},null,0,"",null,null,null,null,null,null,"","SALMON MECH",{"$f":"IF($O$28=\"\", \"\",IF($O$28=0,\"\", $H$314))","v":""},null,0,"",null,null,null,null,null,null,"","SALMON MECH",{"$f":"IF($O$28=\"\", \"\",IF($O$28=0,\"\", $H$315))","v":""},null,0,"",null,null,null,null,null,null,""]
[327,"WHOLE FROZ RAW SHRIMP",{"$f":"IF($P$28=\"\", \"\",IF($P$28=0,\"\", $I$313))","v":""},null,0,"",null,null,null,null,null,null,"","WHOLE FROZ RAW SHRIMP",{"$f":"IF($P$28=\"\", \"\",IF($P$28=0,\"\", $I$314))","v":""},null,0,"",null,null,null,null,null,null,"","WHOLE FROZ RAW SHRIMP",{"$f":"IF($P$28=\"\", \"\",IF($P$28=0,\"\", $I$315))","v":""},null,0,"",null,null,null,null,null,null,""]
[328,"HERRING STEAKED (SARDINES)",{"$f":"IF($Q$28=\"\", \"\",IF($Q$28=0,\"\", $J$313))","v":""},null,0,"",null,null,null,null,null,null,"","HERRING STEAKED (SARDINES)",{"$f":"IF($Q$28=\"\", \"\",IF($Q$28=0,\"\", $J$314))","v":""},null,0,"",null,null,null,null,null,null,"","HERRING STEAKED (SARDINES)",{"$f":"IF($Q$28=\"\", \"\",IF($Q$28=0,\"\", $J$315))","v":""},null,0,"",null,null,null,null,null,null,""]
[329,"OYSTERS HS",{"$f":"IF($R$28=\"\", \"\",IF($R$28=0,\"\", $K$313))","v":""},null,0,"",null,null,null,null,null,null,"","OYSTERS HS",{"$f":"IF($R$28=\"\", \"\",IF($R$28=0,\"\", $K$314))","v":""},null,0,"",null,null,null,null,null,null,"","OYSTERS HS",{"$f":"IF($R$28=\"\", \"\",IF($R$28=0,\"\", $K$315))","v":""},null,0,"",null,null,null,null,null,null,""]
[330,"FISH MEAL w/ SOLUBLES PLANT",{"$f":"IF($S$28=\"\", \"\",IF($S$28=0,\"\", $L$313))","v":""},null,0,"",null,null,null,null,null,null,"","FISH MEAL w/ SOLUBLES PLANT",{"$f":"IF($S$28=\"\", \"\",IF($S$28=0,\"\", $L$314))","v":""},null,0,"",null,null,null,null,null,null,"","FISH MEAL w/ SOLUBLES PLANT",{"$f":"IF($S$28=\"\", \"\",IF($S$28=0,\"\", $L$315))","v":""},null,0,"",null,null,null,null,null,null,""]
[331,"FISH MEAL NO SOL",{"$f":"IF($T$28=\"\", \"\",IF($T$28=0,\"\", $M$313))","v":""},null,0,"",null,null,null,null,null,null,"","FISH MEAL NO SOL",{"$f":"IF($T$28=\"\", \"\",IF($T$28=0,\"\", $M$314))","v":""},null,0,"",null,null,null,null,null,null,"","FISH MEAL NO SOL",{"$f":"IF($T$28=\"\", \"\",IF($T$28=0,\"\", $M$315))","v":""},null,0,"",null,null,null,null,null,null,""]
[332,"CLAM HS",{"$f":"IF($U$28=\"\", \"\",IF($U$28=0,\"\", $N$313))","v":""},null,0,"",null,null,null,null,null,null,"","CLAM HS",{"$f":"IF($U$28=\"\", \"\",IF($U$28=0,\"\", $N$314))","v":""},null,0,"",null,null,null,null,null,null,"","CLAM HS",{"$f":"IF($U$28=\"\", \"\",IF($U$28=0,\"\", $N$315))","v":""},null,0,"",null,null,null,null,null,null,""]
[333,"CLAM MECH",{"$f":"IF($V$28=\"\", \"\",IF($V$28=0,\"\", $O$313))","v":""},null,0,"",null,null,null,null,null,null,"","CLAM MECH",{"$f":"IF($V$28=\"\", \"\",IF($V$28=0,\"\", $O$314))","v":""},null,0,"",null,null,null,null,null,null,"","CLAM MECH",{"$f":"IF($V$28=\"\", \"\",IF($V$28=0,\"\", $O$315))","v":""},null,0,"",null,null,null,null,null,null,""]
[334,"BREADED SHRIMP",{"$f":"IF($W$28=\"\", \"\",IF($W$28=0,\"\", $P$313))","v":""},null,0,"",null,null,null,null,null,null,"","BREADED SHRIMP",{"$f":"IF($W$28=\"\", \"\",IF($W$28=0,\"\", $P$314))","v":""},null,0,"",null,null,null,null,null,null,"","BREADED SHRIMP",{"$f":"IF($W$28=\"\", \"\",IF($W$28=0,\"\", $P$315))","v":""},null,0,"",null,null,null,null,null,null,""]
[335,"TUNA-CANNED",{"$f":"IF($X$28=\"\", \"\",IF($X$28=0,\"\", $Q$313))","v":""},null,0,"",null,null,null,null,null,null,"","TUNA-CANNED",{"$f":"IF($X$28=\"\", \"\",IF($X$28=0,\"\", $Q$314))","v":""},null,0,"",null,null,null,null,null,null,"","TUNA-CANNED",{"$f":"IF($X$28=\"\", \"\",IF($X$28=0,\"\", $Q$315))","v":""},null,0,"",null,null,null,null,null,null,""]
[336,"OYSTERS CANNED",{"$f":"IF($Y$28=\"\", \"\",IF($Y$28=0,\"\", $R$313))","v":""},null,0,"",null,null,null,null,null,null,"","OYSTERS CANNED",{"$f":"IF($Y$28=\"\", \"\",IF($Y$28=0,\"\", $R$314))","v":""},null,0,"",null,null,null,null,null,null,"","OYSTERS CANNED",{"$f":"IF($Y$28=\"\", \"\",IF($Y$28=0,\"\", $R$315))","v":""},null,0,"",null,null,null,null,null,null,""]
[337,"SARDINES CANNED DRY TRANSPORT",{"$f":"IF($Z$28=\"\", \"\",IF($Z$28=0,\"\", $S$313))","v":""},null,0,"",null,null,null,null,null,null,"","SARDINES CANNED DRY TRANSPORT",{"$f":"IF($Z$28=\"\", \"\",IF($Z$28=0,\"\", $S$314))","v":""},null,0,"",null,null,null,null,null,null,"","SARDINES CANNED DRY TRANSPORT",{"$f":"IF($Z$28=\"\", \"\",IF($Z$28=0,\"\", $S$315))","v":""},null,0,"",null,null,null,null,null,null,""]
[338,"SARDINES CANNED FLUMED",{"$f":"IF($AA$28=\"\", \"\",IF($AA$28=0,\"\", $T$313))","v":""},null,0,"",null,null,null,null,null,null,"","SARDINES CANNED FLUMED",{"$f":"IF($AA$28=\"\", \"\",IF($AA$28=0,\"\", $T$314))","v":""},null,0,"",null,null,null,null,null,null,"","SARDINES CANNED FLUMED",{"$f":"IF($AA$28=\"\", \"\",IF($AA$28=0,\"\", $T$315))","v":""},null,0,"",null,null,null,null,null,null,""]
[339,"SCALLOPS",{"$f":"IF($AB$28=\"\", \"\",IF($AB$28=0,\"\", $U$313))","v":""},null,0,"",null,null,null,null,null,null,"","SCALLOPS",{"$f":"IF($AB$28=\"\", \"\",IF($AB$28=0,\"\", $U$314))","v":""},null,0,"",null,null,null,null,null,null,"","SCALLOPS",{"$f":"IF($AB$28=\"\", \"\",IF($AB$28=0,\"\", $U$315))","v":""},null,0,"",null,null,null,null,null,null,""]
[340,null,null,null,null,null,null,null,null,null,null,null,""]
[341,"Column Totals",null,null,{"$f":"SUM(E321:E340)","v":0},{"$f":"SUM(F321:F340)","v":0},null,null,null,null,null,null,null,"Column Totals",null,null,{"$f":"SUM(Q321:Q340)","v":0},{"$f":"SUM(R321:R340)","v":0},null,null,null,null,null,null,null,"Column Totals",null,null,{"$f":"SUM(AC321:AC340)","v":0},{"$f":"SUM(AD321:AD340)","v":0}]
[342]
[343,8,"COMPLIANCE SORT FOR REPORTING"]
[344,null,null,null,null,null,null,null,null,null,null,null,null,null,null,null,null,null,null,"REPORT:"]
[null,null,null,null,null,"Daily Compliance"]
[null,{"$f":"ExSoTransfer!B1","v":"Day"},{"$f":"ExSoTransfer!C1","v":"Total Load #/1000-#"},{"$f":"ExSoTransfer!D1","v":"BOD Daily Max TBEL                        #/1000-#"},{"$f":"ExSoTransfer!E1","v":"Compliance                  YES /NO"},{"$f":"ExSoTransfer!F1","v":"Total Load #/1000-#"},{"$f":"ExSoTransfer!G1","v":"TSS Daily Max TBEL                        #/1000-#"},{"$f":"ExSoTransfer!H1","v":"Compliance                 YES/ NO"},{"$f":"ExSoTransfer!I1","v":"Total Load #/1000-#"},{"$f":"ExSoTransfer!J1","v":"O&G Daily Max TBEL                        #/1000-#"},{"$f":"ExSoTransfer!K1","v":"Compliance     YES / NO"}]
[null,{"$f":"ExSoTransfer!B2","v":1},{"$f":"IFERROR(ROUND(VLOOKUP(ROUNDUP(LOG10(ExSoTransfer!C2),0),NwSoTransfer!$A$16:$B$29,2)*ExSoTransfer!C2,2)/VLOOKUP(ROUNDUP(LOG10(ExSoTransfer!C2),0),NwSoTransfer!$A$16:$B$29,2),\"\")","v":""},{"$f":"IFERROR(ROUND(VLOOKUP(ROUNDUP(LOG10(ExSoTransfer!D2),0),NwSoTransfer!$A$16:$B$29,2)*ExSoTransfer!D2,2)/VLOOKUP(ROUNDUP(LOG10(ExSoTransfer!D2),0),NwSoTransfer!$A$16:$B$29,2),\"\")","v":""},{"$f":"IF(C347=\"\", \"\", IF(C347=0, \"\", IF(D347=0, \"\", IF(D347<C347, \"NO\",\"YES\"))))","v":""},{"$f":"IFERROR(ROUND(VLOOKUP(ROUNDUP(LOG10(ExSoTransfer!F2),0),NwSoTransfer!$A$16:$B$29,2)*ExSoTransfer!F2,2)/VLOOKUP(ROUNDUP(LOG10(ExSoTransfer!F2),0),NwSoTransfer!$A$16:$B$29,2),\"\")","v":""},{"$f":"IFERROR(ROUND(VLOOKUP(ROUNDUP(LOG10(ExSoTransfer!G2),0),NwSoTransfer!$A$16:$B$29,2)*ExSoTransfer!G2,2)/VLOOKUP(ROUNDUP(LOG10(ExSoTransfer!G2),0),NwSoTransfer!$A$16:$B$29,2),\"\")","v":""},{"$f":"IF(F347=\"\", \"\", IF(F347=0, \"\", IF(G347=0, \"\", IF(G347<F347, \"NO\",\"YES\"))))","v":""},{"$f":"IFERROR(ROUND(VLOOKUP(ROUNDUP(LOG10(ExSoTransfer!I2),0),NwSoTransfer!$A$16:$B$29,2)*ExSoTransfer!I2,2)/VLOOKUP(ROUNDUP(LOG10(ExSoTransfer!I2),0),NwSoTransfer!$A$16:$B$29,2),\"\")","v":""},{"$f":"IFERROR(ROUND(VLOOKUP(ROUNDUP(LOG10(ExSoTransfer!J2),0),NwSoTransfer!$A$16:$B$29,2)*ExSoTransfer!J2,2)/VLOOKUP(ROUNDUP(LOG10(ExSoTransfer!J2),0),NwSoTransfer!$A$16:$B$29,2),\"\")","v":""},{"$f":"IF(I347=\"\", \"\", IF(I347=0, \"\", IF(J347=0, \"\", IF(J347<I347, \"NO\",\"YES\"))))","v":""}]
[null,{"$f":"ExSoTransfer!B3","v":2},{"$f":"IFERROR(ROUND(VLOOKUP(ROUNDUP(LOG10(ExSoTransfer!C3),0),NwSoTransfer!$A$16:$B$29,2)*ExSoTransfer!C3,2)/VLOOKUP(ROUNDUP(LOG10(ExSoTransfer!C3),0),NwSoTransfer!$A$16:$B$29,2),\"\")","v":""},{"$f":"IFERROR(ROUND(VLOOKUP(ROUNDUP(LOG10(ExSoTransfer!D3),0),NwSoTransfer!$A$16:$B$29,2)*ExSoTransfer!D3,2)/VLOOKUP(ROUNDUP(LOG10(ExSoTransfer!D3),0),NwSoTransfer!$A$16:$B$29,2),\"\")","v":""},"",{"$f":"IFERROR(ROUND(VLOOKUP(ROUNDUP(LOG10(ExSoTransfer!F3),0),NwSoTransfer!$A$16:$B$29,2)*ExSoTransfer!F3,2)/VLOOKUP(ROUNDUP(LOG10(ExSoTransfer!F3),0),NwSoTransfer!$A$16:$B$29,2),\"\")","v":""},{"$f":"IFERROR(ROUND(VLOOKUP(ROUNDUP(LOG10(ExSoTransfer!G3),0),NwSoTransfer!$A$16:$B$29,2)*ExSoTransfer!G3,2)/VLOOKUP(ROUNDUP(LOG10(ExSoTransfer!G3),0),NwSoTransfer!$A$16:$B$29,2),\"\")","v":""},"",{"$f":"IFERROR(ROUND(VLOOKUP(ROUNDUP(LOG10(ExSoTransfer!I3),0),NwSoTransfer!$A$16:$B$29,2)*ExSoTransfer!I3,2)/VLOOKUP(ROUNDUP(LOG10(ExSoTransfer!I3),0),NwSoTransfer!$A$16:$B$29,2),\"\")","v":""},{"$f":"IFERROR(ROUND(VLOOKUP(ROUNDUP(LOG10(ExSoTransfer!J3),0),NwSoTransfer!$A$16:$B$29,2)*ExSoTransfer!J3,2)/VLOOKUP(ROUNDUP(LOG10(ExSoTransfer!J3),0),NwSoTransfer!$A$16:$B$29,2),\"\")","v":""},""]
[null,{"$f":"ExSoTransfer!B4","v":3},{"$f":"IFERROR(ROUND(VLOOKUP(ROUNDUP(LOG10(ExSoTransfer!C4),0),NwSoTransfer!$A$16:$B$29,2)*ExSoTransfer!C4,2)/VLOOKUP(ROUNDUP(LOG10(ExSoTransfer!C4),0),NwSoTransfer!$A$16:$B$29,2),\"\")","v":""},{"$f":"IFERROR(ROUND(VLOOKUP(ROUNDUP(LOG10(ExSoTransfer!D4),0),NwSoTransfer!$A$16:$B$29,2)*ExSoTransfer!D4,2)/VLOOKUP(ROUNDUP(LOG10(ExSoTransfer!D4),0),NwSoTransfer!$A$16:$B$29,2),\"\")","v":""},"",{"$f":"IFERROR(ROUND(VLOOKUP(ROUNDUP(LOG10(ExSoTransfer!F4),0),NwSoTransfer!$A$16:$B$29,2)*ExSoTransfer!F4,2)/VLOOKUP(ROUNDUP(LOG10(ExSoTransfer!F4),0),NwSoTransfer!$A$16:$B$29,2),\"\")","v":""},{"$f":"IFERROR(ROUND(VLOOKUP(ROUNDUP(LOG10(ExSoTransfer!G4),0),NwSoTransfer!$A$16:$B$29,2)*ExSoTransfer!G4,2)/VLOOKUP(ROUNDUP(LOG10(ExSoTransfer!G4),0),NwSoTransfer!$A$16:$B$29,2),\"\")","v":""},"",{"$f":"IFERROR(ROUND(VLOOKUP(ROUNDUP(LOG10(ExSoTransfer!I4),0),NwSoTransfer!$A$16:$B$29,2)*ExSoTransfer!I4,2)/VLOOKUP(ROUNDUP(LOG10(ExSoTransfer!I4),0),NwSoTransfer!$A$16:$B$29,2),\"\")","v":""},{"$f":"IFERROR(ROUND(VLOOKUP(ROUNDUP(LOG10(ExSoTransfer!J4),0),NwSoTransfer!$A$16:$B$29,2)*ExSoTransfer!J4,2)/VLOOKUP(ROUNDUP(LOG10(ExSoTransfer!J4),0),NwSoTransfer!$A$16:$B$29,2),\"\")","v":""},""]
[null,{"$f":"ExSoTransfer!B5","v":4},{"$f":"IFERROR(ROUND(VLOOKUP(ROUNDUP(LOG10(ExSoTransfer!C5),0),NwSoTransfer!$A$16:$B$29,2)*ExSoTransfer!C5,2)/VLOOKUP(ROUNDUP(LOG10(ExSoTransfer!C5),0),NwSoTransfer!$A$16:$B$29,2),\"\")","v":""},{"$f":"IFERROR(ROUND(VLOOKUP(ROUNDUP(LOG10(ExSoTransfer!D5),0),NwSoTransfer!$A$16:$B$29,2)*ExSoTransfer!D5,2)/VLOOKUP(ROUNDUP(LOG10(ExSoTransfer!D5),0),NwSoTransfer!$A$16:$B$29,2),\"\")","v":""},"",{"$f":"IFERROR(ROUND(VLOOKUP(ROUNDUP(LOG10(ExSoTransfer!F5),0),NwSoTransfer!$A$16:$B$29,2)*ExSoTransfer!F5,2)/VLOOKUP(ROUNDUP(LOG10(ExSoTransfer!F5),0),NwSoTransfer!$A$16:$B$29,2),\"\")","v":""},{"$f":"IFERROR(ROUND(VLOOKUP(ROUNDUP(LOG10(ExSoTransfer!G5),0),NwSoTransfer!$A$16:$B$29,2)*ExSoTransfer!G5,2)/VLOOKUP(ROUNDUP(LOG10(ExSoTransfer!G5),0),NwSoTransfer!$A$16:$B$29,2),\"\")","v":""},"",{"$f":"IFERROR(ROUND(VLOOKUP(ROUNDUP(LOG10(ExSoTransfer!I5),0),NwSoTransfer!$A$16:$B$29,2)*ExSoTransfer!I5,2)/VLOOKUP(ROUNDUP(LOG10(ExSoTransfer!I5),0),NwSoTransfer!$A$16:$B$29,2),\"\")","v":""},{"$f":"IFERROR(ROUND(VLOOKUP(ROUNDUP(LOG10(ExSoTransfer!J5),0),NwSoTransfer!$A$16:$B$29,2)*ExSoTransfer!J5,2)/VLOOKUP(ROUNDUP(LOG10(ExSoTransfer!J5),0),NwSoTransfer!$A$16:$B$29,2),\"\")","v":""},""]
[null,{"$f":"ExSoTransfer!B6","v":5},{"$f":"IFERROR(ROUND(VLOOKUP(ROUNDUP(LOG10(ExSoTransfer!C6),0),NwSoTransfer!$A$16:$B$29,2)*ExSoTransfer!C6,2)/VLOOKUP(ROUNDUP(LOG10(ExSoTransfer!C6),0),NwSoTransfer!$A$16:$B$29,2),\"\")","v":""},{"$f":"IFERROR(ROUND(VLOOKUP(ROUNDUP(LOG10(ExSoTransfer!D6),0),NwSoTransfer!$A$16:$B$29,2)*ExSoTransfer!D6,2)/VLOOKUP(ROUNDUP(LOG10(ExSoTransfer!D6),0),NwSoTransfer!$A$16:$B$29,2),\"\")","v":""},"",{"$f":"IFERROR(ROUND(VLOOKUP(ROUNDUP(LOG10(ExSoTransfer!F6),0),NwSoTransfer!$A$16:$B$29,2)*ExSoTransfer!F6,2)/VLOOKUP(ROUNDUP(LOG10(ExSoTransfer!F6),0),NwSoTransfer!$A$16:$B$29,2),\"\")","v":""},{"$f":"IFERROR(ROUND(VLOOKUP(ROUNDUP(LOG10(ExSoTransfer!G6),0),NwSoTransfer!$A$16:$B$29,2)*ExSoTransfer!G6,2)/VLOOKUP(ROUNDUP(LOG10(ExSoTransfer!G6),0),NwSoTransfer!$A$16:$B$29,2),\"\")","v":""},"",{"$f":"IFERROR(ROUND(VLOOKUP(ROUNDUP(LOG10(ExSoTransfer!I6),0),NwSoTransfer!$A$16:$B$29,2)*ExSoTransfer!I6,2)/VLOOKUP(ROUNDUP(LOG10(ExSoTransfer!I6),0),NwSoTransfer!$A$16:$B$29,2),\"\")","v":""},{"$f":"IFERROR(ROUND(VLOOKUP(ROUNDUP(LOG10(ExSoTransfer!J6),0),NwSoTransfer!$A$16:$B$29,2)*ExSoTransfer!J6,2)/VLOOKUP(ROUNDUP(LOG10(ExSoTransfer!J6),0),NwSoTransfer!$A$16:$B$29,2),\"\")","v":""},""]
[null,{"$f":"ExSoTransfer!B7","v":6},{"$f":"IFERROR(ROUND(VLOOKUP(ROUNDUP(LOG10(ExSoTransfer!C7),0),NwSoTransfer!$A$16:$B$29,2)*ExSoTransfer!C7,2)/VLOOKUP(ROUNDUP(LOG10(ExSoTransfer!C7),0),NwSoTransfer!$A$16:$B$29,2),\"\")","v":""},{"$f":"IFERROR(ROUND(VLOOKUP(ROUNDUP(LOG10(ExSoTransfer!D7),0),NwSoTransfer!$A$16:$B$29,2)*ExSoTransfer!D7,2)/VLOOKUP(ROUNDUP(LOG10(ExSoTransfer!D7),0),NwSoTransfer!$A$16:$B$29,2),\"\")","v":""},"",{"$f":"IFERROR(ROUND(VLOOKUP(ROUNDUP(LOG10(ExSoTransfer!F7),0),NwSoTransfer!$A$16:$B$29,2)*ExSoTransfer!F7,2)/VLOOKUP(ROUNDUP(LOG10(ExSoTransfer!F7),0),NwSoTransfer!$A$16:$B$29,2),\"\")","v":""},{"$f":"IFERROR(ROUND(VLOOKUP(ROUNDUP(LOG10(ExSoTransfer!G7),0),NwSoTransfer!$A$16:$B$29,2)*ExSoTransfer!G7,2)/VLOOKUP(ROUNDUP(LOG10(ExSoTransfer!G7),0),NwSoTransfer!$A$16:$B$29,2),\"\")","v":""},"",{"$f":"IFERROR(ROUND(VLOOKUP(ROUNDUP(LOG10(ExSoTransfer!I7),0),NwSoTransfer!$A$16:$B$29,2)*ExSoTransfer!I7,2)/VLOOKUP(ROUNDUP(LOG10(ExSoTransfer!I7),0),NwSoTransfer!$A$16:$B$29,2),\"\")","v":""},{"$f":"IFERROR(ROUND(VLOOKUP(ROUNDUP(LOG10(ExSoTransfer!J7),0),NwSoTransfer!$A$16:$B$29,2)*ExSoTransfer!J7,2)/VLOOKUP(ROUNDUP(LOG10(ExSoTransfer!J7),0),NwSoTransfer!$A$16:$B$29,2),\"\")","v":""},""]
[null,{"$f":"ExSoTransfer!B8","v":7},{"$f":"IFERROR(ROUND(VLOOKUP(ROUNDUP(LOG10(ExSoTransfer!C8),0),NwSoTransfer!$A$16:$B$29,2)*ExSoTransfer!C8,2)/VLOOKUP(ROUNDUP(LOG10(ExSoTransfer!C8),0),NwSoTransfer!$A$16:$B$29,2),\"\")","v":""},{"$f":"IFERROR(ROUND(VLOOKUP(ROUNDUP(LOG10(ExSoTransfer!D8),0),NwSoTransfer!$A$16:$B$29,2)*ExSoTransfer!D8,2)/VLOOKUP(ROUNDUP(LOG10(ExSoTransfer!D8),0),NwSoTransfer!$A$16:$B$29,2),\"\")","v":""},"",{"$f":"IFERROR(ROUND(VLOOKUP(ROUNDUP(LOG10(ExSoTransfer!F8),0),NwSoTransfer!$A$16:$B$29,2)*ExSoTransfer!F8,2)/VLOOKUP(ROUNDUP(LOG10(ExSoTransfer!F8),0),NwSoTransfer!$A$16:$B$29,2),\"\")","v":""},{"$f":"IFERROR(ROUND(VLOOKUP(ROUNDUP(LOG10(ExSoTransfer!G8),0),NwSoTransfer!$A$16:$B$29,2)*ExSoTransfer!G8,2)/VLOOKUP(ROUNDUP(LOG10(ExSoTransfer!G8),0),NwSoTransfer!$A$16:$B$29,2),\"\")","v":""},"",{"$f":"IFERROR(ROUND(VLOOKUP(ROUNDUP(LOG10(ExSoTransfer!I8),0),NwSoTransfer!$A$16:$B$29,2)*ExSoTransfer!I8,2)/VLOOKUP(ROUNDUP(LOG10(ExSoTransfer!I8),0),NwSoTransfer!$A$16:$B$29,2),\"\")","v":""},{"$f":"IFERROR(ROUND(VLOOKUP(ROUNDUP(LOG10(ExSoTransfer!J8),0),NwSoTransfer!$A$16:$B$29,2)*ExSoTransfer!J8,2)/VLOOKUP(ROUNDUP(LOG10(ExSoTransfer!J8),0),NwSoTransfer!$A$16:$B$29,2),\"\")","v":""},""]
[null,{"$f":"ExSoTransfer!B9","v":8},{"$f":"IFERROR(ROUND(VLOOKUP(ROUNDUP(LOG10(ExSoTransfer!C9),0),NwSoTransfer!$A$16:$B$29,2)*ExSoTransfer!C9,2)/VLOOKUP(ROUNDUP(LOG10(ExSoTransfer!C9),0),NwSoTransfer!$A$16:$B$29,2),\"\")","v":""},{"$f":"IFERROR(ROUND(VLOOKUP(ROUNDUP(LOG10(ExSoTransfer!D9),0),NwSoTransfer!$A$16:$B$29,2)*ExSoTransfer!D9,2)/VLOOKUP(ROUNDUP(LOG10(ExSoTransfer!D9),0),NwSoTransfer!$A$16:$B$29,2),\"\")","v":""},"",{"$f":"IFERROR(ROUND(VLOOKUP(ROUNDUP(LOG10(ExSoTransfer!F9),0),NwSoTransfer!$A$16:$B$29,2)*ExSoTransfer!F9,2)/VLOOKUP(ROUNDUP(LOG10(ExSoTransfer!F9),0),NwSoTransfer!$A$16:$B$29,2),\"\")","v":""},{"$f":"IFERROR(ROUND(VLOOKUP(ROUNDUP(LOG10(ExSoTransfer!G9),0),NwSoTransfer!$A$16:$B$29,2)*ExSoTransfer!G9,2)/VLOOKUP(ROUNDUP(LOG10(ExSoTransfer!G9),0),NwSoTransfer!$A$16:$B$29,2),\"\")","v":""},"",{"$f":"IFERROR(ROUND(VLOOKUP(ROUNDUP(LOG10(ExSoTransfer!I9),0),NwSoTransfer!$A$16:$B$29,2)*ExSoTransfer!I9,2)/VLOOKUP(ROUNDUP(LOG10(ExSoTransfer!I9),0),NwSoTransfer!$A$16:$B$29,2),\"\")","v":""},{"$f":"IFERROR(ROUND(VLOOKUP(ROUNDUP(LOG10(ExSoTransfer!J9),0),NwSoTransfer!$A$16:$B$29,2)*ExSoTransfer!J9,2)/VLOOKUP(ROUNDUP(LOG10(ExSoTransfer!J9),0),NwSoTransfer!$A$16:$B$29,2),\"\")","v":""},""]
[null,{"$f":"ExSoTransfer!B10","v":9},{"$f":"IFERROR(ROUND(VLOOKUP(ROUNDUP(LOG10(ExSoTransfer!C10),0),NwSoTransfer!$A$16:$B$29,2)*ExSoTransfer!C10,2)/VLOOKUP(ROUNDUP(LOG10(ExSoTransfer!C10),0),NwSoTransfer!$A$16:$B$29,2),\"\")","v":""},{"$f":"IFERROR(ROUND(VLOOKUP(ROUNDUP(LOG10(ExSoTransfer!D10),0),NwSoTransfer!$A$16:$B$29,2)*ExSoTransfer!D10,2)/VLOOKUP(ROUNDUP(LOG10(ExSoTransfer!D10),0),NwSoTransfer!$A$16:$B$29,2),\"\")","v":""},"",{"$f":"IFERROR(ROUND(VLOOKUP(ROUNDUP(LOG10(ExSoTransfer!F10),0),NwSoTransfer!$A$16:$B$29,2)*ExSoTransfer!F10,2)/VLOOKUP(ROUNDUP(LOG10(ExSoTransfer!F10),0),NwSoTransfer!$A$16:$B$29,2),\"\")","v":""},{"$f":"IFERROR(ROUND(VLOOKUP(ROUNDUP(LOG10(ExSoTransfer!G10),0),NwSoTransfer!$A$16:$B$29,2)*ExSoTransfer!G10,2)/VLOOKUP(ROUNDUP(LOG10(ExSoTransfer!G10),0),NwSoTransfer!$A$16:$B$29,2),\"\")","v":""},"",{"$f":"IFERROR(ROUND(VLOOKUP(ROUNDUP(LOG10(ExSoTransfer!I10),0),NwSoTransfer!$A$16:$B$29,2)*ExSoTransfer!I10,2)/VLOOKUP(ROUNDUP(LOG10(ExSoTransfer!I10),0),NwSoTransfer!$A$16:$B$29,2),\"\")","v":""},{"$f":"IFERROR(ROUND(VLOOKUP(ROUNDUP(LOG10(ExSoTransfer!J10),0),NwSoTransfer!$A$16:$B$29,2)*ExSoTransfer!J10,2)/VLOOKUP(ROUNDUP(LOG10(ExSoTransfer!J10),0),NwSoTransfer!$A$16:$B$29,2),\"\")","v":""},""]
[null,{"$f":"ExSoTransfer!B11","v":10},{"$f":"IFERROR(ROUND(VLOOKUP(ROUNDUP(LOG10(ExSoTransfer!C11),0),NwSoTransfer!$A$16:$B$29,2)*ExSoTransfer!C11,2)/VLOOKUP(ROUNDUP(LOG10(ExSoTransfer!C11),0),NwSoTransfer!$A$16:$B$29,2),\"\")","v":""},{"$f":"IFERROR(ROUND(VLOOKUP(ROUNDUP(LOG10(ExSoTransfer!D11),0),NwSoTransfer!$A$16:$B$29,2)*ExSoTransfer!D11,2)/VLOOKUP(ROUNDUP(LOG10(ExSoTransfer!D11),0),NwSoTransfer!$A$16:$B$29,2),\"\")","v":""},"",{"$f":"IFERROR(ROUND(VLOOKUP(ROUNDUP(LOG10(ExSoTransfer!F11),0),NwSoTransfer!$A$16:$B$29,2)*ExSoTransfer!F11,2)/VLOOKUP(ROUNDUP(LOG10(ExSoTransfer!F11),0),NwSoTransfer!$A$16:$B$29,2),\"\")","v":""},{"$f":"IFERROR(ROUND(VLOOKUP(ROUNDUP(LOG10(ExSoTransfer!G11),0),NwSoTransfer!$A$16:$B$29,2)*ExSoTransfer!G11,2)/VLOOKUP(ROUNDUP(LOG10(ExSoTransfer!G11),0),NwSoTransfer!$A$16:$B$29,2),\"\")","v":""},"",{"$f":"IFERROR(ROUND(VLOOKUP(ROUNDUP(LOG10(ExSoTransfer!I11),0),NwSoTransfer!$A$16:$B$29,2)*ExSoTransfer!I11,2)/VLOOKUP(ROUNDUP(LOG10(ExSoTransfer!I11),0),NwSoTransfer!$A$16:$B$29,2),\"\")","v":""},{"$f":"IFERROR(ROUND(VLOOKUP(ROUNDUP(LOG10(ExSoTransfer!J11),0),NwSoTransfer!$A$16:$B$29,2)*ExSoTransfer!J11,2)/VLOOKUP(ROUNDUP(LOG10(ExSoTransfer!J11),0),NwSoTransfer!$A$16:$B$29,2),\"\")","v":""},""]
[]
[null,null,null,null,null,"Monthly Compliance"]
[null,null,"BOD Monthly Average Load #/1000-#","BOD Monthly Average Limit #/100-#",{"$f":"E346","v":"Compliance                  YES /NO"},"TSS Total Load #/1000-#","TSS Monthly Average Limit #/1000-#",{"$f":"H346","v":"Compliance                 YES/ NO"},"O&G Monthly Average Load #/1000-#","O&G Monthly Average Limit #/1000-#",{"$f":"K346","v":"Compliance     YES / NO"}]
[null,{"$f":"ExSoTransfer!B13","v":"Monthly Average"},{"$f":"IFERROR(ROUND(VLOOKUP(ROUNDUP(LOG10(ExSoTransfer!C13),0),NwSoTransfer!$A$16:$B$29,2)*ExSoTransfer!C13,2)/VLOOKUP(ROUNDUP(LOG10(ExSoTransfer!C13),0),NwSoTransfer!$A$16:$B$29,2),\"\")","v":""},{"$f":"IFERROR(ROUND(VLOOKUP(ROUNDUP(LOG10(ExSoTransfer!D13),0),NwSoTransfer!$A$16:$B$29,2)*ExSoTransfer!D13,2)/VLOOKUP(ROUNDUP(LOG10(ExSoTransfer!D13),0),NwSoTransfer!$A$16:$B$29,2),\"\")","v":""},{"$f":"IF(C360=\"\", \"\", IF(C360=0, \"\", IF(D360=0, \"\", IF(D360<C360, \"NO\",\"YES\"))))","v":""},{"$f":"IFERROR(ROUND(VLOOKUP(ROUNDUP(LOG10(ExSoTransfer!F13),0),NwSoTransfer!$A$16:$B$29,2)*ExSoTransfer!F13,2)/VLOOKUP(ROUNDUP(LOG10(ExSoTransfer!F13),0),NwSoTransfer!$A$16:$B$29,2),\"\")","v":""},{"$f":"IFERROR(ROUND(VLOOKUP(ROUNDUP(LOG10(ExSoTransfer!G13),0),NwSoTransfer!$A$16:$B$29,2)*ExSoTransfer!G13,2)/VLOOKUP(ROUNDUP(LOG10(ExSoTransfer!G13),0),NwSoTransfer!$A$16:$B$29,2),\"\")","v":""},{"$f":"IF(F360=\"\", \"\", IF(F360=0, \"\", IF(G360=0, \"\", IF(G360<F360, \"NO\",\"YES\"))))","v":""},{"$f":"IFERROR(ROUND(VLOOKUP(ROUNDUP(LOG10(ExSoTransfer!I13),0),NwSoTransfer!$A$16:$B$29,2)*ExSoTransfer!I13,2)/VLOOKUP(ROUNDUP(LOG10(ExSoTransfer!I13),0),NwSoTransfer!$A$16:$B$29,2),\"\")","v":""},{"$f":"IFERROR(ROUND(VLOOKUP(ROUNDUP(LOG10(ExSoTransfer!J13),0),NwSoTransfer!$A$16:$B$29,2)*ExSoTransfer!J13,2)/VLOOKUP(ROUNDUP(LOG10(ExSoTransfer!J13),0),NwSoTransfer!$A$16:$B$29,2),\"\")","v":""},{"$f":"IF(I360=\"\", \"\", IF(I360=0, \"\", IF(J360=0, \"\", IF(J360<I360, \"NO\",\"YES\"))))","v":""}]

{"sheet":"NwSoTransfer","index":5,"n_rows":29,"n_cols":10,"rows_kept":29,"cut":false,"hidden":true,"merged":[]}
["Day",{"$f":"'CALCULATOR NEW SOURCES  '!K77","v":"Total Load #/1000-#"},{"$f":"'CALCULATOR NEW SOURCES  '!L77","v":"TSS Daily Max TBEL                        #/1000-#"},{"$f":"'CALCULATOR NEW SOURCES  '!M77","v":"Compliance               YES /NO"},{"$f":"'CALCULATOR NEW SOURCES  '!W77","v":"Total Load #/1000-#"},{"$f":"'CALCULATOR NEW SOURCES  '!X77","v":"TSS Daily Max TBEL                        #/1000-#"},{"$f":"'CALCULATOR NEW SOURCES  '!Y77","v":"Compliance              YES/ NO"},{"$f":"'CALCULATOR NEW SOURCES  '!AI77","v":"Total Load #/1000-#"},{"$f":"'CALCULATOR NEW SOURCES  '!AJ77","v":"TSS Daily Max TBEL                        #/1000-#"},{"$f":"'CALCULATOR NEW SOURCES  '!AK77","v":"Compliance                  YES / NO"}]
[1,{"$f":"'CALCULATOR NEW SOURCES  '!K78","v":0},{"$f":"'CALCULATOR NEW SOURCES  '!L78","v":""},{"$f":"'CALCULATOR NEW SOURCES  '!M78","v":""},{"$f":"'CALCULATOR NEW SOURCES  '!W78","v":0},{"$f":"'CALCULATOR NEW SOURCES  '!X78","v":""},{"$f":"'CALCULATOR NEW SOURCES  '!Y78","v":""},{"$f":"'CALCULATOR NEW SOURCES  '!AI78","v":0},{"$f":"'CALCULATOR NEW SOURCES  '!AJ78","v":""},{"$f":"'CALCULATOR NEW SOURCES  '!AK78","v":""}]
[{"$f":"1+A2","v":2},{"$f":"'CALCULATOR NEW SOURCES  '!K99","v":0},{"$f":"'CALCULATOR NEW SOURCES  '!L99","v":""},{"$f":"'CALCULATOR NEW SOURCES  '!M99","v":""},{"$f":"'CALCULATOR NEW SOURCES  '!W99","v":0},{"$f":"'CALCULATOR NEW SOURCES  '!X99","v":""},{"$f":"'CALCULATOR NEW SOURCES  '!Y99","v":""},{"$f":"'CALCULATOR NEW SOURCES  '!AI99","v":0},{"$f":"'CALCULATOR NEW SOURCES  '!AJ99","v":""},{"$f":"'CALCULATOR NEW SOURCES  '!AK99","v":""}]
[{"$f":"1+A3","v":3},{"$f":"'CALCULATOR NEW SOURCES  '!K120","v":0},{"$f":"'CALCULATOR NEW SOURCES  '!L120","v":""},{"$f":"'CALCULATOR NEW SOURCES  '!M120","v":""},{"$f":"'CALCULATOR NEW SOURCES  '!W120","v":0},{"$f":"'CALCULATOR NEW SOURCES  '!X120","v":""},{"$f":"'CALCULATOR NEW SOURCES  '!Y120","v":""},{"$f":"'CALCULATOR NEW SOURCES  '!AI120","v":0},{"$f":"'CALCULATOR NEW SOURCES  '!AJ120","v":""},{"$f":"'CALCULATOR NEW SOURCES  '!AK120","v":""}]
[4,{"$f":"'CALCULATOR NEW SOURCES  '!K141","v":0},{"$f":"'CALCULATOR NEW SOURCES  '!L141","v":""},{"$f":"'CALCULATOR NEW SOURCES  '!M141","v":""},{"$f":"'CALCULATOR NEW SOURCES  '!W141","v":0},{"$f":"'CALCULATOR NEW SOURCES  '!X141","v":""},{"$f":"'CALCULATOR NEW SOURCES  '!Y141","v":""},{"$f":"'CALCULATOR NEW SOURCES  '!AI141","v":0},{"$f":"'CALCULATOR NEW SOURCES  '!AJ141","v":""},{"$f":"'CALCULATOR NEW SOURCES  '!AK141","v":""}]
[5,{"$f":"'CALCULATOR NEW SOURCES  '!K162","v":0},{"$f":"'CALCULATOR NEW SOURCES  '!L162","v":""},{"$f":"'CALCULATOR NEW SOURCES  '!M162","v":""},{"$f":"'CALCULATOR NEW SOURCES  '!W162","v":0},{"$f":"'CALCULATOR NEW SOURCES  '!X162","v":""},{"$f":"'CALCULATOR NEW SOURCES  '!Y162","v":""},{"$f":"'CALCULATOR NEW SOURCES  '!AI162","v":0},{"$f":"'CALCULATOR NEW SOURCES  '!AJ162","v":""},{"$f":"'CALCULATOR NEW SOURCES  '!AK162","v":""}]
[6,{"$f":"'CALCULATOR NEW SOURCES  '!K183","v":0},{"$f":"'CALCULATOR NEW SOURCES  '!L183","v":""},{"$f":"'CALCULATOR NEW SOURCES  '!M183","v":""},{"$f":"'CALCULATOR NEW SOURCES  '!W183","v":0},{"$f":"'CALCULATOR NEW SOURCES  '!X183","v":""},{"$f":"'CALCULATOR NEW SOURCES  '!Y183","v":""},{"$f":"'CALCULATOR NEW SOURCES  '!AI183","v":0},{"$f":"'CALCULATOR NEW SOURCES  '!AJ183","v":""},{"$f":"'CALCULATOR NEW SOURCES  '!AK183","v":""}]
[7,{"$f":"'CALCULATOR NEW SOURCES  '!K204","v":0},{"$f":"'CALCULATOR NEW SOURCES  '!L204","v":""},{"$f":"'CALCULATOR NEW SOURCES  '!M204","v":""},{"$f":"'CALCULATOR NEW SOURCES  '!W204","v":0},{"$f":"'CALCULATOR NEW SOURCES  '!X204","v":""},{"$f":"'CALCULATOR NEW SOURCES  '!Y204","v":""},{"$f":"'CALCULATOR NEW SOURCES  '!AI204","v":0},{"$f":"'CALCULATOR NEW SOURCES  '!AJ204","v":""},{"$f":"'CALCULATOR NEW SOURCES  '!AK204","v":""}]
[8,{"$f":"'CALCULATOR NEW SOURCES  '!K225","v":0},{"$f":"'CALCULATOR NEW SOURCES  '!L225","v":""},{"$f":"'CALCULATOR NEW SOURCES  '!M225","v":""},{"$f":"'CALCULATOR NEW SOURCES  '!W225","v":0},{"$f":"'CALCULATOR NEW SOURCES  '!X225","v":""},{"$f":"'CALCULATOR NEW SOURCES  '!Y225","v":""},{"$f":"'CALCULATOR NEW SOURCES  '!AI225","v":0},{"$f":"'CALCULATOR NEW SOURCES  '!AJ225","v":""},{"$f":"'CALCULATOR NEW SOURCES  '!AK225","v":""}]
[9,{"$f":"'CALCULATOR NEW SOURCES  '!K246","v":0},{"$f":"'CALCULATOR NEW SOURCES  '!L246","v":""},{"$f":"'CALCULATOR NEW SOURCES  '!M246","v":""},{"$f":"'CALCULATOR NEW SOURCES  '!W246","v":0},{"$f":"'CALCULATOR NEW SOURCES  '!X246","v":""},{"$f":"'CALCULATOR NEW SOURCES  '!Y246","v":""},{"$f":"'CALCULATOR NEW SOURCES  '!AI246","v":0},{"$f":"'CALCULATOR NEW SOURCES  '!AJ246","v":""},{"$f":"'CALCULATOR NEW SOURCES  '!AK246","v":""}]
[10,{"$f":"'CALCULATOR NEW SOURCES  '!K267","v":0},{"$f":"'CALCULATOR NEW SOURCES  '!L267","v":""},{"$f":"'CALCULATOR NEW SOURCES  '!M267","v":""},{"$f":"'CALCULATOR NEW SOURCES  '!W267","v":0},{"$f":"'CALCULATOR NEW SOURCES  '!X267","v":""},{"$f":"'CALCULATOR NEW SOURCES  '!Y267","v":""},{"$f":"'CALCULATOR NEW SOURCES  '!AI267","v":0},{"$f":"'CALCULATOR NEW SOURCES  '!AJ267","v":""},{"$f":"'CALCULATOR NEW SOURCES  '!AK267","v":""}]
[]
[]
[]
["Vlookup Table used to convert to 2 significant figures"]
[-7,1000000]
[-6,100000]
[-5,10000]
[-4,1000]
[-3,100]
[-2,10]
[-1,1]
[0,1]
[1,0.1]
[2,0.01]
[3,1E-3]
[4,1E-4]
[5,1.0000000000000001E-5]
[6,9.9999999999999995E-7]

{"sheet":"ExSoTransfer","index":6,"n_rows":13,"n_cols":11,"rows_kept":13,"cut":false,"hidden":true,"merged":[]}
[null,"Day",{"$f":"'CALCULATOR EXISTING SOURCES'!K77","v":"Total Load #/1000-#"},{"$f":"'CALCULATOR EXISTING SOURCES'!L77","v":"BOD Daily Max TBEL                        #/1000-#"},{"$f":"'CALCULATOR EXISTING SOURCES'!M77","v":"Compliance                  YES /NO"},{"$f":"'CALCULATOR EXISTING SOURCES'!W77","v":"Total Load #/1000-#"},{"$f":"'CALCULATOR EXISTING SOURCES'!X77","v":"TSS Daily Max TBEL                        #/1000-#"},{"$f":"'CALCULATOR EXISTING SOURCES'!Y77","v":"Compliance                 YES/ NO"},{"$f":"'CALCULATOR EXISTING SOURCES'!AI77","v":"Total Load #/1000-#"},{"$f":"'CALCULATOR EXISTING SOURCES'!AJ77","v":"O&G Daily Max TBEL                        #/1000-#"},{"$f":"'CALCULATOR EXISTING SOURCES'!AK77","v":"Compliance     YES / NO"}]
[null,1,{"$f":"'CALCULATOR EXISTING SOURCES'!K78","v":0},{"$f":"'CALCULATOR EXISTING SOURCES'!L78","v":""},{"$f":"'CALCULATOR EXISTING SOURCES'!M78","v":""},{"$f":"'CALCULATOR EXISTING SOURCES'!W78","v":0},{"$f":"'CALCULATOR EXISTING SOURCES'!X78","v":""},{"$f":"'CALCULATOR EXISTING SOURCES'!Y78","v":""},{"$f":"'CALCULATOR EXISTING SOURCES'!AI78","v":0},{"$f":"'CALCULATOR EXISTING SOURCES'!AJ78","v":""},{"$f":"'CALCULATOR EXISTING SOURCES'!AK78","v":""}]
[null,{"$f":"1+B2","v":2},{"$f":"'CALCULATOR EXISTING SOURCES'!K101","v":0},{"$f":"'CALCULATOR EXISTING SOURCES'!L101","v":""},{"$f":"'CALCULATOR EXISTING SOURCES'!M101","v":""},{"$f":"'CALCULATOR EXISTING SOURCES'!W101","v":0},{"$f":"'CALCULATOR EXISTING SOURCES'!X101","v":""},{"$f":"'CALCULATOR EXISTING SOURCES'!Y101","v":""},{"$f":"'CALCULATOR EXISTING SOURCES'!AI101","v":0},{"$f":"'CALCULATOR EXISTING SOURCES'!AJ101","v":""},{"$f":"'CALCULATOR EXISTING SOURCES'!AK101","v":""}]
[null,{"$f":"1+B3","v":3},{"$f":"'CALCULATOR EXISTING SOURCES'!K124","v":0},{"$f":"'CALCULATOR EXISTING SOURCES'!L124","v":""},{"$f":"'CALCULATOR EXISTING SOURCES'!M124","v":""},{"$f":"'CALCULATOR EXISTING SOURCES'!W124","v":0},{"$f":"'CALCULATOR EXISTING SOURCES'!X124","v":""},{"$f":"'CALCULATOR EXISTING SOURCES'!Y124","v":""},{"$f":"'CALCULATOR EXISTING SOURCES'!AI124","v":0},{"$f":"'CALCULATOR EXISTING SOURCES'!AJ124","v":""},{"$f":"'CALCULATOR EXISTING SOURCES'!AK124","v":""}]
[null,4,{"$f":"'CALCULATOR EXISTING SOURCES'!K147","v":0},{"$f":"'CALCULATOR EXISTING SOURCES'!L147","v":""},{"$f":"'CALCULATOR EXISTING SOURCES'!M147","v":""},{"$f":"'CALCULATOR EXISTING SOURCES'!W147","v":0},{"$f":"'CALCULATOR EXISTING SOURCES'!X147","v":""},{"$f":"'CALCULATOR EXISTING SOURCES'!Y147","v":""},{"$f":"'CALCULATOR EXISTING SOURCES'!AI147","v":0},{"$f":"'CALCULATOR EXISTING SOURCES'!AJ147","v":""},{"$f":"'CALCULATOR EXISTING SOURCES'!AK147","v":""}]
[null,5,{"$f":"'CALCULATOR EXISTING SOURCES'!K170","v":0},{"$f":"'CALCULATOR EXISTING SOURCES'!L170","v":""},{"$f":"'CALCULATOR EXISTING SOURCES'!M170","v":""},{"$f":"'CALCULATOR EXISTING SOURCES'!W170","v":0},{"$f":"'CALCULATOR EXISTING SOURCES'!X170","v":""},{"$f":"'CALCULATOR EXISTING SOURCES'!Y170","v":""},{"$f":"'CALCULATOR EXISTING SOURCES'!AI170","v":0},{"$f":"'CALCULATOR EXISTING SOURCES'!AJ170","v":""},{"$f":"'CALCULATOR EXISTING SOURCES'!AK170","v":""}]
[null,6,{"$f":"'CALCULATOR EXISTING SOURCES'!K193","v":0},{"$f":"'CALCULATOR EXISTING SOURCES'!L193","v":""},{"$f":"'CALCULATOR EXISTING SOURCES'!M193","v":""},{"$f":"'CALCULATOR EXISTING SOURCES'!W193","v":0},{"$f":"'CALCULATOR EXISTING SOURCES'!X193","v":""},{"$f":"'CALCULATOR EXISTING SOURCES'!Y193","v":""},{"$f":"'CALCULATOR EXISTING SOURCES'!AI193","v":0},{"$f":"'CALCULATOR EXISTING SOURCES'!AJ193","v":""},{"$f":"'CALCULATOR EXISTING SOURCES'!AK193","v":""}]
[null,7,{"$f":"'CALCULATOR EXISTING SOURCES'!K216","v":0},{"$f":"'CALCULATOR EXISTING SOURCES'!L216","v":""},{"$f":"'CALCULATOR EXISTING SOURCES'!M216","v":""},{"$f":"'CALCULATOR EXISTING SOURCES'!W216","v":0},{"$f":"'CALCULATOR EXISTING SOURCES'!X216","v":""},{"$f":"'CALCULATOR EXISTING SOURCES'!Y216","v":""},{"$f":"'CALCULATOR EXISTING SOURCES'!AI216","v":0},{"$f":"'CALCULATOR EXISTING SOURCES'!AJ216","v":""},{"$f":"'CALCULATOR EXISTING SOURCES'!AK216","v":""}]
[null,8,{"$f":"'CALCULATOR EXISTING SOURCES'!K239","v":0},{"$f":"'CALCULATOR EXISTING SOURCES'!L239","v":""},{"$f":"'CALCULATOR EXISTING SOURCES'!M239","v":""},{"$f":"'CALCULATOR EXISTING SOURCES'!W239","v":0},{"$f":"'CALCULATOR EXISTING SOURCES'!X239","v":""},{"$f":"'CALCULATOR EXISTING SOURCES'!Y239","v":""},{"$f":"'CALCULATOR EXISTING SOURCES'!AI239","v":0},{"$f":"'CALCULATOR EXISTING SOURCES'!AJ239","v":""},{"$f":"'CALCULATOR EXISTING SOURCES'!AK239","v":""}]
[null,9,{"$f":"'CALCULATOR EXISTING SOURCES'!K262","v":0},{"$f":"'CALCULATOR EXISTING SOURCES'!L262","v":""},{"$f":"'CALCULATOR EXISTING SOURCES'!M262","v":""},{"$f":"'CALCULATOR EXISTING SOURCES'!W262","v":0},{"$f":"'CALCULATOR EXISTING SOURCES'!X262","v":""},{"$f":"'CALCULATOR EXISTING SOURCES'!Y262","v":""},{"$f":"'CALCULATOR EXISTING SOURCES'!AI262","v":0},{"$f":"'CALCULATOR EXISTING SOURCES'!AJ262","v":""},{"$f":"'CALCULATOR EXISTING SOURCES'!AK262","v":""}]
[null,10,{"$f":"'CALCULATOR EXISTING SOURCES'!K285","v":0},{"$f":"'CALCULATOR EXISTING SOURCES'!L285","v":""},{"$f":"'CALCULATOR EXISTING SOURCES'!M285","v":""},{"$f":"'CALCULATOR EXISTING SOURCES'!W285","v":0},{"$f":"'CALCULATOR EXISTING SOURCES'!X285","v":""},{"$f":"'CALCULATOR EXISTING SOURCES'!Y285","v":""},{"$f":"'CALCULATOR EXISTING SOURCES'!AI285","v":0},{"$f":"'CALCULATOR EXISTING SOURCES'!AJ285","v":""},{"$f":"'CALCULATOR EXISTING SOURCES'!AK285","v":""}]
[null,11]
[null,"Monthly Average",{"$f":"'CALCULATOR EXISTING SOURCES'!K321","v":""},{"$f":"'CALCULATOR EXISTING SOURCES'!L321","v":""},{"$f":"'CALCULATOR EXISTING SOURCES'!M321","v":""},{"$f":"'CALCULATOR EXISTING SOURCES'!W321","v":""},{"$f":"'CALCULATOR EXISTING SOURCES'!X321","v":""},{"$f":"'CALCULATOR EXISTING SOURCES'!Y321","v":""},{"$f":"'CALCULATOR EXISTING SOURCES'!AI321","v":""},{"$f":"'CALCULATOR EXISTING SOURCES'!AJ321","v":""},{"$f":"'CALCULATOR EXISTING SOURCES'!AK321","v":""}]